{"text_format":"1","workbook":"xlsx","n_sheets":5,"sheets":["Source data","Processed data","Mapping","Metadata","User"],"not_rendered":{"charts":0,"images":0,"macros":1,"external_links":0,"defined_names":2,"comments":0,"pivot_tables":0},"unopened":[],"bounds":{"document_bytes":16777216,"sheet_cells":100000,"rows_first":2000,"rows_last":500,"rows_between":2000,"halvings":0,"cell_chars":16384,"cell_head_chars":4096},"cells_cut":0,"cells_raw":0,"read":"whole","date_system":"1900"}

{"sheet":"Source data","index":0,"n_rows":1,"n_cols":6,"rows_kept":1,"cut":false,"hidden":false,"merged":[]}
["Source_record_ID","NHS number","FieldName2","FieldName3","FieldName4","FieldName5"]

{"sheet":"Processed data","index":1,"n_rows":1,"n_cols":9,"rows_kept":1,"cut":false,"hidden":false,"merged":[]}
["Study_ID","redcap_repeat_instrument","redcap_repeat_instance","Field01","Field02","Field03","Field04","Field05","redcap_data_access_group"]

{"sheet":"Mapping","index":2,"n_rows":266,"n_cols":8,"rows_kept":266,"cut":false,"hidden":false,"merged":[]}
[{"$f":"\"Columns in \" & MID(CELL(\"filename\",'Source data'!A1),FIND(\"]\",CELL(\"filename\",'Source data'!A1))+1,255)","v":"Columns in Source data"},{"$f":"\"Columns in \" & MID(CELL(\"filename\",'Processed data'!E1),FIND(\"]\",CELL(\"filename\",'Processed data'!E1))+1,255)","v":"Columns in Processed data"},"IndexFrom","IndexTo",null,{"$f":"\"Identifier in \" & MID(CELL(\"filename\",'Source data'!A1),FIND(\"]\",CELL(\"filename\",'Source data'!A1))+1,255)","v":"Identifier in Source data"},{"$f":"\"Sequence field in \" & MID(CELL(\"filename\",'Source data'!A1),FIND(\"]\",CELL(\"filename\",'Source data'!A1))+1,255)","v":"Sequence field in Source data"},"Target instrument"]
["NHS number","Study_ID",{"$f":"IF(A2<>\"\",MATCH(A2,'Source data'!$1:$1,0))","v":2},{"$f":"IF(B2<>\"\",MATCH(B2,'Processed data'!$1:$1,0))","v":1},null,"NHS number","FieldName3","Routine_Data"]
["FieldName2","Field02",{"$f":"IF(A3<>\"\",MATCH(A3,'Source data'!$1:$1,0))","v":3},{"$f":"IF(B3<>\"\",MATCH(B3,'Processed data'!$1:$1,0))","v":5}]
["FieldName3","Field03",{"$f":"IF(A4<>\"\",MATCH(A4,'Source data'!$1:$1,0))","v":4},{"$f":"IF(B4<>\"\",MATCH(B4,'Processed data'!$1:$1,0))","v":6}]
["FieldName4","Field04",{"$f":"IF(A5<>\"\",MATCH(A5,'Source data'!$1:$1,0))","v":5},{"$f":"IF(B5<>\"\",MATCH(B5,'Processed data'!$1:$1,0))","v":7}]
["FieldName5","Field05",{"$f":"IF(A6<>\"\",MATCH(A6,'Source data'!$1:$1,0))","v":6},{"$f":"IF(B6<>\"\",MATCH(B6,'Processed data'!$1:$1,0))","v":8}]
[null,null,{"$f":"IF(A7<>\"\",MATCH(A7,'Source data'!$1:$1,0))","v":false},{"$f":"IF(B7<>\"\",MATCH(B7,'Processed data'!$1:$1,0))","v":false}]
[null,null,{"$f":"IF(A8<>\"\",MATCH(A8,'Source data'!$1:$1,0))","v":false},{"$f":"IF(B8<>\"\",MATCH(B8,'Processed data'!$1:$1,0))","v":false}]
[null,null,{"$f":"IF(A9<>\"\",MATCH(A9,'Source data'!$1:$1,0))","v":false},{"$f":"IF(B9<>\"\",MATCH(B9,'Processed data'!$1:$1,0))","v":false}]
[null,null,{"$f":"IF(A10<>\"\",MATCH(A10,'Source data'!$1:$1,0))","v":false},{"$f":"IF(B10<>\"\",MATCH(B10,'Processed data'!$1:$1,0))","v":false}]
[null,null,{"$f":"IF(A11<>\"\",MATCH(A11,'Source data'!$1:$1,0))","v":false},{"$f":"IF(B11<>\"\",MATCH(B11,'Processed data'!$1:$1,0))","v":false}]
[null,null,{"$f":"IF(A12<>\"\",MATCH(A12,'Source data'!$1:$1,0))","v":false},{"$f":"IF(B12<>\"\",MATCH(B12,'Processed data'!$1:$1,0))","v":false}]
[null,null,{"$f":"IF(A13<>\"\",MATCH(A13,'Source data'!$1:$1,0))","v":false},{"$f":"IF(B13<>\"\",MATCH(B13,'Processed data'!$1:$1,0))","v":false}]
[null,null,{"$f":"IF(A14<>\"\",MATCH(A14,'Source data'!$1:$1,0))","v":false},{"$f":"IF(B14<>\"\",MATCH(B14,'Processed data'!$1:$1,0))","v":false}]
[null,null,{"$f":"IF(A15<>\"\",MATCH(A15,'Source data'!$1:$1,0))","v":false},{"$f":"IF(B15<>\"\",MATCH(B15,'Processed data'!$1:$1,0))","v":false}]
[null,null,{"$f":"IF(A16<>\"\",MATCH(A16,'Source data'!$1:$1,0))","v":false},{"$f":"IF(B16<>\"\",MATCH(B16,'Processed data'!$1:$1,0))","v":false}]
[null,null,{"$f":"IF(A17<>\"\",MATCH(A17,'Source data'!$1:$1,0))","v":false},{"$f":"IF(B17<>\"\",MATCH(B17,'Processed data'!$1:$1,0))","v":false}]
[null,null,{"$f":"IF(A18<>\"\",MATCH(A18,'Source data'!$1:$1,0))","v":false},{"$f":"IF(B18<>\"\",MATCH(B18,'Processed data'!$1:$1,0))","v":false}]
[null,null,{"$f":"IF(A19<>\"\",MATCH(A19,'Source data'!$1:$1,0))","v":false},{"$f":"IF(B19<>\"\",MATCH(B19,'Processed data'!$1:$1,0))","v":false}]
[null,null,{"$f":"IF(A20<>\"\",MATCH(A20,'Source data'!$1:$1,0))","v":false},{"$f":"IF(B20<>\"\",MATCH(B20,'Processed data'!$1:$1,0))","v":false}]
[null,null,{"$f":"IF(A21<>\"\",MATCH(A21,'Source data'!$1:$1,0))","v":false},{"$f":"IF(B21<>\"\",MATCH(B21,'Processed data'!$1:$1,0))","v":false}]
[null,null,{"$f":"IF(A22<>\"\",MATCH(A22,'Source data'!$1:$1,0))","v":false},{"$f":"IF(B22<>\"\",MATCH(B22,'Processed data'!$1:$1,0))","v":false}]
[null,null,{"$f":"IF(A23<>\"\",MATCH(A23,'Source data'!$1:$1,0))","v":false},{"$f":"IF(B23<>\"\",MATCH(B23,'Processed data'!$1:$1,0))","v":false}]
[null,null,{"$f":"IF(A24<>\"\",MATCH(A24,'Source data'!$1:$1,0))","v":false},{"$f":"IF(B24<>\"\",MATCH(B24,'Processed data'!$1:$1,0))","v":false}]
[null,null,{"$f":"IF(A25<>\"\",MATCH(A25,'Source data'!$1:$1,0))","v":false},{"$f":"IF(B25<>\"\",MATCH(B25,'Processed data'!$1:$1,0))","v":false}]
[null,null,{"$f":"IF(A26<>\"\",MATCH(A26,'Source data'!$1:$1,0))","v":false},{"$f":"IF(B26<>\"\",MATCH(B26,'Processed data'!$1:$1,0))","v":false}]
[null,null,{"$f":"IF(A27<>\"\",MATCH(A27,'Source data'!$1:$1,0))","v":false},{"$f":"IF(B27<>\"\",MATCH(B27,'Processed data'!$1:$1,0))","v":false}]
[null,null,{"$f":"IF(A28<>\"\",MATCH(A28,'Source data'!$1:$1,0))","v":false},{"$f":"IF(B28<>\"\",MATCH(B28,'Processed data'!$1:$1,0))","v":false}]
[null,null,{"$f":"IF(A29<>\"\",MATCH(A29,'Source data'!$1:$1,0))","v":false},{"$f":"IF(B29<>\"\",MATCH(B29,'Processed data'!$1:$1,0))","v":false}]
[null,null,{"$f":"IF(A30<>\"\",MATCH(A30,'Source data'!$1:$1,0))","v":false},{"$f":"IF(B30<>\"\",MATCH(B30,'Processed data'!$1:$1,0))","v":false}]
[null,null,{"$f":"IF(A31<>\"\",MATCH(A31,'Source data'!$1:$1,0))","v":false},{"$f":"IF(B31<>\"\",MATCH(B31,'Processed data'!$1:$1,0))","v":false}]
[null,null,{"$f":"IF(A32<>\"\",MATCH(A32,'Source data'!$1:$1,0))","v":false},{"$f":"IF(B32<>\"\",MATCH(B32,'Processed data'!$1:$1,0))","v":false}]
[null,null,{"$f":"IF(A33<>\"\",MATCH(A33,'Source data'!$1:$1,0))","v":false},{"$f":"IF(B33<>\"\",MATCH(B33,'Processed data'!$1:$1,0))","v":false}]
[null,null,{"$f":"IF(A34<>\"\",MATCH(A34,'Source data'!$1:$1,0))","v":false},{"$f":"IF(B34<>\"\",MATCH(B34,'Processed data'!$1:$1,0))","v":false}]
[null,null,{"$f":"IF(A35<>\"\",MATCH(A35,'Source data'!$1:$1,0))","v":false},{"$f":"IF(B35<>\"\",MATCH(B35,'Processed data'!$1:$1,0))","v":false}]
[null,null,{"$f":"IF(A36<>\"\",MATCH(A36,'Source data'!$1:$1,0))","v":false},{"$f":"IF(B36<>\"\",MATCH(B36,'Processed data'!$1:$1,0))","v":false}]
[null,null,{"$f":"IF(A37<>\"\",MATCH(A37,'Source data'!$1:$1,0))","v":false},{"$f":"IF(B37<>\"\",MATCH(B37,'Processed data'!$1:$1,0))","v":false}]
[null,null,{"$f":"IF(A38<>\"\",MATCH(A38,'Source data'!$1:$1,0))","v":false},{"$f":"IF(B38<>\"\",MATCH(B38,'Processed data'!$1:$1,0))","v":false}]
[null,null,{"$f":"IF(A39<>\"\",MATCH(A39,'Source data'!$1:$1,0))","v":false},{"$f":"IF(B39<>\"\",MATCH(B39,'Processed data'!$1:$1,0))","v":false}]
[null,null,{"$f":"IF(A40<>\"\",MATCH(A40,'Source data'!$1:$1,0))","v":false},{"$f":"IF(B40<>\"\",MATCH(B40,'Processed data'!$1:$1,0))","v":false}]
[null,null,{"$f":"IF(A41<>\"\",MATCH(A41,'Source data'!$1:$1,0))","v":false},{"$f":"IF(B41<>\"\",MATCH(B41,'Processed data'!$1:$1,0))","v":false}]
[null,null,{"$f":"IF(A42<>\"\",MATCH(A42,'Source data'!$1:$1,0))","v":false},{"$f":"IF(B42<>\"\",MATCH(B42,'Processed data'!$1:$1,0))","v":false}]
[null,null,{"$f":"IF(A43<>\"\",MATCH(A43,'Source data'!$1:$1,0))","v":false},{"$f":"IF(B43<>\"\",MATCH(B43,'Processed data'!$1:$1,0))","v":false}]
[null,null,{"$f":"IF(A44<>\"\",MATCH(A44,'Source data'!$1:$1,0))","v":false},{"$f":"IF(B44<>\"\",MATCH(B44,'Processed data'!$1:$1,0))","v":false}]
[null,null,{"$f":"IF(A45<>\"\",MATCH(A45,'Source data'!$1:$1,0))","v":false},{"$f":"IF(B45<>\"\",MATCH(B45,'Processed data'!$1:$1,0))","v":false}]
[null,null,{"$f":"IF(A46<>\"\",MATCH(A46,'Source data'!$1:$1,0))","v":false},{"$f":"IF(B46<>\"\",MATCH(B46,'Processed data'!$1:$1,0))","v":false}]
[null,null,{"$f":"IF(A47<>\"\",MATCH(A47,'Source data'!$1:$1,0))","v":false},{"$f":"IF(B47<>\"\",MATCH(B47,'Processed data'!$1:$1,0))","v":false}]
[null,null,{"$f":"IF(A48<>\"\",MATCH(A48,'Source data'!$1:$1,0))","v":false},{"$f":"IF(B48<>\"\",MATCH(B48,'Processed data'!$1:$1,0))","v":false}]
[null,null,{"$f":"IF(A49<>\"\",MATCH(A49,'Source data'!$1:$1,0))","v":false},{"$f":"IF(B49<>\"\",MATCH(B49,'Processed data'!$1:$1,0))","v":false}]
[null,null,{"$f":"IF(A50<>\"\",MATCH(A50,'Source data'!$1:$1,0))","v":false},{"$f":"IF(B50<>\"\",MATCH(B50,'Processed data'!$1:$1,0))","v":false}]
[null,null,{"$f":"IF(A51<>\"\",MATCH(A51,'Source data'!$1:$1,0))","v":false},{"$f":"IF(B51<>\"\",MATCH(B51,'Processed data'!$1:$1,0))","v":false}]
[null,null,{"$f":"IF(A52<>\"\",MATCH(A52,'Source data'!$1:$1,0))","v":false},{"$f":"IF(B52<>\"\",MATCH(B52,'Processed data'!$1:$1,0))","v":false}]
[null,null,{"$f":"IF(A53<>\"\",MATCH(A53,'Source data'!$1:$1,0))","v":false},{"$f":"IF(B53<>\"\",MATCH(B53,'Processed data'!$1:$1,0))","v":false}]
[null,null,{"$f":"IF(A54<>\"\",MATCH(A54,'Source data'!$1:$1,0))","v":false},{"$f":"IF(B54<>\"\",MATCH(B54,'Processed data'!$1:$1,0))","v":false}]
[null,null,{"$f":"IF(A55<>\"\",MATCH(A55,'Source data'!$1:$1,0))","v":false},{"$f":"IF(B55<>\"\",MATCH(B55,'Processed data'!$1:$1,0))","v":false}]
[null,null,{"$f":"IF(A56<>\"\",MATCH(A56,'Source data'!$1:$1,0))","v":false},{"$f":"IF(B56<>\"\",MATCH(B56,'Processed data'!$1:$1,0))","v":false}]
[null,null,{"$f":"IF(A57<>\"\",MATCH(A57,'Source data'!$1:$1,0))","v":false},{"$f":"IF(B57<>\"\",MATCH(B57,'Processed data'!$1:$1,0))","v":false}]
[null,null,{"$f":"IF(A58<>\"\",MATCH(A58,'Source data'!$1:$1,0))","v":false},{"$f":"IF(B58<>\"\",MATCH(B58,'Processed data'!$1:$1,0))","v":false}]
[null,null,{"$f":"IF(A59<>\"\",MATCH(A59,'Source data'!$1:$1,0))","v":false},{"$f":"IF(B59<>\"\",MATCH(B59,'Processed data'!$1:$1,0))","v":false}]
[null,null,{"$f":"IF(A60<>\"\",MATCH(A60,'Source data'!$1:$1,0))","v":false},{"$f":"IF(B60<>\"\",MATCH(B60,'Processed data'!$1:$1,0))","v":false}]
[null,null,{"$f":"IF(A61<>\"\",MATCH(A61,'Source data'!$1:$1,0))","v":false},{"$f":"IF(B61<>\"\",MATCH(B61,'Processed data'!$1:$1,0))","v":false}]
[null,null,{"$f":"IF(A62<>\"\",MATCH(A62,'Source data'!$1:$1,0))","v":false},{"$f":"IF(B62<>\"\",MATCH(B62,'Processed data'!$1:$1,0))","v":false}]
[null,null,{"$f":"IF(A63<>\"\",MATCH(A63,'Source data'!$1:$1,0))","v":false},{"$f":"IF(B63<>\"\",MATCH(B63,'Processed data'!$1:$1,0))","v":false}]
[null,null,{"$f":"IF(A64<>\"\",MATCH(A64,'Source data'!$1:$1,0))","v":false},{"$f":"IF(B64<>\"\",MATCH(B64,'Processed data'!$1:$1,0))","v":false}]
[null,null,{"$f":"IF(A65<>\"\",MATCH(A65,'Source data'!$1:$1,0))","v":false},{"$f":"IF(B65<>\"\",MATCH(B65,'Processed data'!$1:$1,0))","v":false}]
[null,null,{"$f":"IF(A66<>\"\",MATCH(A66,'Source data'!$1:$1,0))","v":false},{"$f":"IF(B66<>\"\",MATCH(B66,'Processed data'!$1:$1,0))","v":false}]
[null,null,{"$f":"IF(A67<>\"\",MATCH(A67,'Source data'!$1:$1,0))","v":false},{"$f":"IF(B67<>\"\",MATCH(B67,'Processed data'!$1:$1,0))","v":false}]
[null,null,{"$f":"IF(A68<>\"\",MATCH(A68,'Source data'!$1:$1,0))","v":false},{"$f":"IF(B68<>\"\",MATCH(B68,'Processed data'!$1:$1,0))","v":false}]
[null,null,{"$f":"IF(A69<>\"\",MATCH(A69,'Source data'!$1:$1,0))","v":false},{"$f":"IF(B69<>\"\",MATCH(B69,'Processed data'!$1:$1,0))","v":false}]
[null,null,{"$f":"IF(A70<>\"\",MATCH(A70,'Source data'!$1:$1,0))","v":false},{"$f":"IF(B70<>\"\",MATCH(B70,'Processed data'!$1:$1,0))","v":false}]
[null,null,{"$f":"IF(A71<>\"\",MATCH(A71,'Source data'!$1:$1,0))","v":false},{"$f":"IF(B71<>\"\",MATCH(B71,'Processed data'!$1:$1,0))","v":false}]
[null,null,{"$f":"IF(A72<>\"\",MATCH(A72,'Source data'!$1:$1,0))","v":false},{"$f":"IF(B72<>\"\",MATCH(B72,'Processed data'!$1:$1,0))","v":false}]
[null,null,{"$f":"IF(A73<>\"\",MATCH(A73,'Source data'!$1:$1,0))","v":false},{"$f":"IF(B73<>\"\",MATCH(B73,'Processed data'!$1:$1,0))","v":false}]
[null,null,{"$f":"IF(A74<>\"\",MATCH(A74,'Source data'!$1:$1,0))","v":false},{"$f":"IF(B74<>\"\",MATCH(B74,'Processed data'!$1:$1,0))","v":false}]
[null,null,{"$f":"IF(A75<>\"\",MATCH(A75,'Source data'!$1:$1,0))","v":false},{"$f":"IF(B75<>\"\",MATCH(B75,'Processed data'!$1:$1,0))","v":false}]
[null,null,{"$f":"IF(A76<>\"\",MATCH(A76,'Source data'!$1:$1,0))","v":false},{"$f":"IF(B76<>\"\",MATCH(B76,'Processed data'!$1:$1,0))","v":false}]
[null,null,{"$f":"IF(A77<>\"\",MATCH(A77,'Source data'!$1:$1,0))","v":false},{"$f":"IF(B77<>\"\",MATCH(B77,'Processed data'!$1:$1,0))","v":false}]
[null,null,{"$f":"IF(A78<>\"\",MATCH(A78,'Source data'!$1:$1,0))","v":false},{"$f":"IF(B78<>\"\",MATCH(B78,'Processed data'!$1:$1,0))","v":false}]
[null,null,{"$f":"IF(A79<>\"\",MATCH(A79,'Source data'!$1:$1,0))","v":false},{"$f":"IF(B79<>\"\",MATCH(B79,'Processed data'!$1:$1,0))","v":false}]
[null,null,{"$f":"IF(A80<>\"\",MATCH(A80,'Source data'!$1:$1,0))","v":false},{"$f":"IF(B80<>\"\",MATCH(B80,'Processed data'!$1:$1,0))","v":false}]
[null,null,{"$f":"IF(A81<>\"\",MATCH(A81,'Source data'!$1:$1,0))","v":false},{"$f":"IF(B81<>\"\",MATCH(B81,'Processed data'!$1:$1,0))","v":false}]
[null,null,{"$f":"IF(A82<>\"\",MATCH(A82,'Source data'!$1:$1,0))","v":false},{"$f":"IF(B82<>\"\",MATCH(B82,'Processed data'!$1:$1,0))","v":false}]
[null,null,{"$f":"IF(A83<>\"\",MATCH(A83,'Source data'!$1:$1,0))","v":false},{"$f":"IF(B83<>\"\",MATCH(B83,'Processed data'!$1:$1,0))","v":false}]
[null,null,{"$f":"IF(A84<>\"\",MATCH(A84,'Source data'!$1:$1,0))","v":false},{"$f":"IF(B84<>\"\",MATCH(B84,'Processed data'!$1:$1,0))","v":false}]
[null,null,{"$f":"IF(A85<>\"\",MATCH(A85,'Source data'!$1:$1,0))","v":false},{"$f":"IF(B85<>\"\",MATCH(B85,'Processed data'!$1:$1,0))","v":false}]
[null,null,{"$f":"IF(A86<>\"\",MATCH(A86,'Source data'!$1:$1,0))","v":false},{"$f":"IF(B86<>\"\",MATCH(B86,'Processed data'!$1:$1,0))","v":false}]
[null,null,{"$f":"IF(A87<>\"\",MATCH(A87,'Source data'!$1:$1,0))","v":false},{"$f":"IF(B87<>\"\",MATCH(B87,'Processed data'!$1:$1,0))","v":false}]
[null,null,{"$f":"IF(A88<>\"\",MATCH(A88,'Source data'!$1:$1,0))","v":false},{"$f":"IF(B88<>\"\",MATCH(B88,'Processed data'!$1:$1,0))","v":false}]
[null,null,{"$f":"IF(A89<>\"\",MATCH(A89,'Source data'!$1:$1,0))","v":false},{"$f":"IF(B89<>\"\",MATCH(B89,'Processed data'!$1:$1,0))","v":false}]
[null,null,{"$f":"IF(A90<>\"\",MATCH(A90,'Source data'!$1:$1,0))","v":false},{"$f":"IF(B90<>\"\",MATCH(B90,'Processed data'!$1:$1,0))","v":false}]
[null,null,{"$f":"IF(A91<>\"\",MATCH(A91,'Source data'!$1:$1,0))","v":false},{"$f":"IF(B91<>\"\",MATCH(B91,'Processed data'!$1:$1,0))","v":false}]
[null,null,{"$f":"IF(A92<>\"\",MATCH(A92,'Source data'!$1:$1,0))","v":false},{"$f":"IF(B92<>\"\",MATCH(B92,'Processed data'!$1:$1,0))","v":false}]
[null,null,{"$f":"IF(A93<>\"\",MATCH(A93,'Source data'!$1:$1,0))","v":false},{"$f":"IF(B93<>\"\",MATCH(B93,'Processed data'!$1:$1,0))","v":false}]
[null,null,{"$f":"IF(A94<>\"\",MATCH(A94,'Source data'!$1:$1,0))","v":false},{"$f":"IF(B94<>\"\",MATCH(B94,'Processed data'!$1:$1,0))","v":false}]
[null,null,{"$f":"IF(A95<>\"\",MATCH(A95,'Source data'!$1:$1,0))","v":false},{"$f":"IF(B95<>\"\",MATCH(B95,'Processed data'!$1:$1,0))","v":false}]
[null,null,{"$f":"IF(A96<>\"\",MATCH(A96,'Source data'!$1:$1,0))","v":false},{"$f":"IF(B96<>\"\",MATCH(B96,'Processed data'!$1:$1,0))","v":false}]
[null,null,{"$f":"IF(A97<>\"\",MATCH(A97,'Source data'!$1:$1,0))","v":false},{"$f":"IF(B97<>\"\",MATCH(B97,'Processed data'!$1:$1,0))","v":false}]
[null,null,{"$f":"IF(A98<>\"\",MATCH(A98,'Source data'!$1:$1,0))","v":false},{"$f":"IF(B98<>\"\",MATCH(B98,'Processed data'!$1:$1,0))","v":false}]
[null,null,{"$f":"IF(A99<>\"\",MATCH(A99,'Source data'!$1:$1,0))","v":false},{"$f":"IF(B99<>\"\",MATCH(B99,'Processed data'!$1:$1,0))","v":false}]
[null,null,{"$f":"IF(A100<>\"\",MATCH(A100,'Source data'!$1:$1,0))","v":false},{"$f":"IF(B100<>\"\",MATCH(B100,'Processed data'!$1:$1,0))","v":false}]
[null,null,{"$f":"IF(A101<>\"\",MATCH(A101,'Source data'!$1:$1,0))","v":false},{"$f":"IF(B101<>\"\",MATCH(B101,'Processed data'!$1:$1,0))","v":false}]
[null,null,{"$f":"IF(A102<>\"\",MATCH(A102,'Source data'!$1:$1,0))","v":false},{"$f":"IF(B102<>\"\",MATCH(B102,'Processed data'!$1:$1,0))","v":false}]
[null,null,{"$f":"IF(A103<>\"\",MATCH(A103,'Source data'!$1:$1,0))","v":false},{"$f":"IF(B103<>\"\",MATCH(B103,'Processed data'!$1:$1,0))","v":false}]
[null,null,{"$f":"IF(A104<>\"\",MATCH(A104,'Source data'!$1:$1,0))","v":false},{"$f":"IF(B104<>\"\",MATCH(B104,'Processed data'!$1:$1,0))","v":false}]
[null,null,{"$f":"IF(A105<>\"\",MATCH(A105,'Source data'!$1:$1,0))","v":false},{"$f":"IF(B105<>\"\",MATCH(B105,'Processed data'!$1:$1,0))","v":false}]
[null,null,{"$f":"IF(A106<>\"\",MATCH(A106,'Source data'!$1:$1,0))","v":false},{"$f":"IF(B106<>\"\",MATCH(B106,'Processed data'!$1:$1,0))","v":false}]
[null,null,{"$f":"IF(A107<>\"\",MATCH(A107,'Source data'!$1:$1,0))","v":false},{"$f":"IF(B107<>\"\",MATCH(B107,'Processed data'!$1:$1,0))","v":false}]
[null,null,{"$f":"IF(A108<>\"\",MATCH(A108,'Source data'!$1:$1,0))","v":false},{"$f":"IF(B108<>\"\",MATCH(B108,'Processed data'!$1:$1,0))","v":false}]
[null,null,{"$f":"IF(A109<>\"\",MATCH(A109,'Source data'!$1:$1,0))","v":false},{"$f":"IF(B109<>\"\",MATCH(B109,'Processed data'!$1:$1,0))","v":false}]
[null,null,{"$f":"IF(A110<>\"\",MATCH(A110,'Source data'!$1:$1,0))","v":false},{"$f":"IF(B110<>\"\",MATCH(B110,'Processed data'!$1:$1,0))","v":false}]
[null,null,{"$f":"IF(A111<>\"\",MATCH(A111,'Source data'!$1:$1,0))","v":false},{"$f":"IF(B111<>\"\",MATCH(B111,'Processed data'!$1:$1,0))","v":false}]
[null,null,{"$f":"IF(A112<>\"\",MATCH(A112,'Source data'!$1:$1,0))","v":false},{"$f":"IF(B112<>\"\",MATCH(B112,'Processed data'!$1:$1,0))","v":false}]
[null,null,{"$f":"IF(A113<>\"\",MATCH(A113,'Source data'!$1:$1,0))","v":false},{"$f":"IF(B113<>\"\",MATCH(B113,'Processed data'!$1:$1,0))","v":false}]
[null,null,{"$f":"IF(A114<>\"\",MATCH(A114,'Source data'!$1:$1,0))","v":false},{"$f":"IF(B114<>\"\",MATCH(B114,'Processed data'!$1:$1,0))","v":false}]
[null,null,{"$f":"IF(A115<>\"\",MATCH(A115,'Source data'!$1:$1,0))","v":false},{"$f":"IF(B115<>\"\",MATCH(B115,'Processed data'!$1:$1,0))","v":false}]
[null,null,{"$f":"IF(A116<>\"\",MATCH(A116,'Source data'!$1:$1,0))","v":false},{"$f":"IF(B116<>\"\",MATCH(B116,'Processed data'!$1:$1,0))","v":false}]
[null,null,{"$f":"IF(A117<>\"\",MATCH(A117,'Source data'!$1:$1,0))","v":false},{"$f":"IF(B117<>\"\",MATCH(B117,'Processed data'!$1:$1,0))","v":false}]
[null,null,{"$f":"IF(A118<>\"\",MATCH(A118,'Source data'!$1:$1,0))","v":false},{"$f":"IF(B118<>\"\",MATCH(B118,'Processed data'!$1:$1,0))","v":false}]
[null,null,{"$f":"IF(A119<>\"\",MATCH(A119,'Source data'!$1:$1,0))","v":false},{"$f":"IF(B119<>\"\",MATCH(B119,'Processed data'!$1:$1,0))","v":false}]
[null,null,{"$f":"IF(A120<>\"\",MATCH(A120,'Source data'!$1:$1,0))","v":false},{"$f":"IF(B120<>\"\",MATCH(B120,'Processed data'!$1:$1,0))","v":false}]
[null,null,{"$f":"IF(A121<>\"\",MATCH(A121,'Source data'!$1:$1,0))","v":false},{"$f":"IF(B121<>\"\",MATCH(B121,'Processed data'!$1:$1,0))","v":false}]
[null,null,{"$f":"IF(A122<>\"\",MATCH(A122,'Source data'!$1:$1,0))","v":false},{"$f":"IF(B122<>\"\",MATCH(B122,'Processed data'!$1:$1,0))","v":false}]
[null,null,{"$f":"IF(A123<>\"\",MATCH(A123,'Source data'!$1:$1,0))","v":false},{"$f":"IF(B123<>\"\",MATCH(B123,'Processed data'!$1:$1,0))","v":false}]
[null,null,{"$f":"IF(A124<>\"\",MATCH(A124,'Source data'!$1:$1,0))","v":false},{"$f":"IF(B124<>\"\",MATCH(B124,'Processed data'!$1:$1,0))","v":false}]
[null,null,{"$f":"IF(A125<>\"\",MATCH(A125,'Source data'!$1:$1,0))","v":false},{"$f":"IF(B125<>\"\",MATCH(B125,'Processed data'!$1:$1,0))","v":false}]
[null,null,{"$f":"IF(A126<>\"\",MATCH(A126,'Source data'!$1:$1,0))","v":false},{"$f":"IF(B126<>\"\",MATCH(B126,'Processed data'!$1:$1,0))","v":false}]
[null,null,{"$f":"IF(A127<>\"\",MATCH(A127,'Source data'!$1:$1,0))","v":false},{"$f":"IF(B127<>\"\",MATCH(B127,'Processed data'!$1:$1,0))","v":false}]
[null,null,{"$f":"IF(A128<>\"\",MATCH(A128,'Source data'!$1:$1,0))","v":false},{"$f":"IF(B128<>\"\",MATCH(B128,'Processed data'!$1:$1,0))","v":false}]
[null,null,{"$f":"IF(A129<>\"\",MATCH(A129,'Source data'!$1:$1,0))","v":false},{"$f":"IF(B129<>\"\",MATCH(B129,'Processed data'!$1:$1,0))","v":false}]
[null,null,{"$f":"IF(A130<>\"\",MATCH(A130,'Source data'!$1:$1,0))","v":false},{"$f":"IF(B130<>\"\",MATCH(B130,'Processed data'!$1:$1,0))","v":false}]
[null,null,{"$f":"IF(A131<>\"\",MATCH(A131,'Source data'!$1:$1,0))","v":false},{"$f":"IF(B131<>\"\",MATCH(B131,'Processed data'!$1:$1,0))","v":false}]
[null,null,{"$f":"IF(A132<>\"\",MATCH(A132,'Source data'!$1:$1,0))","v":false},{"$f":"IF(B132<>\"\",MATCH(B132,'Processed data'!$1:$1,0))","v":false}]
[null,null,{"$f":"IF(A133<>\"\",MATCH(A133,'Source data'!$1:$1,0))","v":false},{"$f":"IF(B133<>\"\",MATCH(B133,'Processed data'!$1:$1,0))","v":false}]
[null,null,{"$f":"IF(A134<>\"\",MATCH(A134,'Source data'!$1:$1,0))","v":false},{"$f":"IF(B134<>\"\",MATCH(B134,'Processed data'!$1:$1,0))","v":false}]
[null,null,{"$f":"IF(A135<>\"\",MATCH(A135,'Source data'!$1:$1,0))","v":false},{"$f":"IF(B135<>\"\",MATCH(B135,'Processed data'!$1:$1,0))","v":false}]
[null,null,{"$f":"IF(A136<>\"\",MATCH(A136,'Source data'!$1:$1,0))","v":false},{"$f":"IF(B136<>\"\",MATCH(B136,'Processed data'!$1:$1,0))","v":false}]
[null,null,{"$f":"IF(A137<>\"\",MATCH(A137,'Source data'!$1:$1,0))","v":false},{"$f":"IF(B137<>\"\",MATCH(B137,'Processed data'!$1:$1,0))","v":false}]
[null,null,{"$f":"IF(A138<>\"\",MATCH(A138,'Source data'!$1:$1,0))","v":false},{"$f":"IF(B138<>\"\",MATCH(B138,'Processed data'!$1:$1,0))","v":false}]
[null,null,{"$f":"IF(A139<>\"\",MATCH(A139,'Source data'!$1:$1,0))","v":false},{"$f":"IF(B139<>\"\",MATCH(B139,'Processed data'!$1:$1,0))","v":false}]
[null,null,{"$f":"IF(A140<>\"\",MATCH(A140,'Source data'!$1:$1,0))","v":false},{"$f":"IF(B140<>\"\",MATCH(B140,'Processed data'!$1:$1,0))","v":false}]
[null,null,{"$f":"IF(A141<>\"\",MATCH(A141,'Source data'!$1:$1,0))","v":false},{"$f":"IF(B141<>\"\",MATCH(B141,'Processed data'!$1:$1,0))","v":false}]
[null,null,{"$f":"IF(A142<>\"\",MATCH(A142,'Source data'!$1:$1,0))","v":false},{"$f":"IF(B142<>\"\",MATCH(B142,'Processed data'!$1:$1,0))","v":false}]
[null,null,{"$f":"IF(A143<>\"\",MATCH(A143,'Source data'!$1:$1,0))","v":false},{"$f":"IF(B143<>\"\",MATCH(B143,'Processed data'!$1:$1,0))","v":false}]
[null,null,{"$f":"IF(A144<>\"\",MATCH(A144,'Source data'!$1:$1,0))","v":false},{"$f":"IF(B144<>\"\",MATCH(B144,'Processed data'!$1:$1,0))","v":false}]
[null,null,{"$f":"IF(A145<>\"\",MATCH(A145,'Source data'!$1:$1,0))","v":false},{"$f":"IF(B145<>\"\",MATCH(B145,'Processed data'!$1:$1,0))","v":false}]
[null,null,{"$f":"IF(A146<>\"\",MATCH(A146,'Source data'!$1:$1,0))","v":false},{"$f":"IF(B146<>\"\",MATCH(B146,'Processed data'!$1:$1,0))","v":false}]
[null,null,{"$f":"IF(A147<>\"\",MATCH(A147,'Source data'!$1:$1,0))","v":false},{"$f":"IF(B147<>\"\",MATCH(B147,'Processed data'!$1:$1,0))","v":false}]
[null,null,{"$f":"IF(A148<>\"\",MATCH(A148,'Source data'!$1:$1,0))","v":false},{"$f":"IF(B148<>\"\",MATCH(B148,'Processed data'!$1:$1,0))","v":false}]
[null,null,{"$f":"IF(A149<>\"\",MATCH(A149,'Source data'!$1:$1,0))","v":false},{"$f":"IF(B149<>\"\",MATCH(B149,'Processed data'!$1:$1,0))","v":false}]
[null,null,{"$f":"IF(A150<>\"\",MATCH(A150,'Source data'!$1:$1,0))","v":false},{"$f":"IF(B150<>\"\",MATCH(B150,'Processed data'!$1:$1,0))","v":false}]
[null,null,{"$f":"IF(A151<>\"\",MATCH(A151,'Source data'!$1:$1,0))","v":false},{"$f":"IF(B151<>\"\",MATCH(B151,'Processed data'!$1:$1,0))","v":false}]
[null,null,{"$f":"IF(A152<>\"\",MATCH(A152,'Source data'!$1:$1,0))","v":false},{"$f":"IF(B152<>\"\",MATCH(B152,'Processed data'!$1:$1,0))","v":false}]
[null,null,{"$f":"IF(A153<>\"\",MATCH(A153,'Source data'!$1:$1,0))","v":false},{"$f":"IF(B153<>\"\",MATCH(B153,'Processed data'!$1:$1,0))","v":false}]
[null,null,{"$f":"IF(A154<>\"\",MATCH(A154,'Source data'!$1:$1,0))","v":false},{"$f":"IF(B154<>\"\",MATCH(B154,'Processed data'!$1:$1,0))","v":false}]
[null,null,{"$f":"IF(A155<>\"\",MATCH(A155,'Source data'!$1:$1,0))","v":false},{"$f":"IF(B155<>\"\",MATCH(B155,'Processed data'!$1:$1,0))","v":false}]
[null,null,{"$f":"IF(A156<>\"\",MATCH(A156,'Source data'!$1:$1,0))","v":false},{"$f":"IF(B156<>\"\",MATCH(B156,'Processed data'!$1:$1,0))","v":false}]
[null,null,{"$f":"IF(A157<>\"\",MATCH(A157,'Source data'!$1:$1,0))","v":false},{"$f":"IF(B157<>\"\",MATCH(B157,'Processed data'!$1:$1,0))","v":false}]
[null,null,{"$f":"IF(A158<>\"\",MATCH(A158,'Source data'!$1:$1,0))","v":false},{"$f":"IF(B158<>\"\",MATCH(B158,'Processed data'!$1:$1,0))","v":false}]
[null,null,{"$f":"IF(A159<>\"\",MATCH(A159,'Source data'!$1:$1,0))","v":false},{"$f":"IF(B159<>\"\",MATCH(B159,'Processed data'!$1:$1,0))","v":false}]
[null,null,{"$f":"IF(A160<>\"\",MATCH(A160,'Source data'!$1:$1,0))","v":false},{"$f":"IF(B160<>\"\",MATCH(B160,'Processed data'!$1:$1,0))","v":false}]
[null,null,{"$f":"IF(A161<>\"\",MATCH(A161,'Source data'!$1:$1,0))","v":false},{"$f":"IF(B161<>\"\",MATCH(B161,'Processed data'!$1:$1,0))","v":false}]
[null,null,{"$f":"IF(A162<>\"\",MATCH(A162,'Source data'!$1:$1,0))","v":false},{"$f":"IF(B162<>\"\",MATCH(B162,'Processed data'!$1:$1,0))","v":false}]
[null,null,{"$f":"IF(A163<>\"\",MATCH(A163,'Source data'!$1:$1,0))","v":false},{"$f":"IF(B163<>\"\",MATCH(B163,'Processed data'!$1:$1,0))","v":false}]
[null,null,{"$f":"IF(A164<>\"\",MATCH(A164,'Source data'!$1:$1,0))","v":false},{"$f":"IF(B164<>\"\",MATCH(B164,'Processed data'!$1:$1,0))","v":false}]
[null,null,{"$f":"IF(A165<>\"\",MATCH(A165,'Source data'!$1:$1,0))","v":false},{"$f":"IF(B165<>\"\",MATCH(B165,'Processed data'!$1:$1,0))","v":false}]
[null,null,{"$f":"IF(A166<>\"\",MATCH(A166,'Source data'!$1:$1,0))","v":false},{"$f":"IF(B166<>\"\",MATCH(B166,'Processed data'!$1:$1,0))","v":false}]
[null,null,{"$f":"IF(A167<>\"\",MATCH(A167,'Source data'!$1:$1,0))","v":false},{"$f":"IF(B167<>\"\",MATCH(B167,'Processed data'!$1:$1,0))","v":false}]
[null,null,{"$f":"IF(A168<>\"\",MATCH(A168,'Source data'!$1:$1,0))","v":false},{"$f":"IF(B168<>\"\",MATCH(B168,'Processed data'!$1:$1,0))","v":false}]
[null,null,{"$f":"IF(A169<>\"\",MATCH(A169,'Source data'!$1:$1,0))","v":false},{"$f":"IF(B169<>\"\",MATCH(B169,'Processed data'!$1:$1,0))","v":false}]
[null,null,{"$f":"IF(A170<>\"\",MATCH(A170,'Source data'!$1:$1,0))","v":false},{"$f":"IF(B170<>\"\",MATCH(B170,'Processed data'!$1:$1,0))","v":false}]
[null,null,{"$f":"IF(A171<>\"\",MATCH(A171,'Source data'!$1:$1,0))","v":false},{"$f":"IF(B171<>\"\",MATCH(B171,'Processed data'!$1:$1,0))","v":false}]
[null,null,{"$f":"IF(A172<>\"\",MATCH(A172,'Source data'!$1:$1,0))","v":false},{"$f":"IF(B172<>\"\",MATCH(B172,'Processed data'!$1:$1,0))","v":false}]
[null,null,{"$f":"IF(A173<>\"\",MATCH(A173,'Source data'!$1:$1,0))","v":false},{"$f":"IF(B173<>\"\",MATCH(B173,'Processed data'!$1:$1,0))","v":false}]
[null,null,{"$f":"IF(A174<>\"\",MATCH(A174,'Source data'!$1:$1,0))","v":false},{"$f":"IF(B174<>\"\",MATCH(B174,'Processed data'!$1:$1,0))","v":false}]
[null,null,{"$f":"IF(A175<>\"\",MATCH(A175,'Source data'!$1:$1,0))","v":false},{"$f":"IF(B175<>\"\",MATCH(B175,'Processed data'!$1:$1,0))","v":false}]
[null,null,{"$f":"IF(A176<>\"\",MATCH(A176,'Source data'!$1:$1,0))","v":false},{"$f":"IF(B176<>\"\",MATCH(B176,'Processed data'!$1:$1,0))","v":false}]
[null,null,{"$f":"IF(A177<>\"\",MATCH(A177,'Source data'!$1:$1,0))","v":false},{"$f":"IF(B177<>\"\",MATCH(B177,'Processed data'!$1:$1,0))","v":false}]
[null,null,{"$f":"IF(A178<>\"\",MATCH(A178,'Source data'!$1:$1,0))","v":false},{"$f":"IF(B178<>\"\",MATCH(B178,'Processed data'!$1:$1,0))","v":false}]
[null,null,{"$f":"IF(A179<>\"\",MATCH(A179,'Source data'!$1:$1,0))","v":false},{"$f":"IF(B179<>\"\",MATCH(B179,'Processed data'!$1:$1,0))","v":false}]
[null,null,{"$f":"IF(A180<>\"\",MATCH(A180,'Source data'!$1:$1,0))","v":false},{"$f":"IF(B180<>\"\",MATCH(B180,'Processed data'!$1:$1,0))","v":false}]
[null,null,{"$f":"IF(A181<>\"\",MATCH(A181,'Source data'!$1:$1,0))","v":false},{"$f":"IF(B181<>\"\",MATCH(B181,'Processed data'!$1:$1,0))","v":false}]
[null,null,{"$f":"IF(A182<>\"\",MATCH(A182,'Source data'!$1:$1,0))","v":false},{"$f":"IF(B182<>\"\",MATCH(B182,'Processed data'!$1:$1,0))","v":false}]
[null,null,{"$f":"IF(A183<>\"\",MATCH(A183,'Source data'!$1:$1,0))","v":false},{"$f":"IF(B183<>\"\",MATCH(B183,'Processed data'!$1:$1,0))","v":false}]
[null,null,{"$f":"IF(A184<>\"\",MATCH(A184,'Source data'!$1:$1,0))","v":false},{"$f":"IF(B184<>\"\",MATCH(B184,'Processed data'!$1:$1,0))","v":false}]
[null,null,{"$f":"IF(A185<>\"\",MATCH(A185,'Source data'!$1:$1,0))","v":false},{"$f":"IF(B185<>\"\",MATCH(B185,'Processed data'!$1:$1,0))","v":false}]
[null,null,{"$f":"IF(A186<>\"\",MATCH(A186,'Source data'!$1:$1,0))","v":false},{"$f":"IF(B186<>\"\",MATCH(B186,'Processed data'!$1:$1,0))","v":false}]
[null,null,{"$f":"IF(A187<>\"\",MATCH(A187,'Source data'!$1:$1,0))","v":false},{"$f":"IF(B187<>\"\",MATCH(B187,'Processed data'!$1:$1,0))","v":false}]
[null,null,{"$f":"IF(A188<>\"\",MATCH(A188,'Source data'!$1:$1,0))","v":false},{"$f":"IF(B188<>\"\",MATCH(B188,'Processed data'!$1:$1,0))","v":false}]
[null,null,{"$f":"IF(A189<>\"\",MATCH(A189,'Source data'!$1:$1,0))","v":false},{"$f":"IF(B189<>\"\",MATCH(B189,'Processed data'!$1:$1,0))","v":false}]
[null,null,{"$f":"IF(A190<>\"\",MATCH(A190,'Source data'!$1:$1,0))","v":false},{"$f":"IF(B190<>\"\",MATCH(B190,'Processed data'!$1:$1,0))","v":false}]
[null,null,{"$f":"IF(A191<>\"\",MATCH(A191,'Source data'!$1:$1,0))","v":false},{"$f":"IF(B191<>\"\",MATCH(B191,'Processed data'!$1:$1,0))","v":false}]
[null,null,{"$f":"IF(A192<>\"\",MATCH(A192,'Source data'!$1:$1,0))","v":false},{"$f":"IF(B192<>\"\",MATCH(B192,'Processed data'!$1:$1,0))","v":false}]
[null,null,{"$f":"IF(A193<>\"\",MATCH(A193,'Source data'!$1:$1,0))","v":false},{"$f":"IF(B193<>\"\",MATCH(B193,'Processed data'!$1:$1,0))","v":false}]
[null,null,{"$f":"IF(A194<>\"\",MATCH(A194,'Source data'!$1:$1,0))","v":false},{"$f":"IF(B194<>\"\",MATCH(B194,'Processed data'!$1:$1,0))","v":false}]
[null,null,{"$f":"IF(A195<>\"\",MATCH(A195,'Source data'!$1:$1,0))","v":false},{"$f":"IF(B195<>\"\",MATCH(B195,'Processed data'!$1:$1,0))","v":false}]
[null,null,{"$f":"IF(A196<>\"\",MATCH(A196,'Source data'!$1:$1,0))","v":false},{"$f":"IF(B196<>\"\",MATCH(B196,'Processed data'!$1:$1,0))","v":false}]
[null,null,{"$f":"IF(A197<>\"\",MATCH(A197,'Source data'!$1:$1,0))","v":false},{"$f":"IF(B197<>\"\",MATCH(B197,'Processed data'!$1:$1,0))","v":false}]
[null,null,{"$f":"IF(A198<>\"\",MATCH(A198,'Source data'!$1:$1,0))","v":false},{"$f":"IF(B198<>\"\",MATCH(B198,'Processed data'!$1:$1,0))","v":false}]
[null,null,{"$f":"IF(A199<>\"\",MATCH(A199,'Source data'!$1:$1,0))","v":false},{"$f":"IF(B199<>\"\",MATCH(B199,'Processed data'!$1:$1,0))","v":false}]
[null,null,{"$f":"IF(A200<>\"\",MATCH(A200,'Source data'!$1:$1,0))","v":false},{"$f":"IF(B200<>\"\",MATCH(B200,'Processed data'!$1:$1,0))","v":false}]
[null,null,{"$f":"IF(A201<>\"\",MATCH(A201,'Source data'!$1:$1,0))","v":false},{"$f":"IF(B201<>\"\",MATCH(B201,'Processed data'!$1:$1,0))","v":false}]
[null,null,{"$f":"IF(A202<>\"\",MATCH(A202,'Source data'!$1:$1,0))","v":false},{"$f":"IF(B202<>\"\",MATCH(B202,'Processed data'!$1:$1,0))","v":false}]
[null,null,{"$f":"IF(A203<>\"\",MATCH(A203,'Source data'!$1:$1,0))","v":false},{"$f":"IF(B203<>\"\",MATCH(B203,'Processed data'!$1:$1,0))","v":false}]
[null,null,{"$f":"IF(A204<>\"\",MATCH(A204,'Source data'!$1:$1,0))","v":false},{"$f":"IF(B204<>\"\",MATCH(B204,'Processed data'!$1:$1,0))","v":false}]
[null,null,{"$f":"IF(A205<>\"\",MATCH(A205,'Source data'!$1:$1,0))","v":false},{"$f":"IF(B205<>\"\",MATCH(B205,'Processed data'!$1:$1,0))","v":false}]
[null,null,{"$f":"IF(A206<>\"\",MATCH(A206,'Source data'!$1:$1,0))","v":false},{"$f":"IF(B206<>\"\",MATCH(B206,'Processed data'!$1:$1,0))","v":false}]
[null,null,{"$f":"IF(A207<>\"\",MATCH(A207,'Source data'!$1:$1,0))","v":false},{"$f":"IF(B207<>\"\",MATCH(B207,'Processed data'!$1:$1,0))","v":false}]
[null,null,{"$f":"IF(A208<>\"\",MATCH(A208,'Source data'!$1:$1,0))","v":false},{"$f":"IF(B208<>\"\",MATCH(B208,'Processed data'!$1:$1,0))","v":false}]
[null,null,{"$f":"IF(A209<>\"\",MATCH(A209,'Source data'!$1:$1,0))","v":false},{"$f":"IF(B209<>\"\",MATCH(B209,'Processed data'!$1:$1,0))","v":false}]
[null,null,{"$f":"IF(A210<>\"\",MATCH(A210,'Source data'!$1:$1,0))","v":false},{"$f":"IF(B210<>\"\",MATCH(B210,'Processed data'!$1:$1,0))","v":false}]
[null,null,{"$f":"IF(A211<>\"\",MATCH(A211,'Source data'!$1:$1,0))","v":false},{"$f":"IF(B211<>\"\",MATCH(B211,'Processed data'!$1:$1,0))","v":false}]
[null,null,{"$f":"IF(A212<>\"\",MATCH(A212,'Source data'!$1:$1,0))","v":false},{"$f":"IF(B212<>\"\",MATCH(B212,'Processed data'!$1:$1,0))","v":false}]
[null,null,{"$f":"IF(A213<>\"\",MATCH(A213,'Source data'!$1:$1,0))","v":false},{"$f":"IF(B213<>\"\",MATCH(B213,'Processed data'!$1:$1,0))","v":false}]
[null,null,{"$f":"IF(A214<>\"\",MATCH(A214,'Source data'!$1:$1,0))","v":false},{"$f":"IF(B214<>\"\",MATCH(B214,'Processed data'!$1:$1,0))","v":false}]
[null,null,{"$f":"IF(A215<>\"\",MATCH(A215,'Source data'!$1:$1,0))","v":false},{"$f":"IF(B215<>\"\",MATCH(B215,'Processed data'!$1:$1,0))","v":false}]
[null,null,{"$f":"IF(A216<>\"\",MATCH(A216,'Source data'!$1:$1,0))","v":false},{"$f":"IF(B216<>\"\",MATCH(B216,'Processed data'!$1:$1,0))","v":false}]
[null,null,{"$f":"IF(A217<>\"\",MATCH(A217,'Source data'!$1:$1,0))","v":false},{"$f":"IF(B217<>\"\",MATCH(B217,'Processed data'!$1:$1,0))","v":false}]
[null,null,{"$f":"IF(A218<>\"\",MATCH(A218,'Source data'!$1:$1,0))","v":false},{"$f":"IF(B218<>\"\",MATCH(B218,'Processed data'!$1:$1,0))","v":false}]
[null,null,{"$f":"IF(A219<>\"\",MATCH(A219,'Source data'!$1:$1,0))","v":false},{"$f":"IF(B219<>\"\",MATCH(B219,'Processed data'!$1:$1,0))","v":false}]
[null,null,{"$f":"IF(A220<>\"\",MATCH(A220,'Source data'!$1:$1,0))","v":false},{"$f":"IF(B220<>\"\",MATCH(B220,'Processed data'!$1:$1,0))","v":false}]
[null,null,{"$f":"IF(A221<>\"\",MATCH(A221,'Source data'!$1:$1,0))","v":false},{"$f":"IF(B221<>\"\",MATCH(B221,'Processed data'!$1:$1,0))","v":false}]
[null,null,{"$f":"IF(A222<>\"\",MATCH(A222,'Source data'!$1:$1,0))","v":false},{"$f":"IF(B222<>\"\",MATCH(B222,'Processed data'!$1:$1,0))","v":false}]
[null,null,{"$f":"IF(A223<>\"\",MATCH(A223,'Source data'!$1:$1,0))","v":false},{"$f":"IF(B223<>\"\",MATCH(B223,'Processed data'!$1:$1,0))","v":false}]
[null,null,{"$f":"IF(A224<>\"\",MATCH(A224,'Source data'!$1:$1,0))","v":false},{"$f":"IF(B224<>\"\",MATCH(B224,'Processed data'!$1:$1,0))","v":false}]
[null,null,{"$f":"IF(A225<>\"\",MATCH(A225,'Source data'!$1:$1,0))","v":false},{"$f":"IF(B225<>\"\",MATCH(B225,'Processed data'!$1:$1,0))","v":false}]
[null,null,{"$f":"IF(A226<>\"\",MATCH(A226,'Source data'!$1:$1,0))","v":false},{"$f":"IF(B226<>\"\",MATCH(B226,'Processed data'!$1:$1,0))","v":false}]
[null,null,{"$f":"IF(A227<>\"\",MATCH(A227,'Source data'!$1:$1,0))","v":false},{"$f":"IF(B227<>\"\",MATCH(B227,'Processed data'!$1:$1,0))","v":false}]
[null,null,{"$f":"IF(A228<>\"\",MATCH(A228,'Source data'!$1:$1,0))","v":false},{"$f":"IF(B228<>\"\",MATCH(B228,'Processed data'!$1:$1,0))","v":false}]
[null,null,{"$f":"IF(A229<>\"\",MATCH(A229,'Source data'!$1:$1,0))","v":false},{"$f":"IF(B229<>\"\",MATCH(B229,'Processed data'!$1:$1,0))","v":false}]
[null,null,{"$f":"IF(A230<>\"\",MATCH(A230,'Source data'!$1:$1,0))","v":false},{"$f":"IF(B230<>\"\",MATCH(B230,'Processed data'!$1:$1,0))","v":false}]
[null,null,{"$f":"IF(A231<>\"\",MATCH(A231,'Source data'!$1:$1,0))","v":false},{"$f":"IF(B231<>\"\",MATCH(B231,'Processed data'!$1:$1,0))","v":false}]
[null,null,{"$f":"IF(A232<>\"\",MATCH(A232,'Source data'!$1:$1,0))","v":false},{"$f":"IF(B232<>\"\",MATCH(B232,'Processed data'!$1:$1,0))","v":false}]
[null,null,{"$f":"IF(A233<>\"\",MATCH(A233,'Source data'!$1:$1,0))","v":false},{"$f":"IF(B233<>\"\",MATCH(B233,'Processed data'!$1:$1,0))","v":false}]
[null,null,{"$f":"IF(A234<>\"\",MATCH(A234,'Source data'!$1:$1,0))","v":false},{"$f":"IF(B234<>\"\",MATCH(B234,'Processed data'!$1:$1,0))","v":false}]
[null,null,{"$f":"IF(A235<>\"\",MATCH(A235,'Source data'!$1:$1,0))","v":false},{"$f":"IF(B235<>\"\",MATCH(B235,'Processed data'!$1:$1,0))","v":false}]
[null,null,{"$f":"IF(A236<>\"\",MATCH(A236,'Source data'!$1:$1,0))","v":false},{"$f":"IF(B236<>\"\",MATCH(B236,'Processed data'!$1:$1,0))","v":false}]
[null,null,{"$f":"IF(A237<>\"\",MATCH(A237,'Source data'!$1:$1,0))","v":false},{"$f":"IF(B237<>\"\",MATCH(B237,'Processed data'!$1:$1,0))","v":false}]
[null,null,{"$f":"IF(A238<>\"\",MATCH(A238,'Source data'!$1:$1,0))","v":false},{"$f":"IF(B238<>\"\",MATCH(B238,'Processed data'!$1:$1,0))","v":false}]
[null,null,{"$f":"IF(A239<>\"\",MATCH(A239,'Source data'!$1:$1,0))","v":false},{"$f":"IF(B239<>\"\",MATCH(B239,'Processed data'!$1:$1,0))","v":false}]
[null,null,{"$f":"IF(A240<>\"\",MATCH(A240,'Source data'!$1:$1,0))","v":false},{"$f":"IF(B240<>\"\",MATCH(B240,'Processed data'!$1:$1,0))","v":false}]
[null,null,{"$f":"IF(A241<>\"\",MATCH(A241,'Source data'!$1:$1,0))","v":false},{"$f":"IF(B241<>\"\",MATCH(B241,'Processed data'!$1:$1,0))","v":false}]
[null,null,{"$f":"IF(A242<>\"\",MATCH(A242,'Source data'!$1:$1,0))","v":false},{"$f":"IF(B242<>\"\",MATCH(B242,'Processed data'!$1:$1,0))","v":false}]
[null,null,{"$f":"IF(A243<>\"\",MATCH(A243,'Source data'!$1:$1,0))","v":false},{"$f":"IF(B243<>\"\",MATCH(B243,'Processed data'!$1:$1,0))","v":false}]
[null,null,{"$f":"IF(A244<>\"\",MATCH(A244,'Source data'!$1:$1,0))","v":false},{"$f":"IF(B244<>\"\",MATCH(B244,'Processed data'!$1:$1,0))","v":false}]
[null,null,{"$f":"IF(A245<>\"\",MATCH(A245,'Source data'!$1:$1,0))","v":false},{"$f":"IF(B245<>\"\",MATCH(B245,'Processed data'!$1:$1,0))","v":false}]
[null,null,{"$f":"IF(A246<>\"\",MATCH(A246,'Source data'!$1:$1,0))","v":false},{"$f":"IF(B246<>\"\",MATCH(B246,'Processed data'!$1:$1,0))","v":false}]
[null,null,{"$f":"IF(A247<>\"\",MATCH(A247,'Source data'!$1:$1,0))","v":false},{"$f":"IF(B247<>\"\",MATCH(B247,'Processed data'!$1:$1,0))","v":false}]
[null,null,{"$f":"IF(A248<>\"\",MATCH(A248,'Source data'!$1:$1,0))","v":false},{"$f":"IF(B248<>\"\",MATCH(B248,'Processed data'!$1:$1,0))","v":false}]
[null,null,{"$f":"IF(A249<>\"\",MATCH(A249,'Source data'!$1:$1,0))","v":false},{"$f":"IF(B249<>\"\",MATCH(B249,'Processed data'!$1:$1,0))","v":false}]
[null,null,{"$f":"IF(A250<>\"\",MATCH(A250,'Source data'!$1:$1,0))","v":false},{"$f":"IF(B250<>\"\",MATCH(B250,'Processed data'!$1:$1,0))","v":false}]
[null,null,{"$f":"IF(A251<>\"\",MATCH(A251,'Source data'!$1:$1,0))","v":false},{"$f":"IF(B251<>\"\",MATCH(B251,'Processed data'!$1:$1,0))","v":false}]
[null,null,{"$f":"IF(A252<>\"\",MATCH(A252,'Source data'!$1:$1,0))","v":false},{"$f":"IF(B252<>\"\",MATCH(B252,'Processed data'!$1:$1,0))","v":false}]
[null,null,{"$f":"IF(A253<>\"\",MATCH(A253,'Source data'!$1:$1,0))","v":false},{"$f":"IF(B253<>\"\",MATCH(B253,'Processed data'!$1:$1,0))","v":false}]
[null,null,{"$f":"IF(A254<>\"\",MATCH(A254,'Source data'!$1:$1,0))","v":false},{"$f":"IF(B254<>\"\",MATCH(B254,'Processed data'!$1:$1,0))","v":false}]
[null,null,{"$f":"IF(A255<>\"\",MATCH(A255,'Source data'!$1:$1,0))","v":false},{"$f":"IF(B255<>\"\",MATCH(B255,'Processed data'!$1:$1,0))","v":false}]
[null,null,{"$f":"IF(A256<>\"\",MATCH(A256,'Source data'!$1:$1,0))","v":false},{"$f":"IF(B256<>\"\",MATCH(B256,'Processed data'!$1:$1,0))","v":false}]
[null,null,{"$f":"IF(A257<>\"\",MATCH(A257,'Source data'!$1:$1,0))","v":false},{"$f":"IF(B257<>\"\",MATCH(B257,'Processed data'!$1:$1,0))","v":false}]
[null,null,{"$f":"IF(A258<>\"\",MATCH(A258,'Source data'!$1:$1,0))","v":false},{"$f":"IF(B258<>\"\",MATCH(B258,'Processed data'!$1:$1,0))","v":false}]
[null,null,{"$f":"IF(A259<>\"\",MATCH(A259,'Source data'!$1:$1,0))","v":false},{"$f":"IF(B259<>\"\",MATCH(B259,'Processed data'!$1:$1,0))","v":false}]
[null,null,{"$f":"IF(A260<>\"\",MATCH(A260,'Source data'!$1:$1,0))","v":false},{"$f":"IF(B260<>\"\",MATCH(B260,'Processed data'!$1:$1,0))","v":false}]
[null,null,{"$f":"IF(A261<>\"\",MATCH(A261,'Source data'!$1:$1,0))","v":false},{"$f":"IF(B261<>\"\",MATCH(B261,'Processed data'!$1:$1,0))","v":false}]
[null,null,{"$f":"IF(A262<>\"\",MATCH(A262,'Source data'!$1:$1,0))","v":false},{"$f":"IF(B262<>\"\",MATCH(B262,'Processed data'!$1:$1,0))","v":false}]
[null,null,{"$f":"IF(A263<>\"\",MATCH(A263,'Source data'!$1:$1,0))","v":false},{"$f":"IF(B263<>\"\",MATCH(B263,'Processed data'!$1:$1,0))","v":false}]
[null,null,{"$f":"IF(A264<>\"\",MATCH(A264,'Source data'!$1:$1,0))","v":false},{"$f":"IF(B264<>\"\",MATCH(B264,'Processed data'!$1:$1,0))","v":false}]
[null,null,{"$f":"IF(A265<>\"\",MATCH(A265,'Source data'!$1:$1,0))","v":false},{"$f":"IF(B265<>\"\",MATCH(B265,'Processed data'!$1:$1,0))","v":false}]
[null,null,{"$f":"IF(A266<>\"\",MATCH(A266,'Source data'!$1:$1,0))","v":false},{"$f":"IF(B266<>\"\",MATCH(B266,'Processed data'!$1:$1,0))","v":false}]

{"sheet":"Metadata","index":3,"n_rows":2001,"n_cols":12,"rows_kept":2001,"cut":false,"hidden":false,"merged":[]}
["dag","ordinal",null,null,null,null,null,"Seed","redcap_data_access_group","__GROUPID__","Max","Next"]
[{"$f":"LOWER(LEFT(User!B2,LEN(I2)))","v":""},{"$f":"ABS(RIGHT(User!B2,(LEN(User!B2)-LEN(I2))))","v":{"$error":"#VALUE!"}},null,null,null,null,null,500,"Site_01",null,{"$f":"_xlfn.MAXIFS(B:B,A:A,I2)","v":0},{"$f":"IF(K2<=H2,H2+1,K2+1)","v":501}]
[{"$f":"LOWER(LEFT(User!B3,LEN(I3)))","v":""},{"$f":"ABS(RIGHT(User!B3,(LEN(User!B3)-LEN(I3))))","v":{"$error":"#VALUE!"}}]
[{"$f":"LOWER(LEFT(User!B4,LEN(I4)))","v":""},{"$f":"ABS(RIGHT(User!B4,(LEN(User!B4)-LEN(I4))))","v":{"$error":"#VALUE!"}}]
[{"$f":"LOWER(LEFT(User!B5,LEN(I5)))","v":""},{"$f":"ABS(RIGHT(User!B5,(LEN(User!B5)-LEN(I5))))","v":{"$error":"#VALUE!"}}]
[{"$f":"LOWER(LEFT(User!B6,LEN(I6)))","v":""},{"$f":"ABS(RIGHT(User!B6,(LEN(User!B6)-LEN(I6))))","v":{"$error":"#VALUE!"}}]
[{"$f":"LOWER(LEFT(User!B7,LEN(I7)))","v":""},{"$f":"ABS(RIGHT(User!B7,(LEN(User!B7)-LEN(I7))))","v":{"$error":"#VALUE!"}}]
[{"$f":"LOWER(LEFT(User!B8,LEN(I8)))","v":""},{"$f":"ABS(RIGHT(User!B8,(LEN(User!B8)-LEN(I8))))","v":{"$error":"#VALUE!"}}]
[{"$f":"LOWER(LEFT(User!B9,LEN(I9)))","v":""},{"$f":"ABS(RIGHT(User!B9,(LEN(User!B9)-LEN(I9))))","v":{"$error":"#VALUE!"}}]
[{"$f":"LOWER(LEFT(User!B10,LEN(I10)))","v":""},{"$f":"ABS(RIGHT(User!B10,(LEN(User!B10)-LEN(I10))))","v":{"$error":"#VALUE!"}}]
[{"$f":"LOWER(LEFT(User!B11,LEN(I11)))","v":""},{"$f":"ABS(RIGHT(User!B11,(LEN(User!B11)-LEN(I11))))","v":{"$error":"#VALUE!"}}]
[{"$f":"LOWER(LEFT(User!B12,LEN(I12)))","v":""},{"$f":"ABS(RIGHT(User!B12,(LEN(User!B12)-LEN(I12))))","v":{"$error":"#VALUE!"}}]
[{"$f":"LOWER(LEFT(User!B13,LEN(I13)))","v":""},{"$f":"ABS(RIGHT(User!B13,(LEN(User!B13)-LEN(I13))))","v":{"$error":"#VALUE!"}}]
[{"$f":"LOWER(LEFT(User!B14,LEN(I14)))","v":""},{"$f":"ABS(RIGHT(User!B14,(LEN(User!B14)-LEN(I14))))","v":{"$error":"#VALUE!"}}]
[{"$f":"LOWER(LEFT(User!B15,LEN(I15)))","v":""},{"$f":"ABS(RIGHT(User!B15,(LEN(User!B15)-LEN(I15))))","v":{"$error":"#VALUE!"}}]
[{"$f":"LOWER(LEFT(User!B16,LEN(I16)))","v":""},{"$f":"ABS(RIGHT(User!B16,(LEN(User!B16)-LEN(I16))))","v":{"$error":"#VALUE!"}}]
[{"$f":"LOWER(LEFT(User!B17,LEN(I17)))","v":""},{"$f":"ABS(RIGHT(User!B17,(LEN(User!B17)-LEN(I17))))","v":{"$error":"#VALUE!"}}]
[{"$f":"LOWER(LEFT(User!B18,LEN(I18)))","v":""},{"$f":"ABS(RIGHT(User!B18,(LEN(User!B18)-LEN(I18))))","v":{"$error":"#VALUE!"}}]
[{"$f":"LOWER(LEFT(User!B19,LEN(I19)))","v":""},{"$f":"ABS(RIGHT(User!B19,(LEN(User!B19)-LEN(I19))))","v":{"$error":"#VALUE!"}}]
[{"$f":"LOWER(LEFT(User!B20,LEN(I20)))","v":""},{"$f":"ABS(RIGHT(User!B20,(LEN(User!B20)-LEN(I20))))","v":{"$error":"#VALUE!"}}]
[{"$f":"LOWER(LEFT(User!B21,LEN(I21)))","v":""},{"$f":"ABS(RIGHT(User!B21,(LEN(User!B21)-LEN(I21))))","v":{"$error":"#VALUE!"}}]
[{"$f":"LOWER(LEFT(User!B22,LEN(I22)))","v":""},{"$f":"ABS(RIGHT(User!B22,(LEN(User!B22)-LEN(I22))))","v":{"$error":"#VALUE!"}}]
[{"$f":"LOWER(LEFT(User!B23,LEN(I23)))","v":""},{"$f":"ABS(RIGHT(User!B23,(LEN(User!B23)-LEN(I23))))","v":{"$error":"#VALUE!"}}]
[{"$f":"LOWER(LEFT(User!B24,LEN(I24)))","v":""},{"$f":"ABS(RIGHT(User!B24,(LEN(User!B24)-LEN(I24))))","v":{"$error":"#VALUE!"}}]
[{"$f":"LOWER(LEFT(User!B25,LEN(I25)))","v":""},{"$f":"ABS(RIGHT(User!B25,(LEN(User!B25)-LEN(I25))))","v":{"$error":"#VALUE!"}}]
[{"$f":"LOWER(LEFT(User!B26,LEN(I26)))","v":""},{"$f":"ABS(RIGHT(User!B26,(LEN(User!B26)-LEN(I26))))","v":{"$error":"#VALUE!"}}]
[{"$f":"LOWER(LEFT(User!B27,LEN(I27)))","v":""},{"$f":"ABS(RIGHT(User!B27,(LEN(User!B27)-LEN(I27))))","v":{"$error":"#VALUE!"}}]
[{"$f":"LOWER(LEFT(User!B28,LEN(I28)))","v":""},{"$f":"ABS(RIGHT(User!B28,(LEN(User!B28)-LEN(I28))))","v":{"$error":"#VALUE!"}}]
[{"$f":"LOWER(LEFT(User!B29,LEN(I29)))","v":""},{"$f":"ABS(RIGHT(User!B29,(LEN(User!B29)-LEN(I29))))","v":{"$error":"#VALUE!"}}]
[{"$f":"LOWER(LEFT(User!B30,LEN(I30)))","v":""},{"$f":"ABS(RIGHT(User!B30,(LEN(User!B30)-LEN(I30))))","v":{"$error":"#VALUE!"}}]
[{"$f":"LOWER(LEFT(User!B31,LEN(I31)))","v":""},{"$f":"ABS(RIGHT(User!B31,(LEN(User!B31)-LEN(I31))))","v":{"$error":"#VALUE!"}}]
[{"$f":"LOWER(LEFT(User!B32,LEN(I32)))","v":""},{"$f":"ABS(RIGHT(User!B32,(LEN(User!B32)-LEN(I32))))","v":{"$error":"#VALUE!"}}]
[{"$f":"LOWER(LEFT(User!B33,LEN(I33)))","v":""},{"$f":"ABS(RIGHT(User!B33,(LEN(User!B33)-LEN(I33))))","v":{"$error":"#VALUE!"}}]
[{"$f":"LOWER(LEFT(User!B34,LEN(I34)))","v":""},{"$f":"ABS(RIGHT(User!B34,(LEN(User!B34)-LEN(I34))))","v":{"$error":"#VALUE!"}}]
[{"$f":"LOWER(LEFT(User!B35,LEN(I35)))","v":""},{"$f":"ABS(RIGHT(User!B35,(LEN(User!B35)-LEN(I35))))","v":{"$error":"#VALUE!"}}]
[{"$f":"LOWER(LEFT(User!B36,LEN(I36)))","v":""},{"$f":"ABS(RIGHT(User!B36,(LEN(User!B36)-LEN(I36))))","v":{"$error":"#VALUE!"}}]
[{"$f":"LOWER(LEFT(User!B37,LEN(I37)))","v":""},{"$f":"ABS(RIGHT(User!B37,(LEN(User!B37)-LEN(I37))))","v":{"$error":"#VALUE!"}}]
[{"$f":"LOWER(LEFT(User!B38,LEN(I38)))","v":""},{"$f":"ABS(RIGHT(User!B38,(LEN(User!B38)-LEN(I38))))","v":{"$error":"#VALUE!"}}]
[{"$f":"LOWER(LEFT(User!B39,LEN(I39)))","v":""},{"$f":"ABS(RIGHT(User!B39,(LEN(User!B39)-LEN(I39))))","v":{"$error":"#VALUE!"}}]
[{"$f":"LOWER(LEFT(User!B40,LEN(I40)))","v":""},{"$f":"ABS(RIGHT(User!B40,(LEN(User!B40)-LEN(I40))))","v":{"$error":"#VALUE!"}}]
[{"$f":"LOWER(LEFT(User!B41,LEN(I41)))","v":""},{"$f":"ABS(RIGHT(User!B41,(LEN(User!B41)-LEN(I41))))","v":{"$error":"#VALUE!"}}]
[{"$f":"LOWER(LEFT(User!B42,LEN(I42)))","v":""},{"$f":"ABS(RIGHT(User!B42,(LEN(User!B42)-LEN(I42))))","v":{"$error":"#VALUE!"}}]
[{"$f":"LOWER(LEFT(User!B43,LEN(I43)))","v":""},{"$f":"ABS(RIGHT(User!B43,(LEN(User!B43)-LEN(I43))))","v":{"$error":"#VALUE!"}}]
[{"$f":"LOWER(LEFT(User!B44,LEN(I44)))","v":""},{"$f":"ABS(RIGHT(User!B44,(LEN(User!B44)-LEN(I44))))","v":{"$error":"#VALUE!"}}]
[{"$f":"LOWER(LEFT(User!B45,LEN(I45)))","v":""},{"$f":"ABS(RIGHT(User!B45,(LEN(User!B45)-LEN(I45))))","v":{"$error":"#VALUE!"}}]
[{"$f":"LOWER(LEFT(User!B46,LEN(I46)))","v":""},{"$f":"ABS(RIGHT(User!B46,(LEN(User!B46)-LEN(I46))))","v":{"$error":"#VALUE!"}}]
[{"$f":"LOWER(LEFT(User!B47,LEN(I47)))","v":""},{"$f":"ABS(RIGHT(User!B47,(LEN(User!B47)-LEN(I47))))","v":{"$error":"#VALUE!"}}]
[{"$f":"LOWER(LEFT(User!B48,LEN(I48)))","v":""},{"$f":"ABS(RIGHT(User!B48,(LEN(User!B48)-LEN(I48))))","v":{"$error":"#VALUE!"}}]
[{"$f":"LOWER(LEFT(User!B49,LEN(I49)))","v":""},{"$f":"ABS(RIGHT(User!B49,(LEN(User!B49)-LEN(I49))))","v":{"$error":"#VALUE!"}}]
[{"$f":"LOWER(LEFT(User!B50,LEN(I50)))","v":""},{"$f":"ABS(RIGHT(User!B50,(LEN(User!B50)-LEN(I50))))","v":{"$error":"#VALUE!"}}]
[{"$f":"LOWER(LEFT(User!B51,LEN(I51)))","v":""},{"$f":"ABS(RIGHT(User!B51,(LEN(User!B51)-LEN(I51))))","v":{"$error":"#VALUE!"}}]
[{"$f":"LOWER(LEFT(User!B52,LEN(I52)))","v":""},{"$f":"ABS(RIGHT(User!B52,(LEN(User!B52)-LEN(I52))))","v":{"$error":"#VALUE!"}}]
[{"$f":"LOWER(LEFT(User!B53,LEN(I53)))","v":""},{"$f":"ABS(RIGHT(User!B53,(LEN(User!B53)-LEN(I53))))","v":{"$error":"#VALUE!"}}]
[{"$f":"LOWER(LEFT(User!B54,LEN(I54)))","v":""},{"$f":"ABS(RIGHT(User!B54,(LEN(User!B54)-LEN(I54))))","v":{"$error":"#VALUE!"}}]
[{"$f":"LOWER(LEFT(User!B55,LEN(I55)))","v":""},{"$f":"ABS(RIGHT(User!B55,(LEN(User!B55)-LEN(I55))))","v":{"$error":"#VALUE!"}}]
[{"$f":"LOWER(LEFT(User!B56,LEN(I56)))","v":""},{"$f":"ABS(RIGHT(User!B56,(LEN(User!B56)-LEN(I56))))","v":{"$error":"#VALUE!"}}]
[{"$f":"LOWER(LEFT(User!B57,LEN(I57)))","v":""},{"$f":"ABS(RIGHT(User!B57,(LEN(User!B57)-LEN(I57))))","v":{"$error":"#VALUE!"}}]
[{"$f":"LOWER(LEFT(User!B58,LEN(I58)))","v":""},{"$f":"ABS(RIGHT(User!B58,(LEN(User!B58)-LEN(I58))))","v":{"$error":"#VALUE!"}}]
[{"$f":"LOWER(LEFT(User!B59,LEN(I59)))","v":""},{"$f":"ABS(RIGHT(User!B59,(LEN(User!B59)-LEN(I59))))","v":{"$error":"#VALUE!"}}]
[{"$f":"LOWER(LEFT(User!B60,LEN(I60)))","v":""},{"$f":"ABS(RIGHT(User!B60,(LEN(User!B60)-LEN(I60))))","v":{"$error":"#VALUE!"}}]
[{"$f":"LOWER(LEFT(User!B61,LEN(I61)))","v":""},{"$f":"ABS(RIGHT(User!B61,(LEN(User!B61)-LEN(I61))))","v":{"$error":"#VALUE!"}}]
[{"$f":"LOWER(LEFT(User!B62,LEN(I62)))","v":""},{"$f":"ABS(RIGHT(User!B62,(LEN(User!B62)-LEN(I62))))","v":{"$error":"#VALUE!"}}]
[{"$f":"LOWER(LEFT(User!B63,LEN(I63)))","v":""},{"$f":"ABS(RIGHT(User!B63,(LEN(User!B63)-LEN(I63))))","v":{"$error":"#VALUE!"}}]
[{"$f":"LOWER(LEFT(User!B64,LEN(I64)))","v":""},{"$f":"ABS(RIGHT(User!B64,(LEN(User!B64)-LEN(I64))))","v":{"$error":"#VALUE!"}}]
[{"$f":"LOWER(LEFT(User!B65,LEN(I65)))","v":""},{"$f":"ABS(RIGHT(User!B65,(LEN(User!B65)-LEN(I65))))","v":{"$error":"#VALUE!"}}]
[{"$f":"LOWER(LEFT(User!B66,LEN(I66)))","v":""},{"$f":"ABS(RIGHT(User!B66,(LEN(User!B66)-LEN(I66))))","v":{"$error":"#VALUE!"}}]
[{"$f":"LOWER(LEFT(User!B67,LEN(I67)))","v":""},{"$f":"ABS(RIGHT(User!B67,(LEN(User!B67)-LEN(I67))))","v":{"$error":"#VALUE!"}}]
[{"$f":"LOWER(LEFT(User!B68,LEN(I68)))","v":""},{"$f":"ABS(RIGHT(User!B68,(LEN(User!B68)-LEN(I68))))","v":{"$error":"#VALUE!"}}]
[{"$f":"LOWER(LEFT(User!B69,LEN(I69)))","v":""},{"$f":"ABS(RIGHT(User!B69,(LEN(User!B69)-LEN(I69))))","v":{"$error":"#VALUE!"}}]
[{"$f":"LOWER(LEFT(User!B70,LEN(I70)))","v":""},{"$f":"ABS(RIGHT(User!B70,(LEN(User!B70)-LEN(I70))))","v":{"$error":"#VALUE!"}}]
[{"$f":"LOWER(LEFT(User!B71,LEN(I71)))","v":""},{"$f":"ABS(RIGHT(User!B71,(LEN(User!B71)-LEN(I71))))","v":{"$error":"#VALUE!"}}]
[{"$f":"LOWER(LEFT(User!B72,LEN(I72)))","v":""},{"$f":"ABS(RIGHT(User!B72,(LEN(User!B72)-LEN(I72))))","v":{"$error":"#VALUE!"}}]
[{"$f":"LOWER(LEFT(User!B73,LEN(I73)))","v":""},{"$f":"ABS(RIGHT(User!B73,(LEN(User!B73)-LEN(I73))))","v":{"$error":"#VALUE!"}}]
[{"$f":"LOWER(LEFT(User!B74,LEN(I74)))","v":""},{"$f":"ABS(RIGHT(User!B74,(LEN(User!B74)-LEN(I74))))","v":{"$error":"#VALUE!"}}]
[{"$f":"LOWER(LEFT(User!B75,LEN(I75)))","v":""},{"$f":"ABS(RIGHT(User!B75,(LEN(User!B75)-LEN(I75))))","v":{"$error":"#VALUE!"}}]
[{"$f":"LOWER(LEFT(User!B76,LEN(I76)))","v":""},{"$f":"ABS(RIGHT(User!B76,(LEN(User!B76)-LEN(I76))))","v":{"$error":"#VALUE!"}}]
[{"$f":"LOWER(LEFT(User!B77,LEN(I77)))","v":""},{"$f":"ABS(RIGHT(User!B77,(LEN(User!B77)-LEN(I77))))","v":{"$error":"#VALUE!"}}]
[{"$f":"LOWER(LEFT(User!B78,LEN(I78)))","v":""},{"$f":"ABS(RIGHT(User!B78,(LEN(User!B78)-LEN(I78))))","v":{"$error":"#VALUE!"}}]
[{"$f":"LOWER(LEFT(User!B79,LEN(I79)))","v":""},{"$f":"ABS(RIGHT(User!B79,(LEN(User!B79)-LEN(I79))))","v":{"$error":"#VALUE!"}}]
[{"$f":"LOWER(LEFT(User!B80,LEN(I80)))","v":""},{"$f":"ABS(RIGHT(User!B80,(LEN(User!B80)-LEN(I80))))","v":{"$error":"#VALUE!"}}]
[{"$f":"LOWER(LEFT(User!B81,LEN(I81)))","v":""},{"$f":"ABS(RIGHT(User!B81,(LEN(User!B81)-LEN(I81))))","v":{"$error":"#VALUE!"}}]
[{"$f":"LOWER(LEFT(User!B82,LEN(I82)))","v":""},{"$f":"ABS(RIGHT(User!B82,(LEN(User!B82)-LEN(I82))))","v":{"$error":"#VALUE!"}}]
[{"$f":"LOWER(LEFT(User!B83,LEN(I83)))","v":""},{"$f":"ABS(RIGHT(User!B83,(LEN(User!B83)-LEN(I83))))","v":{"$error":"#VALUE!"}}]
[{"$f":"LOWER(LEFT(User!B84,LEN(I84)))","v":""},{"$f":"ABS(RIGHT(User!B84,(LEN(User!B84)-LEN(I84))))","v":{"$error":"#VALUE!"}}]
[{"$f":"LOWER(LEFT(User!B85,LEN(I85)))","v":""},{"$f":"ABS(RIGHT(User!B85,(LEN(User!B85)-LEN(I85))))","v":{"$error":"#VALUE!"}}]
[{"$f":"LOWER(LEFT(User!B86,LEN(I86)))","v":""},{"$f":"ABS(RIGHT(User!B86,(LEN(User!B86)-LEN(I86))))","v":{"$error":"#VALUE!"}}]
[{"$f":"LOWER(LEFT(User!B87,LEN(I87)))","v":""},{"$f":"ABS(RIGHT(User!B87,(LEN(User!B87)-LEN(I87))))","v":{"$error":"#VALUE!"}}]
[{"$f":"LOWER(LEFT(User!B88,LEN(I88)))","v":""},{"$f":"ABS(RIGHT(User!B88,(LEN(User!B88)-LEN(I88))))","v":{"$error":"#VALUE!"}}]
[{"$f":"LOWER(LEFT(User!B89,LEN(I89)))","v":""},{"$f":"ABS(RIGHT(User!B89,(LEN(User!B89)-LEN(I89))))","v":{"$error":"#VALUE!"}}]
[{"$f":"LOWER(LEFT(User!B90,LEN(I90)))","v":""},{"$f":"ABS(RIGHT(User!B90,(LEN(User!B90)-LEN(I90))))","v":{"$error":"#VALUE!"}}]
[{"$f":"LOWER(LEFT(User!B91,LEN(I91)))","v":""},{"$f":"ABS(RIGHT(User!B91,(LEN(User!B91)-LEN(I91))))","v":{"$error":"#VALUE!"}}]
[{"$f":"LOWER(LEFT(User!B92,LEN(I92)))","v":""},{"$f":"ABS(RIGHT(User!B92,(LEN(User!B92)-LEN(I92))))","v":{"$error":"#VALUE!"}}]
[{"$f":"LOWER(LEFT(User!B93,LEN(I93)))","v":""},{"$f":"ABS(RIGHT(User!B93,(LEN(User!B93)-LEN(I93))))","v":{"$error":"#VALUE!"}}]
[{"$f":"LOWER(LEFT(User!B94,LEN(I94)))","v":""},{"$f":"ABS(RIGHT(User!B94,(LEN(User!B94)-LEN(I94))))","v":{"$error":"#VALUE!"}}]
[{"$f":"LOWER(LEFT(User!B95,LEN(I95)))","v":""},{"$f":"ABS(RIGHT(User!B95,(LEN(User!B95)-LEN(I95))))","v":{"$error":"#VALUE!"}}]
[{"$f":"LOWER(LEFT(User!B96,LEN(I96)))","v":""},{"$f":"ABS(RIGHT(User!B96,(LEN(User!B96)-LEN(I96))))","v":{"$error":"#VALUE!"}}]
[{"$f":"LOWER(LEFT(User!B97,LEN(I97)))","v":""},{"$f":"ABS(RIGHT(User!B97,(LEN(User!B97)-LEN(I97))))","v":{"$error":"#VALUE!"}}]
[{"$f":"LOWER(LEFT(User!B98,LEN(I98)))","v":""},{"$f":"ABS(RIGHT(User!B98,(LEN(User!B98)-LEN(I98))))","v":{"$error":"#VALUE!"}}]
[{"$f":"LOWER(LEFT(User!B99,LEN(I99)))","v":""},{"$f":"ABS(RIGHT(User!B99,(LEN(User!B99)-LEN(I99))))","v":{"$error":"#VALUE!"}}]
[{"$f":"LOWER(LEFT(User!B100,LEN(I100)))","v":""},{"$f":"ABS(RIGHT(User!B100,(LEN(User!B100)-LEN(I100))))","v":{"$error":"#VALUE!"}}]
[{"$f":"LOWER(LEFT(User!B101,LEN(I101)))","v":""},{"$f":"ABS(RIGHT(User!B101,(LEN(User!B101)-LEN(I101))))","v":{"$error":"#VALUE!"}}]
[{"$f":"LOWER(LEFT(User!B102,LEN(I102)))","v":""},{"$f":"ABS(RIGHT(User!B102,(LEN(User!B102)-LEN(I102))))","v":{"$error":"#VALUE!"}}]
[{"$f":"LOWER(LEFT(User!B103,LEN(I103)))","v":""},{"$f":"ABS(RIGHT(User!B103,(LEN(User!B103)-LEN(I103))))","v":{"$error":"#VALUE!"}}]
[{"$f":"LOWER(LEFT(User!B104,LEN(I104)))","v":""},{"$f":"ABS(RIGHT(User!B104,(LEN(User!B104)-LEN(I104))))","v":{"$error":"#VALUE!"}}]
[{"$f":"LOWER(LEFT(User!B105,LEN(I105)))","v":""},{"$f":"ABS(RIGHT(User!B105,(LEN(User!B105)-LEN(I105))))","v":{"$error":"#VALUE!"}}]
[{"$f":"LOWER(LEFT(User!B106,LEN(I106)))","v":""},{"$f":"ABS(RIGHT(User!B106,(LEN(User!B106)-LEN(I106))))","v":{"$error":"#VALUE!"}}]
[{"$f":"LOWER(LEFT(User!B107,LEN(I107)))","v":""},{"$f":"ABS(RIGHT(User!B107,(LEN(User!B107)-LEN(I107))))","v":{"$error":"#VALUE!"}}]
[{"$f":"LOWER(LEFT(User!B108,LEN(I108)))","v":""},{"$f":"ABS(RIGHT(User!B108,(LEN(User!B108)-LEN(I108))))","v":{"$error":"#VALUE!"}}]
[{"$f":"LOWER(LEFT(User!B109,LEN(I109)))","v":""},{"$f":"ABS(RIGHT(User!B109,(LEN(User!B109)-LEN(I109))))","v":{"$error":"#VALUE!"}}]
[{"$f":"LOWER(LEFT(User!B110,LEN(I110)))","v":""},{"$f":"ABS(RIGHT(User!B110,(LEN(User!B110)-LEN(I110))))","v":{"$error":"#VALUE!"}}]
[{"$f":"LOWER(LEFT(User!B111,LEN(I111)))","v":""},{"$f":"ABS(RIGHT(User!B111,(LEN(User!B111)-LEN(I111))))","v":{"$error":"#VALUE!"}}]
[{"$f":"LOWER(LEFT(User!B112,LEN(I112)))","v":""},{"$f":"ABS(RIGHT(User!B112,(LEN(User!B112)-LEN(I112))))","v":{"$error":"#VALUE!"}}]
[{"$f":"LOWER(LEFT(User!B113,LEN(I113)))","v":""},{"$f":"ABS(RIGHT(User!B113,(LEN(User!B113)-LEN(I113))))","v":{"$error":"#VALUE!"}}]
[{"$f":"LOWER(LEFT(User!B114,LEN(I114)))","v":""},{"$f":"ABS(RIGHT(User!B114,(LEN(User!B114)-LEN(I114))))","v":{"$error":"#VALUE!"}}]
[{"$f":"LOWER(LEFT(User!B115,LEN(I115)))","v":""},{"$f":"ABS(RIGHT(User!B115,(LEN(User!B115)-LEN(I115))))","v":{"$error":"#VALUE!"}}]
[{"$f":"LOWER(LEFT(User!B116,LEN(I116)))","v":""},{"$f":"ABS(RIGHT(User!B116,(LEN(User!B116)-LEN(I116))))","v":{"$error":"#VALUE!"}}]
[{"$f":"LOWER(LEFT(User!B117,LEN(I117)))","v":""},{"$f":"ABS(RIGHT(User!B117,(LEN(User!B117)-LEN(I117))))","v":{"$error":"#VALUE!"}}]
[{"$f":"LOWER(LEFT(User!B118,LEN(I118)))","v":""},{"$f":"ABS(RIGHT(User!B118,(LEN(User!B118)-LEN(I118))))","v":{"$error":"#VALUE!"}}]
[{"$f":"LOWER(LEFT(User!B119,LEN(I119)))","v":""},{"$f":"ABS(RIGHT(User!B119,(LEN(User!B119)-LEN(I119))))","v":{"$error":"#VALUE!"}}]
[{"$f":"LOWER(LEFT(User!B120,LEN(I120)))","v":""},{"$f":"ABS(RIGHT(User!B120,(LEN(User!B120)-LEN(I120))))","v":{"$error":"#VALUE!"}}]
[{"$f":"LOWER(LEFT(User!B121,LEN(I121)))","v":""},{"$f":"ABS(RIGHT(User!B121,(LEN(User!B121)-LEN(I121))))","v":{"$error":"#VALUE!"}}]
[{"$f":"LOWER(LEFT(User!B122,LEN(I122)))","v":""},{"$f":"ABS(RIGHT(User!B122,(LEN(User!B122)-LEN(I122))))","v":{"$error":"#VALUE!"}}]
[{"$f":"LOWER(LEFT(User!B123,LEN(I123)))","v":""},{"$f":"ABS(RIGHT(User!B123,(LEN(User!B123)-LEN(I123))))","v":{"$error":"#VALUE!"}}]
[{"$f":"LOWER(LEFT(User!B124,LEN(I124)))","v":""},{"$f":"ABS(RIGHT(User!B124,(LEN(User!B124)-LEN(I124))))","v":{"$error":"#VALUE!"}}]
[{"$f":"LOWER(LEFT(User!B125,LEN(I125)))","v":""},{"$f":"ABS(RIGHT(User!B125,(LEN(User!B125)-LEN(I125))))","v":{"$error":"#VALUE!"}}]
[{"$f":"LOWER(LEFT(User!B126,LEN(I126)))","v":""},{"$f":"ABS(RIGHT(User!B126,(LEN(User!B126)-LEN(I126))))","v":{"$error":"#VALUE!"}}]
[{"$f":"LOWER(LEFT(User!B127,LEN(I127)))","v":""},{"$f":"ABS(RIGHT(User!B127,(LEN(User!B127)-LEN(I127))))","v":{"$error":"#VALUE!"}}]
[{"$f":"LOWER(LEFT(User!B128,LEN(I128)))","v":""},{"$f":"ABS(RIGHT(User!B128,(LEN(User!B128)-LEN(I128))))","v":{"$error":"#VALUE!"}}]
[{"$f":"LOWER(LEFT(User!B129,LEN(I129)))","v":""},{"$f":"ABS(RIGHT(User!B129,(LEN(User!B129)-LEN(I129))))","v":{"$error":"#VALUE!"}}]
[{"$f":"LOWER(LEFT(User!B130,LEN(I130)))","v":""},{"$f":"ABS(RIGHT(User!B130,(LEN(User!B130)-LEN(I130))))","v":{"$error":"#VALUE!"}}]
[{"$f":"LOWER(LEFT(User!B131,LEN(I131)))","v":""},{"$f":"ABS(RIGHT(User!B131,(LEN(User!B131)-LEN(I131))))","v":{"$error":"#VALUE!"}}]
[{"$f":"LOWER(LEFT(User!B132,LEN(I132)))","v":""},{"$f":"ABS(RIGHT(User!B132,(LEN(User!B132)-LEN(I132))))","v":{"$error":"#VALUE!"}}]
[{"$f":"LOWER(LEFT(User!B133,LEN(I133)))","v":""},{"$f":"ABS(RIGHT(User!B133,(LEN(User!B133)-LEN(I133))))","v":{"$error":"#VALUE!"}}]
[{"$f":"LOWER(LEFT(User!B134,LEN(I134)))","v":""},{"$f":"ABS(RIGHT(User!B134,(LEN(User!B134)-LEN(I134))))","v":{"$error":"#VALUE!"}}]
[{"$f":"LOWER(LEFT(User!B135,LEN(I135)))","v":""},{"$f":"ABS(RIGHT(User!B135,(LEN(User!B135)-LEN(I135))))","v":{"$error":"#VALUE!"}}]
[{"$f":"LOWER(LEFT(User!B136,LEN(I136)))","v":""},{"$f":"ABS(RIGHT(User!B136,(LEN(User!B136)-LEN(I136))))","v":{"$error":"#VALUE!"}}]
[{"$f":"LOWER(LEFT(User!B137,LEN(I137)))","v":""},{"$f":"ABS(RIGHT(User!B137,(LEN(User!B137)-LEN(I137))))","v":{"$error":"#VALUE!"}}]
[{"$f":"LOWER(LEFT(User!B138,LEN(I138)))","v":""},{"$f":"ABS(RIGHT(User!B138,(LEN(User!B138)-LEN(I138))))","v":{"$error":"#VALUE!"}}]
[{"$f":"LOWER(LEFT(User!B139,LEN(I139)))","v":""},{"$f":"ABS(RIGHT(User!B139,(LEN(User!B139)-LEN(I139))))","v":{"$error":"#VALUE!"}}]
[{"$f":"LOWER(LEFT(User!B140,LEN(I140)))","v":""},{"$f":"ABS(RIGHT(User!B140,(LEN(User!B140)-LEN(I140))))","v":{"$error":"#VALUE!"}}]
[{"$f":"LOWER(LEFT(User!B141,LEN(I141)))","v":""},{"$f":"ABS(RIGHT(User!B141,(LEN(User!B141)-LEN(I141))))","v":{"$error":"#VALUE!"}}]
[{"$f":"LOWER(LEFT(User!B142,LEN(I142)))","v":""},{"$f":"ABS(RIGHT(User!B142,(LEN(User!B142)-LEN(I142))))","v":{"$error":"#VALUE!"}}]
[{"$f":"LOWER(LEFT(User!B143,LEN(I143)))","v":""},{"$f":"ABS(RIGHT(User!B143,(LEN(User!B143)-LEN(I143))))","v":{"$error":"#VALUE!"}}]
[{"$f":"LOWER(LEFT(User!B144,LEN(I144)))","v":""},{"$f":"ABS(RIGHT(User!B144,(LEN(User!B144)-LEN(I144))))","v":{"$error":"#VALUE!"}}]
[{"$f":"LOWER(LEFT(User!B145,LEN(I145)))","v":""},{"$f":"ABS(RIGHT(User!B145,(LEN(User!B145)-LEN(I145))))","v":{"$error":"#VALUE!"}}]
[{"$f":"LOWER(LEFT(User!B146,LEN(I146)))","v":""},{"$f":"ABS(RIGHT(User!B146,(LEN(User!B146)-LEN(I146))))","v":{"$error":"#VALUE!"}}]
[{"$f":"LOWER(LEFT(User!B147,LEN(I147)))","v":""},{"$f":"ABS(RIGHT(User!B147,(LEN(User!B147)-LEN(I147))))","v":{"$error":"#VALUE!"}}]
[{"$f":"LOWER(LEFT(User!B148,LEN(I148)))","v":""},{"$f":"ABS(RIGHT(User!B148,(LEN(User!B148)-LEN(I148))))","v":{"$error":"#VALUE!"}}]
[{"$f":"LOWER(LEFT(User!B149,LEN(I149)))","v":""},{"$f":"ABS(RIGHT(User!B149,(LEN(User!B149)-LEN(I149))))","v":{"$error":"#VALUE!"}}]
[{"$f":"LOWER(LEFT(User!B150,LEN(I150)))","v":""},{"$f":"ABS(RIGHT(User!B150,(LEN(User!B150)-LEN(I150))))","v":{"$error":"#VALUE!"}}]
[{"$f":"LOWER(LEFT(User!B151,LEN(I151)))","v":""},{"$f":"ABS(RIGHT(User!B151,(LEN(User!B151)-LEN(I151))))","v":{"$error":"#VALUE!"}}]
[{"$f":"LOWER(LEFT(User!B152,LEN(I152)))","v":""},{"$f":"ABS(RIGHT(User!B152,(LEN(User!B152)-LEN(I152))))","v":{"$error":"#VALUE!"}}]
[{"$f":"LOWER(LEFT(User!B153,LEN(I153)))","v":""},{"$f":"ABS(RIGHT(User!B153,(LEN(User!B153)-LEN(I153))))","v":{"$error":"#VALUE!"}}]
[{"$f":"LOWER(LEFT(User!B154,LEN(I154)))","v":""},{"$f":"ABS(RIGHT(User!B154,(LEN(User!B154)-LEN(I154))))","v":{"$error":"#VALUE!"}}]
[{"$f":"LOWER(LEFT(User!B155,LEN(I155)))","v":""},{"$f":"ABS(RIGHT(User!B155,(LEN(User!B155)-LEN(I155))))","v":{"$error":"#VALUE!"}}]
[{"$f":"LOWER(LEFT(User!B156,LEN(I156)))","v":""},{"$f":"ABS(RIGHT(User!B156,(LEN(User!B156)-LEN(I156))))","v":{"$error":"#VALUE!"}}]
[{"$f":"LOWER(LEFT(User!B157,LEN(I157)))","v":""},{"$f":"ABS(RIGHT(User!B157,(LEN(User!B157)-LEN(I157))))","v":{"$error":"#VALUE!"}}]
[{"$f":"LOWER(LEFT(User!B158,LEN(I158)))","v":""},{"$f":"ABS(RIGHT(User!B158,(LEN(User!B158)-LEN(I158))))","v":{"$error":"#VALUE!"}}]
[{"$f":"LOWER(LEFT(User!B159,LEN(I159)))","v":""},{"$f":"ABS(RIGHT(User!B159,(LEN(User!B159)-LEN(I159))))","v":{"$error":"#VALUE!"}}]
[{"$f":"LOWER(LEFT(User!B160,LEN(I160)))","v":""},{"$f":"ABS(RIGHT(User!B160,(LEN(User!B160)-LEN(I160))))","v":{"$error":"#VALUE!"}}]
[{"$f":"LOWER(LEFT(User!B161,LEN(I161)))","v":""},{"$f":"ABS(RIGHT(User!B161,(LEN(User!B161)-LEN(I161))))","v":{"$error":"#VALUE!"}}]
[{"$f":"LOWER(LEFT(User!B162,LEN(I162)))","v":""},{"$f":"ABS(RIGHT(User!B162,(LEN(User!B162)-LEN(I162))))","v":{"$error":"#VALUE!"}}]
[{"$f":"LOWER(LEFT(User!B163,LEN(I163)))","v":""},{"$f":"ABS(RIGHT(User!B163,(LEN(User!B163)-LEN(I163))))","v":{"$error":"#VALUE!"}}]
[{"$f":"LOWER(LEFT(User!B164,LEN(I164)))","v":""},{"$f":"ABS(RIGHT(User!B164,(LEN(User!B164)-LEN(I164))))","v":{"$error":"#VALUE!"}}]
[{"$f":"LOWER(LEFT(User!B165,LEN(I165)))","v":""},{"$f":"ABS(RIGHT(User!B165,(LEN(User!B165)-LEN(I165))))","v":{"$error":"#VALUE!"}}]
[{"$f":"LOWER(LEFT(User!B166,LEN(I166)))","v":""},{"$f":"ABS(RIGHT(User!B166,(LEN(User!B166)-LEN(I166))))","v":{"$error":"#VALUE!"}}]
[{"$f":"LOWER(LEFT(User!B167,LEN(I167)))","v":""},{"$f":"ABS(RIGHT(User!B167,(LEN(User!B167)-LEN(I167))))","v":{"$error":"#VALUE!"}}]
[{"$f":"LOWER(LEFT(User!B168,LEN(I168)))","v":""},{"$f":"ABS(RIGHT(User!B168,(LEN(User!B168)-LEN(I168))))","v":{"$error":"#VALUE!"}}]
[{"$f":"LOWER(LEFT(User!B169,LEN(I169)))","v":""},{"$f":"ABS(RIGHT(User!B169,(LEN(User!B169)-LEN(I169))))","v":{"$error":"#VALUE!"}}]
[{"$f":"LOWER(LEFT(User!B170,LEN(I170)))","v":""},{"$f":"ABS(RIGHT(User!B170,(LEN(User!B170)-LEN(I170))))","v":{"$error":"#VALUE!"}}]
[{"$f":"LOWER(LEFT(User!B171,LEN(I171)))","v":""},{"$f":"ABS(RIGHT(User!B171,(LEN(User!B171)-LEN(I171))))","v":{"$error":"#VALUE!"}}]
[{"$f":"LOWER(LEFT(User!B172,LEN(I172)))","v":""},{"$f":"ABS(RIGHT(User!B172,(LEN(User!B172)-LEN(I172))))","v":{"$error":"#VALUE!"}}]
[{"$f":"LOWER(LEFT(User!B173,LEN(I173)))","v":""},{"$f":"ABS(RIGHT(User!B173,(LEN(User!B173)-LEN(I173))))","v":{"$error":"#VALUE!"}}]
[{"$f":"LOWER(LEFT(User!B174,LEN(I174)))","v":""},{"$f":"ABS(RIGHT(User!B174,(LEN(User!B174)-LEN(I174))))","v":{"$error":"#VALUE!"}}]
[{"$f":"LOWER(LEFT(User!B175,LEN(I175)))","v":""},{"$f":"ABS(RIGHT(User!B175,(LEN(User!B175)-LEN(I175))))","v":{"$error":"#VALUE!"}}]
[{"$f":"LOWER(LEFT(User!B176,LEN(I176)))","v":""},{"$f":"ABS(RIGHT(User!B176,(LEN(User!B176)-LEN(I176))))","v":{"$error":"#VALUE!"}}]
[{"$f":"LOWER(LEFT(User!B177,LEN(I177)))","v":""},{"$f":"ABS(RIGHT(User!B177,(LEN(User!B177)-LEN(I177))))","v":{"$error":"#VALUE!"}}]
[{"$f":"LOWER(LEFT(User!B178,LEN(I178)))","v":""},{"$f":"ABS(RIGHT(User!B178,(LEN(User!B178)-LEN(I178))))","v":{"$error":"#VALUE!"}}]
[{"$f":"LOWER(LEFT(User!B179,LEN(I179)))","v":""},{"$f":"ABS(RIGHT(User!B179,(LEN(User!B179)-LEN(I179))))","v":{"$error":"#VALUE!"}}]
[{"$f":"LOWER(LEFT(User!B180,LEN(I180)))","v":""},{"$f":"ABS(RIGHT(User!B180,(LEN(User!B180)-LEN(I180))))","v":{"$error":"#VALUE!"}}]
[{"$f":"LOWER(LEFT(User!B181,LEN(I181)))","v":""},{"$f":"ABS(RIGHT(User!B181,(LEN(User!B181)-LEN(I181))))","v":{"$error":"#VALUE!"}}]
[{"$f":"LOWER(LEFT(User!B182,LEN(I182)))","v":""},{"$f":"ABS(RIGHT(User!B182,(LEN(User!B182)-LEN(I182))))","v":{"$error":"#VALUE!"}}]
[{"$f":"LOWER(LEFT(User!B183,LEN(I183)))","v":""},{"$f":"ABS(RIGHT(User!B183,(LEN(User!B183)-LEN(I183))))","v":{"$error":"#VALUE!"}}]
[{"$f":"LOWER(LEFT(User!B184,LEN(I184)))","v":""},{"$f":"ABS(RIGHT(User!B184,(LEN(User!B184)-LEN(I184))))","v":{"$error":"#VALUE!"}}]
[{"$f":"LOWER(LEFT(User!B185,LEN(I185)))","v":""},{"$f":"ABS(RIGHT(User!B185,(LEN(User!B185)-LEN(I185))))","v":{"$error":"#VALUE!"}}]
[{"$f":"LOWER(LEFT(User!B186,LEN(I186)))","v":""},{"$f":"ABS(RIGHT(User!B186,(LEN(User!B186)-LEN(I186))))","v":{"$error":"#VALUE!"}}]
[{"$f":"LOWER(LEFT(User!B187,LEN(I187)))","v":""},{"$f":"ABS(RIGHT(User!B187,(LEN(User!B187)-LEN(I187))))","v":{"$error":"#VALUE!"}}]
[{"$f":"LOWER(LEFT(User!B188,LEN(I188)))","v":""},{"$f":"ABS(RIGHT(User!B188,(LEN(User!B188)-LEN(I188))))","v":{"$error":"#VALUE!"}}]
[{"$f":"LOWER(LEFT(User!B189,LEN(I189)))","v":""},{"$f":"ABS(RIGHT(User!B189,(LEN(User!B189)-LEN(I189))))","v":{"$error":"#VALUE!"}}]
[{"$f":"LOWER(LEFT(User!B190,LEN(I190)))","v":""},{"$f":"ABS(RIGHT(User!B190,(LEN(User!B190)-LEN(I190))))","v":{"$error":"#VALUE!"}}]
[{"$f":"LOWER(LEFT(User!B191,LEN(I191)))","v":""},{"$f":"ABS(RIGHT(User!B191,(LEN(User!B191)-LEN(I191))))","v":{"$error":"#VALUE!"}}]
[{"$f":"LOWER(LEFT(User!B192,LEN(I192)))","v":""},{"$f":"ABS(RIGHT(User!B192,(LEN(User!B192)-LEN(I192))))","v":{"$error":"#VALUE!"}}]
[{"$f":"LOWER(LEFT(User!B193,LEN(I193)))","v":""},{"$f":"ABS(RIGHT(User!B193,(LEN(User!B193)-LEN(I193))))","v":{"$error":"#VALUE!"}}]
[{"$f":"LOWER(LEFT(User!B194,LEN(I194)))","v":""},{"$f":"ABS(RIGHT(User!B194,(LEN(User!B194)-LEN(I194))))","v":{"$error":"#VALUE!"}}]
[{"$f":"LOWER(LEFT(User!B195,LEN(I195)))","v":""},{"$f":"ABS(RIGHT(User!B195,(LEN(User!B195)-LEN(I195))))","v":{"$error":"#VALUE!"}}]
[{"$f":"LOWER(LEFT(User!B196,LEN(I196)))","v":""},{"$f":"ABS(RIGHT(User!B196,(LEN(User!B196)-LEN(I196))))","v":{"$error":"#VALUE!"}}]
[{"$f":"LOWER(LEFT(User!B197,LEN(I197)))","v":""},{"$f":"ABS(RIGHT(User!B197,(LEN(User!B197)-LEN(I197))))","v":{"$error":"#VALUE!"}}]
[{"$f":"LOWER(LEFT(User!B198,LEN(I198)))","v":""},{"$f":"ABS(RIGHT(User!B198,(LEN(User!B198)-LEN(I198))))","v":{"$error":"#VALUE!"}}]
[{"$f":"LOWER(LEFT(User!B199,LEN(I199)))","v":""},{"$f":"ABS(RIGHT(User!B199,(LEN(User!B199)-LEN(I199))))","v":{"$error":"#VALUE!"}}]
[{"$f":"LOWER(LEFT(User!B200,LEN(I200)))","v":""},{"$f":"ABS(RIGHT(User!B200,(LEN(User!B200)-LEN(I200))))","v":{"$error":"#VALUE!"}}]
[{"$f":"LOWER(LEFT(User!B201,LEN(I201)))","v":""},{"$f":"ABS(RIGHT(User!B201,(LEN(User!B201)-LEN(I201))))","v":{"$error":"#VALUE!"}}]
[{"$f":"LOWER(LEFT(User!B202,LEN(I202)))","v":""},{"$f":"ABS(RIGHT(User!B202,(LEN(User!B202)-LEN(I202))))","v":{"$error":"#VALUE!"}}]
[{"$f":"LOWER(LEFT(User!B203,LEN(I203)))","v":""},{"$f":"ABS(RIGHT(User!B203,(LEN(User!B203)-LEN(I203))))","v":{"$error":"#VALUE!"}}]
[{"$f":"LOWER(LEFT(User!B204,LEN(I204)))","v":""},{"$f":"ABS(RIGHT(User!B204,(LEN(User!B204)-LEN(I204))))","v":{"$error":"#VALUE!"}}]
[{"$f":"LOWER(LEFT(User!B205,LEN(I205)))","v":""},{"$f":"ABS(RIGHT(User!B205,(LEN(User!B205)-LEN(I205))))","v":{"$error":"#VALUE!"}}]
[{"$f":"LOWER(LEFT(User!B206,LEN(I206)))","v":""},{"$f":"ABS(RIGHT(User!B206,(LEN(User!B206)-LEN(I206))))","v":{"$error":"#VALUE!"}}]
[{"$f":"LOWER(LEFT(User!B207,LEN(I207)))","v":""},{"$f":"ABS(RIGHT(User!B207,(LEN(User!B207)-LEN(I207))))","v":{"$error":"#VALUE!"}}]
[{"$f":"LOWER(LEFT(User!B208,LEN(I208)))","v":""},{"$f":"ABS(RIGHT(User!B208,(LEN(User!B208)-LEN(I208))))","v":{"$error":"#VALUE!"}}]
[{"$f":"LOWER(LEFT(User!B209,LEN(I209)))","v":""},{"$f":"ABS(RIGHT(User!B209,(LEN(User!B209)-LEN(I209))))","v":{"$error":"#VALUE!"}}]
[{"$f":"LOWER(LEFT(User!B210,LEN(I210)))","v":""},{"$f":"ABS(RIGHT(User!B210,(LEN(User!B210)-LEN(I210))))","v":{"$error":"#VALUE!"}}]
[{"$f":"LOWER(LEFT(User!B211,LEN(I211)))","v":""},{"$f":"ABS(RIGHT(User!B211,(LEN(User!B211)-LEN(I211))))","v":{"$error":"#VALUE!"}}]
[{"$f":"LOWER(LEFT(User!B212,LEN(I212)))","v":""},{"$f":"ABS(RIGHT(User!B212,(LEN(User!B212)-LEN(I212))))","v":{"$error":"#VALUE!"}}]
[{"$f":"LOWER(LEFT(User!B213,LEN(I213)))","v":""},{"$f":"ABS(RIGHT(User!B213,(LEN(User!B213)-LEN(I213))))","v":{"$error":"#VALUE!"}}]
[{"$f":"LOWER(LEFT(User!B214,LEN(I214)))","v":""},{"$f":"ABS(RIGHT(User!B214,(LEN(User!B214)-LEN(I214))))","v":{"$error":"#VALUE!"}}]
[{"$f":"LOWER(LEFT(User!B215,LEN(I215)))","v":""},{"$f":"ABS(RIGHT(User!B215,(LEN(User!B215)-LEN(I215))))","v":{"$error":"#VALUE!"}}]
[{"$f":"LOWER(LEFT(User!B216,LEN(I216)))","v":""},{"$f":"ABS(RIGHT(User!B216,(LEN(User!B216)-LEN(I216))))","v":{"$error":"#VALUE!"}}]
[{"$f":"LOWER(LEFT(User!B217,LEN(I217)))","v":""},{"$f":"ABS(RIGHT(User!B217,(LEN(User!B217)-LEN(I217))))","v":{"$error":"#VALUE!"}}]
[{"$f":"LOWER(LEFT(User!B218,LEN(I218)))","v":""},{"$f":"ABS(RIGHT(User!B218,(LEN(User!B218)-LEN(I218))))","v":{"$error":"#VALUE!"}}]
[{"$f":"LOWER(LEFT(User!B219,LEN(I219)))","v":""},{"$f":"ABS(RIGHT(User!B219,(LEN(User!B219)-LEN(I219))))","v":{"$error":"#VALUE!"}}]
[{"$f":"LOWER(LEFT(User!B220,LEN(I220)))","v":""},{"$f":"ABS(RIGHT(User!B220,(LEN(User!B220)-LEN(I220))))","v":{"$error":"#VALUE!"}}]
[{"$f":"LOWER(LEFT(User!B221,LEN(I221)))","v":""},{"$f":"ABS(RIGHT(User!B221,(LEN(User!B221)-LEN(I221))))","v":{"$error":"#VALUE!"}}]
[{"$f":"LOWER(LEFT(User!B222,LEN(I222)))","v":""},{"$f":"ABS(RIGHT(User!B222,(LEN(User!B222)-LEN(I222))))","v":{"$error":"#VALUE!"}}]
[{"$f":"LOWER(LEFT(User!B223,LEN(I223)))","v":""},{"$f":"ABS(RIGHT(User!B223,(LEN(User!B223)-LEN(I223))))","v":{"$error":"#VALUE!"}}]
[{"$f":"LOWER(LEFT(User!B224,LEN(I224)))","v":""},{"$f":"ABS(RIGHT(User!B224,(LEN(User!B224)-LEN(I224))))","v":{"$error":"#VALUE!"}}]
[{"$f":"LOWER(LEFT(User!B225,LEN(I225)))","v":""},{"$f":"ABS(RIGHT(User!B225,(LEN(User!B225)-LEN(I225))))","v":{"$error":"#VALUE!"}}]
[{"$f":"LOWER(LEFT(User!B226,LEN(I226)))","v":""},{"$f":"ABS(RIGHT(User!B226,(LEN(User!B226)-LEN(I226))))","v":{"$error":"#VALUE!"}}]
[{"$f":"LOWER(LEFT(User!B227,LEN(I227)))","v":""},{"$f":"ABS(RIGHT(User!B227,(LEN(User!B227)-LEN(I227))))","v":{"$error":"#VALUE!"}}]
[{"$f":"LOWER(LEFT(User!B228,LEN(I228)))","v":""},{"$f":"ABS(RIGHT(User!B228,(LEN(User!B228)-LEN(I228))))","v":{"$error":"#VALUE!"}}]
[{"$f":"LOWER(LEFT(User!B229,LEN(I229)))","v":""},{"$f":"ABS(RIGHT(User!B229,(LEN(User!B229)-LEN(I229))))","v":{"$error":"#VALUE!"}}]
[{"$f":"LOWER(LEFT(User!B230,LEN(I230)))","v":""},{"$f":"ABS(RIGHT(User!B230,(LEN(User!B230)-LEN(I230))))","v":{"$error":"#VALUE!"}}]
[{"$f":"LOWER(LEFT(User!B231,LEN(I231)))","v":""},{"$f":"ABS(RIGHT(User!B231,(LEN(User!B231)-LEN(I231))))","v":{"$error":"#VALUE!"}}]
[{"$f":"LOWER(LEFT(User!B232,LEN(I232)))","v":""},{"$f":"ABS(RIGHT(User!B232,(LEN(User!B232)-LEN(I232))))","v":{"$error":"#VALUE!"}}]
[{"$f":"LOWER(LEFT(User!B233,LEN(I233)))","v":""},{"$f":"ABS(RIGHT(User!B233,(LEN(User!B233)-LEN(I233))))","v":{"$error":"#VALUE!"}}]
[{"$f":"LOWER(LEFT(User!B234,LEN(I234)))","v":""},{"$f":"ABS(RIGHT(User!B234,(LEN(User!B234)-LEN(I234))))","v":{"$error":"#VALUE!"}}]
[{"$f":"LOWER(LEFT(User!B235,LEN(I235)))","v":""},{"$f":"ABS(RIGHT(User!B235,(LEN(User!B235)-LEN(I235))))","v":{"$error":"#VALUE!"}}]
[{"$f":"LOWER(LEFT(User!B236,LEN(I236)))","v":""},{"$f":"ABS(RIGHT(User!B236,(LEN(User!B236)-LEN(I236))))","v":{"$error":"#VALUE!"}}]
[{"$f":"LOWER(LEFT(User!B237,LEN(I237)))","v":""},{"$f":"ABS(RIGHT(User!B237,(LEN(User!B237)-LEN(I237))))","v":{"$error":"#VALUE!"}}]
[{"$f":"LOWER(LEFT(User!B238,LEN(I238)))","v":""},{"$f":"ABS(RIGHT(User!B238,(LEN(User!B238)-LEN(I238))))","v":{"$error":"#VALUE!"}}]
[{"$f":"LOWER(LEFT(User!B239,LEN(I239)))","v":""},{"$f":"ABS(RIGHT(User!B239,(LEN(User!B239)-LEN(I239))))","v":{"$error":"#VALUE!"}}]
[{"$f":"LOWER(LEFT(User!B240,LEN(I240)))","v":""},{"$f":"ABS(RIGHT(User!B240,(LEN(User!B240)-LEN(I240))))","v":{"$error":"#VALUE!"}}]
[{"$f":"LOWER(LEFT(User!B241,LEN(I241)))","v":""},{"$f":"ABS(RIGHT(User!B241,(LEN(User!B241)-LEN(I241))))","v":{"$error":"#VALUE!"}}]
[{"$f":"LOWER(LEFT(User!B242,LEN(I242)))","v":""},{"$f":"ABS(RIGHT(User!B242,(LEN(User!B242)-LEN(I242))))","v":{"$error":"#VALUE!"}}]
[{"$f":"LOWER(LEFT(User!B243,LEN(I243)))","v":""},{"$f":"ABS(RIGHT(User!B243,(LEN(User!B243)-LEN(I243))))","v":{"$error":"#VALUE!"}}]
[{"$f":"LOWER(LEFT(User!B244,LEN(I244)))","v":""},{"$f":"ABS(RIGHT(User!B244,(LEN(User!B244)-LEN(I244))))","v":{"$error":"#VALUE!"}}]
[{"$f":"LOWER(LEFT(User!B245,LEN(I245)))","v":""},{"$f":"ABS(RIGHT(User!B245,(LEN(User!B245)-LEN(I245))))","v":{"$error":"#VALUE!"}}]
[{"$f":"LOWER(LEFT(User!B246,LEN(I246)))","v":""},{"$f":"ABS(RIGHT(User!B246,(LEN(User!B246)-LEN(I246))))","v":{"$error":"#VALUE!"}}]
[{"$f":"LOWER(LEFT(User!B247,LEN(I247)))","v":""},{"$f":"ABS(RIGHT(User!B247,(LEN(User!B247)-LEN(I247))))","v":{"$error":"#VALUE!"}}]
[{"$f":"LOWER(LEFT(User!B248,LEN(I248)))","v":""},{"$f":"ABS(RIGHT(User!B248,(LEN(User!B248)-LEN(I248))))","v":{"$error":"#VALUE!"}}]
[{"$f":"LOWER(LEFT(User!B249,LEN(I249)))","v":""},{"$f":"ABS(RIGHT(User!B249,(LEN(User!B249)-LEN(I249))))","v":{"$error":"#VALUE!"}}]
[{"$f":"LOWER(LEFT(User!B250,LEN(I250)))","v":""},{"$f":"ABS(RIGHT(User!B250,(LEN(User!B250)-LEN(I250))))","v":{"$error":"#VALUE!"}}]
[{"$f":"LOWER(LEFT(User!B251,LEN(I251)))","v":""},{"$f":"ABS(RIGHT(User!B251,(LEN(User!B251)-LEN(I251))))","v":{"$error":"#VALUE!"}}]
[{"$f":"LOWER(LEFT(User!B252,LEN(I252)))","v":""},{"$f":"ABS(RIGHT(User!B252,(LEN(User!B252)-LEN(I252))))","v":{"$error":"#VALUE!"}}]
[{"$f":"LOWER(LEFT(User!B253,LEN(I253)))","v":""},{"$f":"ABS(RIGHT(User!B253,(LEN(User!B253)-LEN(I253))))","v":{"$error":"#VALUE!"}}]
[{"$f":"LOWER(LEFT(User!B254,LEN(I254)))","v":""},{"$f":"ABS(RIGHT(User!B254,(LEN(User!B254)-LEN(I254))))","v":{"$error":"#VALUE!"}}]
[{"$f":"LOWER(LEFT(User!B255,LEN(I255)))","v":""},{"$f":"ABS(RIGHT(User!B255,(LEN(User!B255)-LEN(I255))))","v":{"$error":"#VALUE!"}}]
[{"$f":"LOWER(LEFT(User!B256,LEN(I256)))","v":""},{"$f":"ABS(RIGHT(User!B256,(LEN(User!B256)-LEN(I256))))","v":{"$error":"#VALUE!"}}]
[{"$f":"LOWER(LEFT(User!B257,LEN(I257)))","v":""},{"$f":"ABS(RIGHT(User!B257,(LEN(User!B257)-LEN(I257))))","v":{"$error":"#VALUE!"}}]
[{"$f":"LOWER(LEFT(User!B258,LEN(I258)))","v":""},{"$f":"ABS(RIGHT(User!B258,(LEN(User!B258)-LEN(I258))))","v":{"$error":"#VALUE!"}}]
[{"$f":"LOWER(LEFT(User!B259,LEN(I259)))","v":""},{"$f":"ABS(RIGHT(User!B259,(LEN(User!B259)-LEN(I259))))","v":{"$error":"#VALUE!"}}]
[{"$f":"LOWER(LEFT(User!B260,LEN(I260)))","v":""},{"$f":"ABS(RIGHT(User!B260,(LEN(User!B260)-LEN(I260))))","v":{"$error":"#VALUE!"}}]
[{"$f":"LOWER(LEFT(User!B261,LEN(I261)))","v":""},{"$f":"ABS(RIGHT(User!B261,(LEN(User!B261)-LEN(I261))))","v":{"$error":"#VALUE!"}}]
[{"$f":"LOWER(LEFT(User!B262,LEN(I262)))","v":""},{"$f":"ABS(RIGHT(User!B262,(LEN(User!B262)-LEN(I262))))","v":{"$error":"#VALUE!"}}]
[{"$f":"LOWER(LEFT(User!B263,LEN(I263)))","v":""},{"$f":"ABS(RIGHT(User!B263,(LEN(User!B263)-LEN(I263))))","v":{"$error":"#VALUE!"}}]
[{"$f":"LOWER(LEFT(User!B264,LEN(I264)))","v":""},{"$f":"ABS(RIGHT(User!B264,(LEN(User!B264)-LEN(I264))))","v":{"$error":"#VALUE!"}}]
[{"$f":"LOWER(LEFT(User!B265,LEN(I265)))","v":""},{"$f":"ABS(RIGHT(User!B265,(LEN(User!B265)-LEN(I265))))","v":{"$error":"#VALUE!"}}]
[{"$f":"LOWER(LEFT(User!B266,LEN(I266)))","v":""},{"$f":"ABS(RIGHT(User!B266,(LEN(User!B266)-LEN(I266))))","v":{"$error":"#VALUE!"}}]
[{"$f":"LOWER(LEFT(User!B267,LEN(I267)))","v":""},{"$f":"ABS(RIGHT(User!B267,(LEN(User!B267)-LEN(I267))))","v":{"$error":"#VALUE!"}}]
[{"$f":"LOWER(LEFT(User!B268,LEN(I268)))","v":""},{"$f":"ABS(RIGHT(User!B268,(LEN(User!B268)-LEN(I268))))","v":{"$error":"#VALUE!"}}]
[{"$f":"LOWER(LEFT(User!B269,LEN(I269)))","v":""},{"$f":"ABS(RIGHT(User!B269,(LEN(User!B269)-LEN(I269))))","v":{"$error":"#VALUE!"}}]
[{"$f":"LOWER(LEFT(User!B270,LEN(I270)))","v":""},{"$f":"ABS(RIGHT(User!B270,(LEN(User!B270)-LEN(I270))))","v":{"$error":"#VALUE!"}}]
[{"$f":"LOWER(LEFT(User!B271,LEN(I271)))","v":""},{"$f":"ABS(RIGHT(User!B271,(LEN(User!B271)-LEN(I271))))","v":{"$error":"#VALUE!"}}]
[{"$f":"LOWER(LEFT(User!B272,LEN(I272)))","v":""},{"$f":"ABS(RIGHT(User!B272,(LEN(User!B272)-LEN(I272))))","v":{"$error":"#VALUE!"}}]
[{"$f":"LOWER(LEFT(User!B273,LEN(I273)))","v":""},{"$f":"ABS(RIGHT(User!B273,(LEN(User!B273)-LEN(I273))))","v":{"$error":"#VALUE!"}}]
[{"$f":"LOWER(LEFT(User!B274,LEN(I274)))","v":""},{"$f":"ABS(RIGHT(User!B274,(LEN(User!B274)-LEN(I274))))","v":{"$error":"#VALUE!"}}]
[{"$f":"LOWER(LEFT(User!B275,LEN(I275)))","v":""},{"$f":"ABS(RIGHT(User!B275,(LEN(User!B275)-LEN(I275))))","v":{"$error":"#VALUE!"}}]
[{"$f":"LOWER(LEFT(User!B276,LEN(I276)))","v":""},{"$f":"ABS(RIGHT(User!B276,(LEN(User!B276)-LEN(I276))))","v":{"$error":"#VALUE!"}}]
[{"$f":"LOWER(LEFT(User!B277,LEN(I277)))","v":""},{"$f":"ABS(RIGHT(User!B277,(LEN(User!B277)-LEN(I277))))","v":{"$error":"#VALUE!"}}]
[{"$f":"LOWER(LEFT(User!B278,LEN(I278)))","v":""},{"$f":"ABS(RIGHT(User!B278,(LEN(User!B278)-LEN(I278))))","v":{"$error":"#VALUE!"}}]
[{"$f":"LOWER(LEFT(User!B279,LEN(I279)))","v":""},{"$f":"ABS(RIGHT(User!B279,(LEN(User!B279)-LEN(I279))))","v":{"$error":"#VALUE!"}}]
[{"$f":"LOWER(LEFT(User!B280,LEN(I280)))","v":""},{"$f":"ABS(RIGHT(User!B280,(LEN(User!B280)-LEN(I280))))","v":{"$error":"#VALUE!"}}]
[{"$f":"LOWER(LEFT(User!B281,LEN(I281)))","v":""},{"$f":"ABS(RIGHT(User!B281,(LEN(User!B281)-LEN(I281))))","v":{"$error":"#VALUE!"}}]
[{"$f":"LOWER(LEFT(User!B282,LEN(I282)))","v":""},{"$f":"ABS(RIGHT(User!B282,(LEN(User!B282)-LEN(I282))))","v":{"$error":"#VALUE!"}}]
[{"$f":"LOWER(LEFT(User!B283,LEN(I283)))","v":""},{"$f":"ABS(RIGHT(User!B283,(LEN(User!B283)-LEN(I283))))","v":{"$error":"#VALUE!"}}]
[{"$f":"LOWER(LEFT(User!B284,LEN(I284)))","v":""},{"$f":"ABS(RIGHT(User!B284,(LEN(User!B284)-LEN(I284))))","v":{"$error":"#VALUE!"}}]
[{"$f":"LOWER(LEFT(User!B285,LEN(I285)))","v":""},{"$f":"ABS(RIGHT(User!B285,(LEN(User!B285)-LEN(I285))))","v":{"$error":"#VALUE!"}}]
[{"$f":"LOWER(LEFT(User!B286,LEN(I286)))","v":""},{"$f":"ABS(RIGHT(User!B286,(LEN(User!B286)-LEN(I286))))","v":{"$error":"#VALUE!"}}]
[{"$f":"LOWER(LEFT(User!B287,LEN(I287)))","v":""},{"$f":"ABS(RIGHT(User!B287,(LEN(User!B287)-LEN(I287))))","v":{"$error":"#VALUE!"}}]
[{"$f":"LOWER(LEFT(User!B288,LEN(I288)))","v":""},{"$f":"ABS(RIGHT(User!B288,(LEN(User!B288)-LEN(I288))))","v":{"$error":"#VALUE!"}}]
[{"$f":"LOWER(LEFT(User!B289,LEN(I289)))","v":""},{"$f":"ABS(RIGHT(User!B289,(LEN(User!B289)-LEN(I289))))","v":{"$error":"#VALUE!"}}]
[{"$f":"LOWER(LEFT(User!B290,LEN(I290)))","v":""},{"$f":"ABS(RIGHT(User!B290,(LEN(User!B290)-LEN(I290))))","v":{"$error":"#VALUE!"}}]
[{"$f":"LOWER(LEFT(User!B291,LEN(I291)))","v":""},{"$f":"ABS(RIGHT(User!B291,(LEN(User!B291)-LEN(I291))))","v":{"$error":"#VALUE!"}}]
[{"$f":"LOWER(LEFT(User!B292,LEN(I292)))","v":""},{"$f":"ABS(RIGHT(User!B292,(LEN(User!B292)-LEN(I292))))","v":{"$error":"#VALUE!"}}]
[{"$f":"LOWER(LEFT(User!B293,LEN(I293)))","v":""},{"$f":"ABS(RIGHT(User!B293,(LEN(User!B293)-LEN(I293))))","v":{"$error":"#VALUE!"}}]
[{"$f":"LOWER(LEFT(User!B294,LEN(I294)))","v":""},{"$f":"ABS(RIGHT(User!B294,(LEN(User!B294)-LEN(I294))))","v":{"$error":"#VALUE!"}}]
[{"$f":"LOWER(LEFT(User!B295,LEN(I295)))","v":""},{"$f":"ABS(RIGHT(User!B295,(LEN(User!B295)-LEN(I295))))","v":{"$error":"#VALUE!"}}]
[{"$f":"LOWER(LEFT(User!B296,LEN(I296)))","v":""},{"$f":"ABS(RIGHT(User!B296,(LEN(User!B296)-LEN(I296))))","v":{"$error":"#VALUE!"}}]
[{"$f":"LOWER(LEFT(User!B297,LEN(I297)))","v":""},{"$f":"ABS(RIGHT(User!B297,(LEN(User!B297)-LEN(I297))))","v":{"$error":"#VALUE!"}}]
[{"$f":"LOWER(LEFT(User!B298,LEN(I298)))","v":""},{"$f":"ABS(RIGHT(User!B298,(LEN(User!B298)-LEN(I298))))","v":{"$error":"#VALUE!"}}]
[{"$f":"LOWER(LEFT(User!B299,LEN(I299)))","v":""},{"$f":"ABS(RIGHT(User!B299,(LEN(User!B299)-LEN(I299))))","v":{"$error":"#VALUE!"}}]
[{"$f":"LOWER(LEFT(User!B300,LEN(I300)))","v":""},{"$f":"ABS(RIGHT(User!B300,(LEN(User!B300)-LEN(I300))))","v":{"$error":"#VALUE!"}}]
[{"$f":"LOWER(LEFT(User!B301,LEN(I301)))","v":""},{"$f":"ABS(RIGHT(User!B301,(LEN(User!B301)-LEN(I301))))","v":{"$error":"#VALUE!"}}]
[{"$f":"LOWER(LEFT(User!B302,LEN(I302)))","v":""},{"$f":"ABS(RIGHT(User!B302,(LEN(User!B302)-LEN(I302))))","v":{"$error":"#VALUE!"}}]
[{"$f":"LOWER(LEFT(User!B303,LEN(I303)))","v":""},{"$f":"ABS(RIGHT(User!B303,(LEN(User!B303)-LEN(I303))))","v":{"$error":"#VALUE!"}}]
[{"$f":"LOWER(LEFT(User!B304,LEN(I304)))","v":""},{"$f":"ABS(RIGHT(User!B304,(LEN(User!B304)-LEN(I304))))","v":{"$error":"#VALUE!"}}]
[{"$f":"LOWER(LEFT(User!B305,LEN(I305)))","v":""},{"$f":"ABS(RIGHT(User!B305,(LEN(User!B305)-LEN(I305))))","v":{"$error":"#VALUE!"}}]
[{"$f":"LOWER(LEFT(User!B306,LEN(I306)))","v":""},{"$f":"ABS(RIGHT(User!B306,(LEN(User!B306)-LEN(I306))))","v":{"$error":"#VALUE!"}}]
[{"$f":"LOWER(LEFT(User!B307,LEN(I307)))","v":""},{"$f":"ABS(RIGHT(User!B307,(LEN(User!B307)-LEN(I307))))","v":{"$error":"#VALUE!"}}]
[{"$f":"LOWER(LEFT(User!B308,LEN(I308)))","v":""},{"$f":"ABS(RIGHT(User!B308,(LEN(User!B308)-LEN(I308))))","v":{"$error":"#VALUE!"}}]
[{"$f":"LOWER(LEFT(User!B309,LEN(I309)))","v":""},{"$f":"ABS(RIGHT(User!B309,(LEN(User!B309)-LEN(I309))))","v":{"$error":"#VALUE!"}}]
[{"$f":"LOWER(LEFT(User!B310,LEN(I310)))","v":""},{"$f":"ABS(RIGHT(User!B310,(LEN(User!B310)-LEN(I310))))","v":{"$error":"#VALUE!"}}]
[{"$f":"LOWER(LEFT(User!B311,LEN(I311)))","v":""},{"$f":"ABS(RIGHT(User!B311,(LEN(User!B311)-LEN(I311))))","v":{"$error":"#VALUE!"}}]
[{"$f":"LOWER(LEFT(User!B312,LEN(I312)))","v":""},{"$f":"ABS(RIGHT(User!B312,(LEN(User!B312)-LEN(I312))))","v":{"$error":"#VALUE!"}}]
[{"$f":"LOWER(LEFT(User!B313,LEN(I313)))","v":""},{"$f":"ABS(RIGHT(User!B313,(LEN(User!B313)-LEN(I313))))","v":{"$error":"#VALUE!"}}]
[{"$f":"LOWER(LEFT(User!B314,LEN(I314)))","v":""},{"$f":"ABS(RIGHT(User!B314,(LEN(User!B314)-LEN(I314))))","v":{"$error":"#VALUE!"}}]
[{"$f":"LOWER(LEFT(User!B315,LEN(I315)))","v":""},{"$f":"ABS(RIGHT(User!B315,(LEN(User!B315)-LEN(I315))))","v":{"$error":"#VALUE!"}}]
[{"$f":"LOWER(LEFT(User!B316,LEN(I316)))","v":""},{"$f":"ABS(RIGHT(User!B316,(LEN(User!B316)-LEN(I316))))","v":{"$error":"#VALUE!"}}]
[{"$f":"LOWER(LEFT(User!B317,LEN(I317)))","v":""},{"$f":"ABS(RIGHT(User!B317,(LEN(User!B317)-LEN(I317))))","v":{"$error":"#VALUE!"}}]
[{"$f":"LOWER(LEFT(User!B318,LEN(I318)))","v":""},{"$f":"ABS(RIGHT(User!B318,(LEN(User!B318)-LEN(I318))))","v":{"$error":"#VALUE!"}}]
[{"$f":"LOWER(LEFT(User!B319,LEN(I319)))","v":""},{"$f":"ABS(RIGHT(User!B319,(LEN(User!B319)-LEN(I319))))","v":{"$error":"#VALUE!"}}]
[{"$f":"LOWER(LEFT(User!B320,LEN(I320)))","v":""},{"$f":"ABS(RIGHT(User!B320,(LEN(User!B320)-LEN(I320))))","v":{"$error":"#VALUE!"}}]
[{"$f":"LOWER(LEFT(User!B321,LEN(I321)))","v":""},{"$f":"ABS(RIGHT(User!B321,(LEN(User!B321)-LEN(I321))))","v":{"$error":"#VALUE!"}}]
[{"$f":"LOWER(LEFT(User!B322,LEN(I322)))","v":""},{"$f":"ABS(RIGHT(User!B322,(LEN(User!B322)-LEN(I322))))","v":{"$error":"#VALUE!"}}]
[{"$f":"LOWER(LEFT(User!B323,LEN(I323)))","v":""},{"$f":"ABS(RIGHT(User!B323,(LEN(User!B323)-LEN(I323))))","v":{"$error":"#VALUE!"}}]
[{"$f":"LOWER(LEFT(User!B324,LEN(I324)))","v":""},{"$f":"ABS(RIGHT(User!B324,(LEN(User!B324)-LEN(I324))))","v":{"$error":"#VALUE!"}}]
[{"$f":"LOWER(LEFT(User!B325,LEN(I325)))","v":""},{"$f":"ABS(RIGHT(User!B325,(LEN(User!B325)-LEN(I325))))","v":{"$error":"#VALUE!"}}]
[{"$f":"LOWER(LEFT(User!B326,LEN(I326)))","v":""},{"$f":"ABS(RIGHT(User!B326,(LEN(User!B326)-LEN(I326))))","v":{"$error":"#VALUE!"}}]
[{"$f":"LOWER(LEFT(User!B327,LEN(I327)))","v":""},{"$f":"ABS(RIGHT(User!B327,(LEN(User!B327)-LEN(I327))))","v":{"$error":"#VALUE!"}}]
[{"$f":"LOWER(LEFT(User!B328,LEN(I328)))","v":""},{"$f":"ABS(RIGHT(User!B328,(LEN(User!B328)-LEN(I328))))","v":{"$error":"#VALUE!"}}]
[{"$f":"LOWER(LEFT(User!B329,LEN(I329)))","v":""},{"$f":"ABS(RIGHT(User!B329,(LEN(User!B329)-LEN(I329))))","v":{"$error":"#VALUE!"}}]
[{"$f":"LOWER(LEFT(User!B330,LEN(I330)))","v":""},{"$f":"ABS(RIGHT(User!B330,(LEN(User!B330)-LEN(I330))))","v":{"$error":"#VALUE!"}}]
[{"$f":"LOWER(LEFT(User!B331,LEN(I331)))","v":""},{"$f":"ABS(RIGHT(User!B331,(LEN(User!B331)-LEN(I331))))","v":{"$error":"#VALUE!"}}]
[{"$f":"LOWER(LEFT(User!B332,LEN(I332)))","v":""},{"$f":"ABS(RIGHT(User!B332,(LEN(User!B332)-LEN(I332))))","v":{"$error":"#VALUE!"}}]
[{"$f":"LOWER(LEFT(User!B333,LEN(I333)))","v":""},{"$f":"ABS(RIGHT(User!B333,(LEN(User!B333)-LEN(I333))))","v":{"$error":"#VALUE!"}}]
[{"$f":"LOWER(LEFT(User!B334,LEN(I334)))","v":""},{"$f":"ABS(RIGHT(User!B334,(LEN(User!B334)-LEN(I334))))","v":{"$error":"#VALUE!"}}]
[{"$f":"LOWER(LEFT(User!B335,LEN(I335)))","v":""},{"$f":"ABS(RIGHT(User!B335,(LEN(User!B335)-LEN(I335))))","v":{"$error":"#VALUE!"}}]
[{"$f":"LOWER(LEFT(User!B336,LEN(I336)))","v":""},{"$f":"ABS(RIGHT(User!B336,(LEN(User!B336)-LEN(I336))))","v":{"$error":"#VALUE!"}}]
[{"$f":"LOWER(LEFT(User!B337,LEN(I337)))","v":""},{"$f":"ABS(RIGHT(User!B337,(LEN(User!B337)-LEN(I337))))","v":{"$error":"#VALUE!"}}]
[{"$f":"LOWER(LEFT(User!B338,LEN(I338)))","v":""},{"$f":"ABS(RIGHT(User!B338,(LEN(User!B338)-LEN(I338))))","v":{"$error":"#VALUE!"}}]
[{"$f":"LOWER(LEFT(User!B339,LEN(I339)))","v":""},{"$f":"ABS(RIGHT(User!B339,(LEN(User!B339)-LEN(I339))))","v":{"$error":"#VALUE!"}}]
[{"$f":"LOWER(LEFT(User!B340,LEN(I340)))","v":""},{"$f":"ABS(RIGHT(User!B340,(LEN(User!B340)-LEN(I340))))","v":{"$error":"#VALUE!"}}]
[{"$f":"LOWER(LEFT(User!B341,LEN(I341)))","v":""},{"$f":"ABS(RIGHT(User!B341,(LEN(User!B341)-LEN(I341))))","v":{"$error":"#VALUE!"}}]
[{"$f":"LOWER(LEFT(User!B342,LEN(I342)))","v":""},{"$f":"ABS(RIGHT(User!B342,(LEN(User!B342)-LEN(I342))))","v":{"$error":"#VALUE!"}}]
[{"$f":"LOWER(LEFT(User!B343,LEN(I343)))","v":""},{"$f":"ABS(RIGHT(User!B343,(LEN(User!B343)-LEN(I343))))","v":{"$error":"#VALUE!"}}]
[{"$f":"LOWER(LEFT(User!B344,LEN(I344)))","v":""},{"$f":"ABS(RIGHT(User!B344,(LEN(User!B344)-LEN(I344))))","v":{"$error":"#VALUE!"}}]
[{"$f":"LOWER(LEFT(User!B345,LEN(I345)))","v":""},{"$f":"ABS(RIGHT(User!B345,(LEN(User!B345)-LEN(I345))))","v":{"$error":"#VALUE!"}}]
[{"$f":"LOWER(LEFT(User!B346,LEN(I346)))","v":""},{"$f":"ABS(RIGHT(User!B346,(LEN(User!B346)-LEN(I346))))","v":{"$error":"#VALUE!"}}]
[{"$f":"LOWER(LEFT(User!B347,LEN(I347)))","v":""},{"$f":"ABS(RIGHT(User!B347,(LEN(User!B347)-LEN(I347))))","v":{"$error":"#VALUE!"}}]
[{"$f":"LOWER(LEFT(User!B348,LEN(I348)))","v":""},{"$f":"ABS(RIGHT(User!B348,(LEN(User!B348)-LEN(I348))))","v":{"$error":"#VALUE!"}}]
[{"$f":"LOWER(LEFT(User!B349,LEN(I349)))","v":""},{"$f":"ABS(RIGHT(User!B349,(LEN(User!B349)-LEN(I349))))","v":{"$error":"#VALUE!"}}]
[{"$f":"LOWER(LEFT(User!B350,LEN(I350)))","v":""},{"$f":"ABS(RIGHT(User!B350,(LEN(User!B350)-LEN(I350))))","v":{"$error":"#VALUE!"}}]
[{"$f":"LOWER(LEFT(User!B351,LEN(I351)))","v":""},{"$f":"ABS(RIGHT(User!B351,(LEN(User!B351)-LEN(I351))))","v":{"$error":"#VALUE!"}}]
[{"$f":"LOWER(LEFT(User!B352,LEN(I352)))","v":""},{"$f":"ABS(RIGHT(User!B352,(LEN(User!B352)-LEN(I352))))","v":{"$error":"#VALUE!"}}]
[{"$f":"LOWER(LEFT(User!B353,LEN(I353)))","v":""},{"$f":"ABS(RIGHT(User!B353,(LEN(User!B353)-LEN(I353))))","v":{"$error":"#VALUE!"}}]
[{"$f":"LOWER(LEFT(User!B354,LEN(I354)))","v":""},{"$f":"ABS(RIGHT(User!B354,(LEN(User!B354)-LEN(I354))))","v":{"$error":"#VALUE!"}}]
[{"$f":"LOWER(LEFT(User!B355,LEN(I355)))","v":""},{"$f":"ABS(RIGHT(User!B355,(LEN(User!B355)-LEN(I355))))","v":{"$error":"#VALUE!"}}]
[{"$f":"LOWER(LEFT(User!B356,LEN(I356)))","v":""},{"$f":"ABS(RIGHT(User!B356,(LEN(User!B356)-LEN(I356))))","v":{"$error":"#VALUE!"}}]
[{"$f":"LOWER(LEFT(User!B357,LEN(I357)))","v":""},{"$f":"ABS(RIGHT(User!B357,(LEN(User!B357)-LEN(I357))))","v":{"$error":"#VALUE!"}}]
[{"$f":"LOWER(LEFT(User!B358,LEN(I358)))","v":""},{"$f":"ABS(RIGHT(User!B358,(LEN(User!B358)-LEN(I358))))","v":{"$error":"#VALUE!"}}]
[{"$f":"LOWER(LEFT(User!B359,LEN(I359)))","v":""},{"$f":"ABS(RIGHT(User!B359,(LEN(User!B359)-LEN(I359))))","v":{"$error":"#VALUE!"}}]
[{"$f":"LOWER(LEFT(User!B360,LEN(I360)))","v":""},{"$f":"ABS(RIGHT(User!B360,(LEN(User!B360)-LEN(I360))))","v":{"$error":"#VALUE!"}}]
[{"$f":"LOWER(LEFT(User!B361,LEN(I361)))","v":""},{"$f":"ABS(RIGHT(User!B361,(LEN(User!B361)-LEN(I361))))","v":{"$error":"#VALUE!"}}]
[{"$f":"LOWER(LEFT(User!B362,LEN(I362)))","v":""},{"$f":"ABS(RIGHT(User!B362,(LEN(User!B362)-LEN(I362))))","v":{"$error":"#VALUE!"}}]
[{"$f":"LOWER(LEFT(User!B363,LEN(I363)))","v":""},{"$f":"ABS(RIGHT(User!B363,(LEN(User!B363)-LEN(I363))))","v":{"$error":"#VALUE!"}}]
[{"$f":"LOWER(LEFT(User!B364,LEN(I364)))","v":""},{"$f":"ABS(RIGHT(User!B364,(LEN(User!B364)-LEN(I364))))","v":{"$error":"#VALUE!"}}]
[{"$f":"LOWER(LEFT(User!B365,LEN(I365)))","v":""},{"$f":"ABS(RIGHT(User!B365,(LEN(User!B365)-LEN(I365))))","v":{"$error":"#VALUE!"}}]
[{"$f":"LOWER(LEFT(User!B366,LEN(I366)))","v":""},{"$f":"ABS(RIGHT(User!B366,(LEN(User!B366)-LEN(I366))))","v":{"$error":"#VALUE!"}}]
[{"$f":"LOWER(LEFT(User!B367,LEN(I367)))","v":""},{"$f":"ABS(RIGHT(User!B367,(LEN(User!B367)-LEN(I367))))","v":{"$error":"#VALUE!"}}]
[{"$f":"LOWER(LEFT(User!B368,LEN(I368)))","v":""},{"$f":"ABS(RIGHT(User!B368,(LEN(User!B368)-LEN(I368))))","v":{"$error":"#VALUE!"}}]
[{"$f":"LOWER(LEFT(User!B369,LEN(I369)))","v":""},{"$f":"ABS(RIGHT(User!B369,(LEN(User!B369)-LEN(I369))))","v":{"$error":"#VALUE!"}}]
[{"$f":"LOWER(LEFT(User!B370,LEN(I370)))","v":""},{"$f":"ABS(RIGHT(User!B370,(LEN(User!B370)-LEN(I370))))","v":{"$error":"#VALUE!"}}]
[{"$f":"LOWER(LEFT(User!B371,LEN(I371)))","v":""},{"$f":"ABS(RIGHT(User!B371,(LEN(User!B371)-LEN(I371))))","v":{"$error":"#VALUE!"}}]
[{"$f":"LOWER(LEFT(User!B372,LEN(I372)))","v":""},{"$f":"ABS(RIGHT(User!B372,(LEN(User!B372)-LEN(I372))))","v":{"$error":"#VALUE!"}}]
[{"$f":"LOWER(LEFT(User!B373,LEN(I373)))","v":""},{"$f":"ABS(RIGHT(User!B373,(LEN(User!B373)-LEN(I373))))","v":{"$error":"#VALUE!"}}]
[{"$f":"LOWER(LEFT(User!B374,LEN(I374)))","v":""},{"$f":"ABS(RIGHT(User!B374,(LEN(User!B374)-LEN(I374))))","v":{"$error":"#VALUE!"}}]
[{"$f":"LOWER(LEFT(User!B375,LEN(I375)))","v":""},{"$f":"ABS(RIGHT(User!B375,(LEN(User!B375)-LEN(I375))))","v":{"$error":"#VALUE!"}}]
[{"$f":"LOWER(LEFT(User!B376,LEN(I376)))","v":""},{"$f":"ABS(RIGHT(User!B376,(LEN(User!B376)-LEN(I376))))","v":{"$error":"#VALUE!"}}]
[{"$f":"LOWER(LEFT(User!B377,LEN(I377)))","v":""},{"$f":"ABS(RIGHT(User!B377,(LEN(User!B377)-LEN(I377))))","v":{"$error":"#VALUE!"}}]
[{"$f":"LOWER(LEFT(User!B378,LEN(I378)))","v":""},{"$f":"ABS(RIGHT(User!B378,(LEN(User!B378)-LEN(I378))))","v":{"$error":"#VALUE!"}}]
[{"$f":"LOWER(LEFT(User!B379,LEN(I379)))","v":""},{"$f":"ABS(RIGHT(User!B379,(LEN(User!B379)-LEN(I379))))","v":{"$error":"#VALUE!"}}]
[{"$f":"LOWER(LEFT(User!B380,LEN(I380)))","v":""},{"$f":"ABS(RIGHT(User!B380,(LEN(User!B380)-LEN(I380))))","v":{"$error":"#VALUE!"}}]
[{"$f":"LOWER(LEFT(User!B381,LEN(I381)))","v":""},{"$f":"ABS(RIGHT(User!B381,(LEN(User!B381)-LEN(I381))))","v":{"$error":"#VALUE!"}}]
[{"$f":"LOWER(LEFT(User!B382,LEN(I382)))","v":""},{"$f":"ABS(RIGHT(User!B382,(LEN(User!B382)-LEN(I382))))","v":{"$error":"#VALUE!"}}]
[{"$f":"LOWER(LEFT(User!B383,LEN(I383)))","v":""},{"$f":"ABS(RIGHT(User!B383,(LEN(User!B383)-LEN(I383))))","v":{"$error":"#VALUE!"}}]
[{"$f":"LOWER(LEFT(User!B384,LEN(I384)))","v":""},{"$f":"ABS(RIGHT(User!B384,(LEN(User!B384)-LEN(I384))))","v":{"$error":"#VALUE!"}}]
[{"$f":"LOWER(LEFT(User!B385,LEN(I385)))","v":""},{"$f":"ABS(RIGHT(User!B385,(LEN(User!B385)-LEN(I385))))","v":{"$error":"#VALUE!"}}]
[{"$f":"LOWER(LEFT(User!B386,LEN(I386)))","v":""},{"$f":"ABS(RIGHT(User!B386,(LEN(User!B386)-LEN(I386))))","v":{"$error":"#VALUE!"}}]
[{"$f":"LOWER(LEFT(User!B387,LEN(I387)))","v":""},{"$f":"ABS(RIGHT(User!B387,(LEN(User!B387)-LEN(I387))))","v":{"$error":"#VALUE!"}}]
[{"$f":"LOWER(LEFT(User!B388,LEN(I388)))","v":""},{"$f":"ABS(RIGHT(User!B388,(LEN(User!B388)-LEN(I388))))","v":{"$error":"#VALUE!"}}]
[{"$f":"LOWER(LEFT(User!B389,LEN(I389)))","v":""},{"$f":"ABS(RIGHT(User!B389,(LEN(User!B389)-LEN(I389))))","v":{"$error":"#VALUE!"}}]
[{"$f":"LOWER(LEFT(User!B390,LEN(I390)))","v":""},{"$f":"ABS(RIGHT(User!B390,(LEN(User!B390)-LEN(I390))))","v":{"$error":"#VALUE!"}}]
[{"$f":"LOWER(LEFT(User!B391,LEN(I391)))","v":""},{"$f":"ABS(RIGHT(User!B391,(LEN(User!B391)-LEN(I391))))","v":{"$error":"#VALUE!"}}]
[{"$f":"LOWER(LEFT(User!B392,LEN(I392)))","v":""},{"$f":"ABS(RIGHT(User!B392,(LEN(User!B392)-LEN(I392))))","v":{"$error":"#VALUE!"}}]
[{"$f":"LOWER(LEFT(User!B393,LEN(I393)))","v":""},{"$f":"ABS(RIGHT(User!B393,(LEN(User!B393)-LEN(I393))))","v":{"$error":"#VALUE!"}}]
[{"$f":"LOWER(LEFT(User!B394,LEN(I394)))","v":""},{"$f":"ABS(RIGHT(User!B394,(LEN(User!B394)-LEN(I394))))","v":{"$error":"#VALUE!"}}]
[{"$f":"LOWER(LEFT(User!B395,LEN(I395)))","v":""},{"$f":"ABS(RIGHT(User!B395,(LEN(User!B395)-LEN(I395))))","v":{"$error":"#VALUE!"}}]
[{"$f":"LOWER(LEFT(User!B396,LEN(I396)))","v":""},{"$f":"ABS(RIGHT(User!B396,(LEN(User!B396)-LEN(I396))))","v":{"$error":"#VALUE!"}}]
[{"$f":"LOWER(LEFT(User!B397,LEN(I397)))","v":""},{"$f":"ABS(RIGHT(User!B397,(LEN(User!B397)-LEN(I397))))","v":{"$error":"#VALUE!"}}]
[{"$f":"LOWER(LEFT(User!B398,LEN(I398)))","v":""},{"$f":"ABS(RIGHT(User!B398,(LEN(User!B398)-LEN(I398))))","v":{"$error":"#VALUE!"}}]
[{"$f":"LOWER(LEFT(User!B399,LEN(I399)))","v":""},{"$f":"ABS(RIGHT(User!B399,(LEN(User!B399)-LEN(I399))))","v":{"$error":"#VALUE!"}}]
[{"$f":"LOWER(LEFT(User!B400,LEN(I400)))","v":""},{"$f":"ABS(RIGHT(User!B400,(LEN(User!B400)-LEN(I400))))","v":{"$error":"#VALUE!"}}]
[{"$f":"LOWER(LEFT(User!B401,LEN(I401)))","v":""},{"$f":"ABS(RIGHT(User!B401,(LEN(User!B401)-LEN(I401))))","v":{"$error":"#VALUE!"}}]
[{"$f":"LOWER(LEFT(User!B402,LEN(I402)))","v":""},{"$f":"ABS(RIGHT(User!B402,(LEN(User!B402)-LEN(I402))))","v":{"$error":"#VALUE!"}}]
[{"$f":"LOWER(LEFT(User!B403,LEN(I403)))","v":""},{"$f":"ABS(RIGHT(User!B403,(LEN(User!B403)-LEN(I403))))","v":{"$error":"#VALUE!"}}]
[{"$f":"LOWER(LEFT(User!B404,LEN(I404)))","v":""},{"$f":"ABS(RIGHT(User!B404,(LEN(User!B404)-LEN(I404))))","v":{"$error":"#VALUE!"}}]
[{"$f":"LOWER(LEFT(User!B405,LEN(I405)))","v":""},{"$f":"ABS(RIGHT(User!B405,(LEN(User!B405)-LEN(I405))))","v":{"$error":"#VALUE!"}}]
[{"$f":"LOWER(LEFT(User!B406,LEN(I406)))","v":""},{"$f":"ABS(RIGHT(User!B406,(LEN(User!B406)-LEN(I406))))","v":{"$error":"#VALUE!"}}]
[{"$f":"LOWER(LEFT(User!B407,LEN(I407)))","v":""},{"$f":"ABS(RIGHT(User!B407,(LEN(User!B407)-LEN(I407))))","v":{"$error":"#VALUE!"}}]
[{"$f":"LOWER(LEFT(User!B408,LEN(I408)))","v":""},{"$f":"ABS(RIGHT(User!B408,(LEN(User!B408)-LEN(I408))))","v":{"$error":"#VALUE!"}}]
[{"$f":"LOWER(LEFT(User!B409,LEN(I409)))","v":""},{"$f":"ABS(RIGHT(User!B409,(LEN(User!B409)-LEN(I409))))","v":{"$error":"#VALUE!"}}]
[{"$f":"LOWER(LEFT(User!B410,LEN(I410)))","v":""},{"$f":"ABS(RIGHT(User!B410,(LEN(User!B410)-LEN(I410))))","v":{"$error":"#VALUE!"}}]
[{"$f":"LOWER(LEFT(User!B411,LEN(I411)))","v":""},{"$f":"ABS(RIGHT(User!B411,(LEN(User!B411)-LEN(I411))))","v":{"$error":"#VALUE!"}}]
[{"$f":"LOWER(LEFT(User!B412,LEN(I412)))","v":""},{"$f":"ABS(RIGHT(User!B412,(LEN(User!B412)-LEN(I412))))","v":{"$error":"#VALUE!"}}]
[{"$f":"LOWER(LEFT(User!B413,LEN(I413)))","v":""},{"$f":"ABS(RIGHT(User!B413,(LEN(User!B413)-LEN(I413))))","v":{"$error":"#VALUE!"}}]
[{"$f":"LOWER(LEFT(User!B414,LEN(I414)))","v":""},{"$f":"ABS(RIGHT(User!B414,(LEN(User!B414)-LEN(I414))))","v":{"$error":"#VALUE!"}}]
[{"$f":"LOWER(LEFT(User!B415,LEN(I415)))","v":""},{"$f":"ABS(RIGHT(User!B415,(LEN(User!B415)-LEN(I415))))","v":{"$error":"#VALUE!"}}]
[{"$f":"LOWER(LEFT(User!B416,LEN(I416)))","v":""},{"$f":"ABS(RIGHT(User!B416,(LEN(User!B416)-LEN(I416))))","v":{"$error":"#VALUE!"}}]
[{"$f":"LOWER(LEFT(User!B417,LEN(I417)))","v":""},{"$f":"ABS(RIGHT(User!B417,(LEN(User!B417)-LEN(I417))))","v":{"$error":"#VALUE!"}}]
[{"$f":"LOWER(LEFT(User!B418,LEN(I418)))","v":""},{"$f":"ABS(RIGHT(User!B418,(LEN(User!B418)-LEN(I418))))","v":{"$error":"#VALUE!"}}]
[{"$f":"LOWER(LEFT(User!B419,LEN(I419)))","v":""},{"$f":"ABS(RIGHT(User!B419,(LEN(User!B419)-LEN(I419))))","v":{"$error":"#VALUE!"}}]
[{"$f":"LOWER(LEFT(User!B420,LEN(I420)))","v":""},{"$f":"ABS(RIGHT(User!B420,(LEN(User!B420)-LEN(I420))))","v":{"$error":"#VALUE!"}}]
[{"$f":"LOWER(LEFT(User!B421,LEN(I421)))","v":""},{"$f":"ABS(RIGHT(User!B421,(LEN(User!B421)-LEN(I421))))","v":{"$error":"#VALUE!"}}]
[{"$f":"LOWER(LEFT(User!B422,LEN(I422)))","v":""},{"$f":"ABS(RIGHT(User!B422,(LEN(User!B422)-LEN(I422))))","v":{"$error":"#VALUE!"}}]
[{"$f":"LOWER(LEFT(User!B423,LEN(I423)))","v":""},{"$f":"ABS(RIGHT(User!B423,(LEN(User!B423)-LEN(I423))))","v":{"$error":"#VALUE!"}}]
[{"$f":"LOWER(LEFT(User!B424,LEN(I424)))","v":""},{"$f":"ABS(RIGHT(User!B424,(LEN(User!B424)-LEN(I424))))","v":{"$error":"#VALUE!"}}]
[{"$f":"LOWER(LEFT(User!B425,LEN(I425)))","v":""},{"$f":"ABS(RIGHT(User!B425,(LEN(User!B425)-LEN(I425))))","v":{"$error":"#VALUE!"}}]
[{"$f":"LOWER(LEFT(User!B426,LEN(I426)))","v":""},{"$f":"ABS(RIGHT(User!B426,(LEN(User!B426)-LEN(I426))))","v":{"$error":"#VALUE!"}}]
[{"$f":"LOWER(LEFT(User!B427,LEN(I427)))","v":""},{"$f":"ABS(RIGHT(User!B427,(LEN(User!B427)-LEN(I427))))","v":{"$error":"#VALUE!"}}]
[{"$f":"LOWER(LEFT(User!B428,LEN(I428)))","v":""},{"$f":"ABS(RIGHT(User!B428,(LEN(User!B428)-LEN(I428))))","v":{"$error":"#VALUE!"}}]
[{"$f":"LOWER(LEFT(User!B429,LEN(I429)))","v":""},{"$f":"ABS(RIGHT(User!B429,(LEN(User!B429)-LEN(I429))))","v":{"$error":"#VALUE!"}}]
[{"$f":"LOWER(LEFT(User!B430,LEN(I430)))","v":""},{"$f":"ABS(RIGHT(User!B430,(LEN(User!B430)-LEN(I430))))","v":{"$error":"#VALUE!"}}]
[{"$f":"LOWER(LEFT(User!B431,LEN(I431)))","v":""},{"$f":"ABS(RIGHT(User!B431,(LEN(User!B431)-LEN(I431))))","v":{"$error":"#VALUE!"}}]
[{"$f":"LOWER(LEFT(User!B432,LEN(I432)))","v":""},{"$f":"ABS(RIGHT(User!B432,(LEN(User!B432)-LEN(I432))))","v":{"$error":"#VALUE!"}}]
[{"$f":"LOWER(LEFT(User!B433,LEN(I433)))","v":""},{"$f":"ABS(RIGHT(User!B433,(LEN(User!B433)-LEN(I433))))","v":{"$error":"#VALUE!"}}]
[{"$f":"LOWER(LEFT(User!B434,LEN(I434)))","v":""},{"$f":"ABS(RIGHT(User!B434,(LEN(User!B434)-LEN(I434))))","v":{"$error":"#VALUE!"}}]
[{"$f":"LOWER(LEFT(User!B435,LEN(I435)))","v":""},{"$f":"ABS(RIGHT(User!B435,(LEN(User!B435)-LEN(I435))))","v":{"$error":"#VALUE!"}}]
[{"$f":"LOWER(LEFT(User!B436,LEN(I436)))","v":""},{"$f":"ABS(RIGHT(User!B436,(LEN(User!B436)-LEN(I436))))","v":{"$error":"#VALUE!"}}]
[{"$f":"LOWER(LEFT(User!B437,LEN(I437)))","v":""},{"$f":"ABS(RIGHT(User!B437,(LEN(User!B437)-LEN(I437))))","v":{"$error":"#VALUE!"}}]
[{"$f":"LOWER(LEFT(User!B438,LEN(I438)))","v":""},{"$f":"ABS(RIGHT(User!B438,(LEN(User!B438)-LEN(I438))))","v":{"$error":"#VALUE!"}}]
[{"$f":"LOWER(LEFT(User!B439,LEN(I439)))","v":""},{"$f":"ABS(RIGHT(User!B439,(LEN(User!B439)-LEN(I439))))","v":{"$error":"#VALUE!"}}]
[{"$f":"LOWER(LEFT(User!B440,LEN(I440)))","v":""},{"$f":"ABS(RIGHT(User!B440,(LEN(User!B440)-LEN(I440))))","v":{"$error":"#VALUE!"}}]
[{"$f":"LOWER(LEFT(User!B441,LEN(I441)))","v":""},{"$f":"ABS(RIGHT(User!B441,(LEN(User!B441)-LEN(I441))))","v":{"$error":"#VALUE!"}}]
[{"$f":"LOWER(LEFT(User!B442,LEN(I442)))","v":""},{"$f":"ABS(RIGHT(User!B442,(LEN(User!B442)-LEN(I442))))","v":{"$error":"#VALUE!"}}]
[{"$f":"LOWER(LEFT(User!B443,LEN(I443)))","v":""},{"$f":"ABS(RIGHT(User!B443,(LEN(User!B443)-LEN(I443))))","v":{"$error":"#VALUE!"}}]
[{"$f":"LOWER(LEFT(User!B444,LEN(I444)))","v":""},{"$f":"ABS(RIGHT(User!B444,(LEN(User!B444)-LEN(I444))))","v":{"$error":"#VALUE!"}}]
[{"$f":"LOWER(LEFT(User!B445,LEN(I445)))","v":""},{"$f":"ABS(RIGHT(User!B445,(LEN(User!B445)-LEN(I445))))","v":{"$error":"#VALUE!"}}]
[{"$f":"LOWER(LEFT(User!B446,LEN(I446)))","v":""},{"$f":"ABS(RIGHT(User!B446,(LEN(User!B446)-LEN(I446))))","v":{"$error":"#VALUE!"}}]
[{"$f":"LOWER(LEFT(User!B447,LEN(I447)))","v":""},{"$f":"ABS(RIGHT(User!B447,(LEN(User!B447)-LEN(I447))))","v":{"$error":"#VALUE!"}}]
[{"$f":"LOWER(LEFT(User!B448,LEN(I448)))","v":""},{"$f":"ABS(RIGHT(User!B448,(LEN(User!B448)-LEN(I448))))","v":{"$error":"#VALUE!"}}]
[{"$f":"LOWER(LEFT(User!B449,LEN(I449)))","v":""},{"$f":"ABS(RIGHT(User!B449,(LEN(User!B449)-LEN(I449))))","v":{"$error":"#VALUE!"}}]
[{"$f":"LOWER(LEFT(User!B450,LEN(I450)))","v":""},{"$f":"ABS(RIGHT(User!B450,(LEN(User!B450)-LEN(I450))))","v":{"$error":"#VALUE!"}}]
[{"$f":"LOWER(LEFT(User!B451,LEN(I451)))","v":""},{"$f":"ABS(RIGHT(User!B451,(LEN(User!B451)-LEN(I451))))","v":{"$error":"#VALUE!"}}]
[{"$f":"LOWER(LEFT(User!B452,LEN(I452)))","v":""},{"$f":"ABS(RIGHT(User!B452,(LEN(User!B452)-LEN(I452))))","v":{"$error":"#VALUE!"}}]
[{"$f":"LOWER(LEFT(User!B453,LEN(I453)))","v":""},{"$f":"ABS(RIGHT(User!B453,(LEN(User!B453)-LEN(I453))))","v":{"$error":"#VALUE!"}}]
[{"$f":"LOWER(LEFT(User!B454,LEN(I454)))","v":""},{"$f":"ABS(RIGHT(User!B454,(LEN(User!B454)-LEN(I454))))","v":{"$error":"#VALUE!"}}]
[{"$f":"LOWER(LEFT(User!B455,LEN(I455)))","v":""},{"$f":"ABS(RIGHT(User!B455,(LEN(User!B455)-LEN(I455))))","v":{"$error":"#VALUE!"}}]
[{"$f":"LOWER(LEFT(User!B456,LEN(I456)))","v":""},{"$f":"ABS(RIGHT(User!B456,(LEN(User!B456)-LEN(I456))))","v":{"$error":"#VALUE!"}}]
[{"$f":"LOWER(LEFT(User!B457,LEN(I457)))","v":""},{"$f":"ABS(RIGHT(User!B457,(LEN(User!B457)-LEN(I457))))","v":{"$error":"#VALUE!"}}]
[{"$f":"LOWER(LEFT(User!B458,LEN(I458)))","v":""},{"$f":"ABS(RIGHT(User!B458,(LEN(User!B458)-LEN(I458))))","v":{"$error":"#VALUE!"}}]
[{"$f":"LOWER(LEFT(User!B459,LEN(I459)))","v":""},{"$f":"ABS(RIGHT(User!B459,(LEN(User!B459)-LEN(I459))))","v":{"$error":"#VALUE!"}}]
[{"$f":"LOWER(LEFT(User!B460,LEN(I460)))","v":""},{"$f":"ABS(RIGHT(User!B460,(LEN(User!B460)-LEN(I460))))","v":{"$error":"#VALUE!"}}]
[{"$f":"LOWER(LEFT(User!B461,LEN(I461)))","v":""},{"$f":"ABS(RIGHT(User!B461,(LEN(User!B461)-LEN(I461))))","v":{"$error":"#VALUE!"}}]
[{"$f":"LOWER(LEFT(User!B462,LEN(I462)))","v":""},{"$f":"ABS(RIGHT(User!B462,(LEN(User!B462)-LEN(I462))))","v":{"$error":"#VALUE!"}}]
[{"$f":"LOWER(LEFT(User!B463,LEN(I463)))","v":""},{"$f":"ABS(RIGHT(User!B463,(LEN(User!B463)-LEN(I463))))","v":{"$error":"#VALUE!"}}]
[{"$f":"LOWER(LEFT(User!B464,LEN(I464)))","v":""},{"$f":"ABS(RIGHT(User!B464,(LEN(User!B464)-LEN(I464))))","v":{"$error":"#VALUE!"}}]
[{"$f":"LOWER(LEFT(User!B465,LEN(I465)))","v":""},{"$f":"ABS(RIGHT(User!B465,(LEN(User!B465)-LEN(I465))))","v":{"$error":"#VALUE!"}}]
[{"$f":"LOWER(LEFT(User!B466,LEN(I466)))","v":""},{"$f":"ABS(RIGHT(User!B466,(LEN(User!B466)-LEN(I466))))","v":{"$error":"#VALUE!"}}]
[{"$f":"LOWER(LEFT(User!B467,LEN(I467)))","v":""},{"$f":"ABS(RIGHT(User!B467,(LEN(User!B467)-LEN(I467))))","v":{"$error":"#VALUE!"}}]
[{"$f":"LOWER(LEFT(User!B468,LEN(I468)))","v":""},{"$f":"ABS(RIGHT(User!B468,(LEN(User!B468)-LEN(I468))))","v":{"$error":"#VALUE!"}}]
[{"$f":"LOWER(LEFT(User!B469,LEN(I469)))","v":""},{"$f":"ABS(RIGHT(User!B469,(LEN(User!B469)-LEN(I469))))","v":{"$error":"#VALUE!"}}]
[{"$f":"LOWER(LEFT(User!B470,LEN(I470)))","v":""},{"$f":"ABS(RIGHT(User!B470,(LEN(User!B470)-LEN(I470))))","v":{"$error":"#VALUE!"}}]
[{"$f":"LOWER(LEFT(User!B471,LEN(I471)))","v":""},{"$f":"ABS(RIGHT(User!B471,(LEN(User!B471)-LEN(I471))))","v":{"$error":"#VALUE!"}}]
[{"$f":"LOWER(LEFT(User!B472,LEN(I472)))","v":""},{"$f":"ABS(RIGHT(User!B472,(LEN(User!B472)-LEN(I472))))","v":{"$error":"#VALUE!"}}]
[{"$f":"LOWER(LEFT(User!B473,LEN(I473)))","v":""},{"$f":"ABS(RIGHT(User!B473,(LEN(User!B473)-LEN(I473))))","v":{"$error":"#VALUE!"}}]
[{"$f":"LOWER(LEFT(User!B474,LEN(I474)))","v":""},{"$f":"ABS(RIGHT(User!B474,(LEN(User!B474)-LEN(I474))))","v":{"$error":"#VALUE!"}}]
[{"$f":"LOWER(LEFT(User!B475,LEN(I475)))","v":""},{"$f":"ABS(RIGHT(User!B475,(LEN(User!B475)-LEN(I475))))","v":{"$error":"#VALUE!"}}]
[{"$f":"LOWER(LEFT(User!B476,LEN(I476)))","v":""},{"$f":"ABS(RIGHT(User!B476,(LEN(User!B476)-LEN(I476))))","v":{"$error":"#VALUE!"}}]
[{"$f":"LOWER(LEFT(User!B477,LEN(I477)))","v":""},{"$f":"ABS(RIGHT(User!B477,(LEN(User!B477)-LEN(I477))))","v":{"$error":"#VALUE!"}}]
[{"$f":"LOWER(LEFT(User!B478,LEN(I478)))","v":""},{"$f":"ABS(RIGHT(User!B478,(LEN(User!B478)-LEN(I478))))","v":{"$error":"#VALUE!"}}]
[{"$f":"LOWER(LEFT(User!B479,LEN(I479)))","v":""},{"$f":"ABS(RIGHT(User!B479,(LEN(User!B479)-LEN(I479))))","v":{"$error":"#VALUE!"}}]
[{"$f":"LOWER(LEFT(User!B480,LEN(I480)))","v":""},{"$f":"ABS(RIGHT(User!B480,(LEN(User!B480)-LEN(I480))))","v":{"$error":"#VALUE!"}}]
[{"$f":"LOWER(LEFT(User!B481,LEN(I481)))","v":""},{"$f":"ABS(RIGHT(User!B481,(LEN(User!B481)-LEN(I481))))","v":{"$error":"#VALUE!"}}]
[{"$f":"LOWER(LEFT(User!B482,LEN(I482)))","v":""},{"$f":"ABS(RIGHT(User!B482,(LEN(User!B482)-LEN(I482))))","v":{"$error":"#VALUE!"}}]
[{"$f":"LOWER(LEFT(User!B483,LEN(I483)))","v":""},{"$f":"ABS(RIGHT(User!B483,(LEN(User!B483)-LEN(I483))))","v":{"$error":"#VALUE!"}}]
[{"$f":"LOWER(LEFT(User!B484,LEN(I484)))","v":""},{"$f":"ABS(RIGHT(User!B484,(LEN(User!B484)-LEN(I484))))","v":{"$error":"#VALUE!"}}]
[{"$f":"LOWER(LEFT(User!B485,LEN(I485)))","v":""},{"$f":"ABS(RIGHT(User!B485,(LEN(User!B485)-LEN(I485))))","v":{"$error":"#VALUE!"}}]
[{"$f":"LOWER(LEFT(User!B486,LEN(I486)))","v":""},{"$f":"ABS(RIGHT(User!B486,(LEN(User!B486)-LEN(I486))))","v":{"$error":"#VALUE!"}}]
[{"$f":"LOWER(LEFT(User!B487,LEN(I487)))","v":""},{"$f":"ABS(RIGHT(User!B487,(LEN(User!B487)-LEN(I487))))","v":{"$error":"#VALUE!"}}]
[{"$f":"LOWER(LEFT(User!B488,LEN(I488)))","v":""},{"$f":"ABS(RIGHT(User!B488,(LEN(User!B488)-LEN(I488))))","v":{"$error":"#VALUE!"}}]
[{"$f":"LOWER(LEFT(User!B489,LEN(I489)))","v":""},{"$f":"ABS(RIGHT(User!B489,(LEN(User!B489)-LEN(I489))))","v":{"$error":"#VALUE!"}}]
[{"$f":"LOWER(LEFT(User!B490,LEN(I490)))","v":""},{"$f":"ABS(RIGHT(User!B490,(LEN(User!B490)-LEN(I490))))","v":{"$error":"#VALUE!"}}]
[{"$f":"LOWER(LEFT(User!B491,LEN(I491)))","v":""},{"$f":"ABS(RIGHT(User!B491,(LEN(User!B491)-LEN(I491))))","v":{"$error":"#VALUE!"}}]
[{"$f":"LOWER(LEFT(User!B492,LEN(I492)))","v":""},{"$f":"ABS(RIGHT(User!B492,(LEN(User!B492)-LEN(I492))))","v":{"$error":"#VALUE!"}}]
[{"$f":"LOWER(LEFT(User!B493,LEN(I493)))","v":""},{"$f":"ABS(RIGHT(User!B493,(LEN(User!B493)-LEN(I493))))","v":{"$error":"#VALUE!"}}]
[{"$f":"LOWER(LEFT(User!B494,LEN(I494)))","v":""},{"$f":"ABS(RIGHT(User!B494,(LEN(User!B494)-LEN(I494))))","v":{"$error":"#VALUE!"}}]
[{"$f":"LOWER(LEFT(User!B495,LEN(I495)))","v":""},{"$f":"ABS(RIGHT(User!B495,(LEN(User!B495)-LEN(I495))))","v":{"$error":"#VALUE!"}}]
[{"$f":"LOWER(LEFT(User!B496,LEN(I496)))","v":""},{"$f":"ABS(RIGHT(User!B496,(LEN(User!B496)-LEN(I496))))","v":{"$error":"#VALUE!"}}]
[{"$f":"LOWER(LEFT(User!B497,LEN(I497)))","v":""},{"$f":"ABS(RIGHT(User!B497,(LEN(User!B497)-LEN(I497))))","v":{"$error":"#VALUE!"}}]
[{"$f":"LOWER(LEFT(User!B498,LEN(I498)))","v":""},{"$f":"ABS(RIGHT(User!B498,(LEN(User!B498)-LEN(I498))))","v":{"$error":"#VALUE!"}}]
[{"$f":"LOWER(LEFT(User!B499,LEN(I499)))","v":""},{"$f":"ABS(RIGHT(User!B499,(LEN(User!B499)-LEN(I499))))","v":{"$error":"#VALUE!"}}]
[{"$f":"LOWER(LEFT(User!B500,LEN(I500)))","v":""},{"$f":"ABS(RIGHT(User!B500,(LEN(User!B500)-LEN(I500))))","v":{"$error":"#VALUE!"}}]
[{"$f":"LOWER(LEFT(User!B501,LEN(I501)))","v":""},{"$f":"ABS(RIGHT(User!B501,(LEN(User!B501)-LEN(I501))))","v":{"$error":"#VALUE!"}}]
[{"$f":"LOWER(LEFT(User!B502,LEN(I502)))","v":""},{"$f":"ABS(RIGHT(User!B502,(LEN(User!B502)-LEN(I502))))","v":{"$error":"#VALUE!"}}]
[{"$f":"LOWER(LEFT(User!B503,LEN(I503)))","v":""},{"$f":"ABS(RIGHT(User!B503,(LEN(User!B503)-LEN(I503))))","v":{"$error":"#VALUE!"}}]
[{"$f":"LOWER(LEFT(User!B504,LEN(I504)))","v":""},{"$f":"ABS(RIGHT(User!B504,(LEN(User!B504)-LEN(I504))))","v":{"$error":"#VALUE!"}}]
[{"$f":"LOWER(LEFT(User!B505,LEN(I505)))","v":""},{"$f":"ABS(RIGHT(User!B505,(LEN(User!B505)-LEN(I505))))","v":{"$error":"#VALUE!"}}]
[{"$f":"LOWER(LEFT(User!B506,LEN(I506)))","v":""},{"$f":"ABS(RIGHT(User!B506,(LEN(User!B506)-LEN(I506))))","v":{"$error":"#VALUE!"}}]
[{"$f":"LOWER(LEFT(User!B507,LEN(I507)))","v":""},{"$f":"ABS(RIGHT(User!B507,(LEN(User!B507)-LEN(I507))))","v":{"$error":"#VALUE!"}}]
[{"$f":"LOWER(LEFT(User!B508,LEN(I508)))","v":""},{"$f":"ABS(RIGHT(User!B508,(LEN(User!B508)-LEN(I508))))","v":{"$error":"#VALUE!"}}]
[{"$f":"LOWER(LEFT(User!B509,LEN(I509)))","v":""},{"$f":"ABS(RIGHT(User!B509,(LEN(User!B509)-LEN(I509))))","v":{"$error":"#VALUE!"}}]
[{"$f":"LOWER(LEFT(User!B510,LEN(I510)))","v":""},{"$f":"ABS(RIGHT(User!B510,(LEN(User!B510)-LEN(I510))))","v":{"$error":"#VALUE!"}}]
[{"$f":"LOWER(LEFT(User!B511,LEN(I511)))","v":""},{"$f":"ABS(RIGHT(User!B511,(LEN(User!B511)-LEN(I511))))","v":{"$error":"#VALUE!"}}]
[{"$f":"LOWER(LEFT(User!B512,LEN(I512)))","v":""},{"$f":"ABS(RIGHT(User!B512,(LEN(User!B512)-LEN(I512))))","v":{"$error":"#VALUE!"}}]
[{"$f":"LOWER(LEFT(User!B513,LEN(I513)))","v":""},{"$f":"ABS(RIGHT(User!B513,(LEN(User!B513)-LEN(I513))))","v":{"$error":"#VALUE!"}}]
[{"$f":"LOWER(LEFT(User!B514,LEN(I514)))","v":""},{"$f":"ABS(RIGHT(User!B514,(LEN(User!B514)-LEN(I514))))","v":{"$error":"#VALUE!"}}]
[{"$f":"LOWER(LEFT(User!B515,LEN(I515)))","v":""},{"$f":"ABS(RIGHT(User!B515,(LEN(User!B515)-LEN(I515))))","v":{"$error":"#VALUE!"}}]
[{"$f":"LOWER(LEFT(User!B516,LEN(I516)))","v":""},{"$f":"ABS(RIGHT(User!B516,(LEN(User!B516)-LEN(I516))))","v":{"$error":"#VALUE!"}}]
[{"$f":"LOWER(LEFT(User!B517,LEN(I517)))","v":""},{"$f":"ABS(RIGHT(User!B517,(LEN(User!B517)-LEN(I517))))","v":{"$error":"#VALUE!"}}]
[{"$f":"LOWER(LEFT(User!B518,LEN(I518)))","v":""},{"$f":"ABS(RIGHT(User!B518,(LEN(User!B518)-LEN(I518))))","v":{"$error":"#VALUE!"}}]
[{"$f":"LOWER(LEFT(User!B519,LEN(I519)))","v":""},{"$f":"ABS(RIGHT(User!B519,(LEN(User!B519)-LEN(I519))))","v":{"$error":"#VALUE!"}}]
[{"$f":"LOWER(LEFT(User!B520,LEN(I520)))","v":""},{"$f":"ABS(RIGHT(User!B520,(LEN(User!B520)-LEN(I520))))","v":{"$error":"#VALUE!"}}]
[{"$f":"LOWER(LEFT(User!B521,LEN(I521)))","v":""},{"$f":"ABS(RIGHT(User!B521,(LEN(User!B521)-LEN(I521))))","v":{"$error":"#VALUE!"}}]
[{"$f":"LOWER(LEFT(User!B522,LEN(I522)))","v":""},{"$f":"ABS(RIGHT(User!B522,(LEN(User!B522)-LEN(I522))))","v":{"$error":"#VALUE!"}}]
[{"$f":"LOWER(LEFT(User!B523,LEN(I523)))","v":""},{"$f":"ABS(RIGHT(User!B523,(LEN(User!B523)-LEN(I523))))","v":{"$error":"#VALUE!"}}]
[{"$f":"LOWER(LEFT(User!B524,LEN(I524)))","v":""},{"$f":"ABS(RIGHT(User!B524,(LEN(User!B524)-LEN(I524))))","v":{"$error":"#VALUE!"}}]
[{"$f":"LOWER(LEFT(User!B525,LEN(I525)))","v":""},{"$f":"ABS(RIGHT(User!B525,(LEN(User!B525)-LEN(I525))))","v":{"$error":"#VALUE!"}}]
[{"$f":"LOWER(LEFT(User!B526,LEN(I526)))","v":""},{"$f":"ABS(RIGHT(User!B526,(LEN(User!B526)-LEN(I526))))","v":{"$error":"#VALUE!"}}]
[{"$f":"LOWER(LEFT(User!B527,LEN(I527)))","v":""},{"$f":"ABS(RIGHT(User!B527,(LEN(User!B527)-LEN(I527))))","v":{"$error":"#VALUE!"}}]
[{"$f":"LOWER(LEFT(User!B528,LEN(I528)))","v":""},{"$f":"ABS(RIGHT(User!B528,(LEN(User!B528)-LEN(I528))))","v":{"$error":"#VALUE!"}}]
[{"$f":"LOWER(LEFT(User!B529,LEN(I529)))","v":""},{"$f":"ABS(RIGHT(User!B529,(LEN(User!B529)-LEN(I529))))","v":{"$error":"#VALUE!"}}]
[{"$f":"LOWER(LEFT(User!B530,LEN(I530)))","v":""},{"$f":"ABS(RIGHT(User!B530,(LEN(User!B530)-LEN(I530))))","v":{"$error":"#VALUE!"}}]
[{"$f":"LOWER(LEFT(User!B531,LEN(I531)))","v":""},{"$f":"ABS(RIGHT(User!B531,(LEN(User!B531)-LEN(I531))))","v":{"$error":"#VALUE!"}}]
[{"$f":"LOWER(LEFT(User!B532,LEN(I532)))","v":""},{"$f":"ABS(RIGHT(User!B532,(LEN(User!B532)-LEN(I532))))","v":{"$error":"#VALUE!"}}]
[{"$f":"LOWER(LEFT(User!B533,LEN(I533)))","v":""},{"$f":"ABS(RIGHT(User!B533,(LEN(User!B533)-LEN(I533))))","v":{"$error":"#VALUE!"}}]
[{"$f":"LOWER(LEFT(User!B534,LEN(I534)))","v":""},{"$f":"ABS(RIGHT(User!B534,(LEN(User!B534)-LEN(I534))))","v":{"$error":"#VALUE!"}}]
[{"$f":"LOWER(LEFT(User!B535,LEN(I535)))","v":""},{"$f":"ABS(RIGHT(User!B535,(LEN(User!B535)-LEN(I535))))","v":{"$error":"#VALUE!"}}]
[{"$f":"LOWER(LEFT(User!B536,LEN(I536)))","v":""},{"$f":"ABS(RIGHT(User!B536,(LEN(User!B536)-LEN(I536))))","v":{"$error":"#VALUE!"}}]
[{"$f":"LOWER(LEFT(User!B537,LEN(I537)))","v":""},{"$f":"ABS(RIGHT(User!B537,(LEN(User!B537)-LEN(I537))))","v":{"$error":"#VALUE!"}}]
[{"$f":"LOWER(LEFT(User!B538,LEN(I538)))","v":""},{"$f":"ABS(RIGHT(User!B538,(LEN(User!B538)-LEN(I538))))","v":{"$error":"#VALUE!"}}]
[{"$f":"LOWER(LEFT(User!B539,LEN(I539)))","v":""},{"$f":"ABS(RIGHT(User!B539,(LEN(User!B539)-LEN(I539))))","v":{"$error":"#VALUE!"}}]
[{"$f":"LOWER(LEFT(User!B540,LEN(I540)))","v":""},{"$f":"ABS(RIGHT(User!B540,(LEN(User!B540)-LEN(I540))))","v":{"$error":"#VALUE!"}}]
[{"$f":"LOWER(LEFT(User!B541,LEN(I541)))","v":""},{"$f":"ABS(RIGHT(User!B541,(LEN(User!B541)-LEN(I541))))","v":{"$error":"#VALUE!"}}]
[{"$f":"LOWER(LEFT(User!B542,LEN(I542)))","v":""},{"$f":"ABS(RIGHT(User!B542,(LEN(User!B542)-LEN(I542))))","v":{"$error":"#VALUE!"}}]
[{"$f":"LOWER(LEFT(User!B543,LEN(I543)))","v":""},{"$f":"ABS(RIGHT(User!B543,(LEN(User!B543)-LEN(I543))))","v":{"$error":"#VALUE!"}}]
[{"$f":"LOWER(LEFT(User!B544,LEN(I544)))","v":""},{"$f":"ABS(RIGHT(User!B544,(LEN(User!B544)-LEN(I544))))","v":{"$error":"#VALUE!"}}]
[{"$f":"LOWER(LEFT(User!B545,LEN(I545)))","v":""},{"$f":"ABS(RIGHT(User!B545,(LEN(User!B545)-LEN(I545))))","v":{"$error":"#VALUE!"}}]
[{"$f":"LOWER(LEFT(User!B546,LEN(I546)))","v":""},{"$f":"ABS(RIGHT(User!B546,(LEN(User!B546)-LEN(I546))))","v":{"$error":"#VALUE!"}}]
[{"$f":"LOWER(LEFT(User!B547,LEN(I547)))","v":""},{"$f":"ABS(RIGHT(User!B547,(LEN(User!B547)-LEN(I547))))","v":{"$error":"#VALUE!"}}]
[{"$f":"LOWER(LEFT(User!B548,LEN(I548)))","v":""},{"$f":"ABS(RIGHT(User!B548,(LEN(User!B548)-LEN(I548))))","v":{"$error":"#VALUE!"}}]
[{"$f":"LOWER(LEFT(User!B549,LEN(I549)))","v":""},{"$f":"ABS(RIGHT(User!B549,(LEN(User!B549)-LEN(I549))))","v":{"$error":"#VALUE!"}}]
[{"$f":"LOWER(LEFT(User!B550,LEN(I550)))","v":""},{"$f":"ABS(RIGHT(User!B550,(LEN(User!B550)-LEN(I550))))","v":{"$error":"#VALUE!"}}]
[{"$f":"LOWER(LEFT(User!B551,LEN(I551)))","v":""},{"$f":"ABS(RIGHT(User!B551,(LEN(User!B551)-LEN(I551))))","v":{"$error":"#VALUE!"}}]
[{"$f":"LOWER(LEFT(User!B552,LEN(I552)))","v":""},{"$f":"ABS(RIGHT(User!B552,(LEN(User!B552)-LEN(I552))))","v":{"$error":"#VALUE!"}}]
[{"$f":"LOWER(LEFT(User!B553,LEN(I553)))","v":""},{"$f":"ABS(RIGHT(User!B553,(LEN(User!B553)-LEN(I553))))","v":{"$error":"#VALUE!"}}]
[{"$f":"LOWER(LEFT(User!B554,LEN(I554)))","v":""},{"$f":"ABS(RIGHT(User!B554,(LEN(User!B554)-LEN(I554))))","v":{"$error":"#VALUE!"}}]
[{"$f":"LOWER(LEFT(User!B555,LEN(I555)))","v":""},{"$f":"ABS(RIGHT(User!B555,(LEN(User!B555)-LEN(I555))))","v":{"$error":"#VALUE!"}}]
[{"$f":"LOWER(LEFT(User!B556,LEN(I556)))","v":""},{"$f":"ABS(RIGHT(User!B556,(LEN(User!B556)-LEN(I556))))","v":{"$error":"#VALUE!"}}]
[{"$f":"LOWER(LEFT(User!B557,LEN(I557)))","v":""},{"$f":"ABS(RIGHT(User!B557,(LEN(User!B557)-LEN(I557))))","v":{"$error":"#VALUE!"}}]
[{"$f":"LOWER(LEFT(User!B558,LEN(I558)))","v":""},{"$f":"ABS(RIGHT(User!B558,(LEN(User!B558)-LEN(I558))))","v":{"$error":"#VALUE!"}}]
[{"$f":"LOWER(LEFT(User!B559,LEN(I559)))","v":""},{"$f":"ABS(RIGHT(User!B559,(LEN(User!B559)-LEN(I559))))","v":{"$error":"#VALUE!"}}]
[{"$f":"LOWER(LEFT(User!B560,LEN(I560)))","v":""},{"$f":"ABS(RIGHT(User!B560,(LEN(User!B560)-LEN(I560))))","v":{"$error":"#VALUE!"}}]
[{"$f":"LOWER(LEFT(User!B561,LEN(I561)))","v":""},{"$f":"ABS(RIGHT(User!B561,(LEN(User!B561)-LEN(I561))))","v":{"$error":"#VALUE!"}}]
[{"$f":"LOWER(LEFT(User!B562,LEN(I562)))","v":""},{"$f":"ABS(RIGHT(User!B562,(LEN(User!B562)-LEN(I562))))","v":{"$error":"#VALUE!"}}]
[{"$f":"LOWER(LEFT(User!B563,LEN(I563)))","v":""},{"$f":"ABS(RIGHT(User!B563,(LEN(User!B563)-LEN(I563))))","v":{"$error":"#VALUE!"}}]
[{"$f":"LOWER(LEFT(User!B564,LEN(I564)))","v":""},{"$f":"ABS(RIGHT(User!B564,(LEN(User!B564)-LEN(I564))))","v":{"$error":"#VALUE!"}}]
[{"$f":"LOWER(LEFT(User!B565,LEN(I565)))","v":""},{"$f":"ABS(RIGHT(User!B565,(LEN(User!B565)-LEN(I565))))","v":{"$error":"#VALUE!"}}]
[{"$f":"LOWER(LEFT(User!B566,LEN(I566)))","v":""},{"$f":"ABS(RIGHT(User!B566,(LEN(User!B566)-LEN(I566))))","v":{"$error":"#VALUE!"}}]
[{"$f":"LOWER(LEFT(User!B567,LEN(I567)))","v":""},{"$f":"ABS(RIGHT(User!B567,(LEN(User!B567)-LEN(I567))))","v":{"$error":"#VALUE!"}}]
[{"$f":"LOWER(LEFT(User!B568,LEN(I568)))","v":""},{"$f":"ABS(RIGHT(User!B568,(LEN(User!B568)-LEN(I568))))","v":{"$error":"#VALUE!"}}]
[{"$f":"LOWER(LEFT(User!B569,LEN(I569)))","v":""},{"$f":"ABS(RIGHT(User!B569,(LEN(User!B569)-LEN(I569))))","v":{"$error":"#VALUE!"}}]
[{"$f":"LOWER(LEFT(User!B570,LEN(I570)))","v":""},{"$f":"ABS(RIGHT(User!B570,(LEN(User!B570)-LEN(I570))))","v":{"$error":"#VALUE!"}}]
[{"$f":"LOWER(LEFT(User!B571,LEN(I571)))","v":""},{"$f":"ABS(RIGHT(User!B571,(LEN(User!B571)-LEN(I571))))","v":{"$error":"#VALUE!"}}]
[{"$f":"LOWER(LEFT(User!B572,LEN(I572)))","v":""},{"$f":"ABS(RIGHT(User!B572,(LEN(User!B572)-LEN(I572))))","v":{"$error":"#VALUE!"}}]
[{"$f":"LOWER(LEFT(User!B573,LEN(I573)))","v":""},{"$f":"ABS(RIGHT(User!B573,(LEN(User!B573)-LEN(I573))))","v":{"$error":"#VALUE!"}}]
[{"$f":"LOWER(LEFT(User!B574,LEN(I574)))","v":""},{"$f":"ABS(RIGHT(User!B574,(LEN(User!B574)-LEN(I574))))","v":{"$error":"#VALUE!"}}]
[{"$f":"LOWER(LEFT(User!B575,LEN(I575)))","v":""},{"$f":"ABS(RIGHT(User!B575,(LEN(User!B575)-LEN(I575))))","v":{"$error":"#VALUE!"}}]
[{"$f":"LOWER(LEFT(User!B576,LEN(I576)))","v":""},{"$f":"ABS(RIGHT(User!B576,(LEN(User!B576)-LEN(I576))))","v":{"$error":"#VALUE!"}}]
[{"$f":"LOWER(LEFT(User!B577,LEN(I577)))","v":""},{"$f":"ABS(RIGHT(User!B577,(LEN(User!B577)-LEN(I577))))","v":{"$error":"#VALUE!"}}]
[{"$f":"LOWER(LEFT(User!B578,LEN(I578)))","v":""},{"$f":"ABS(RIGHT(User!B578,(LEN(User!B578)-LEN(I578))))","v":{"$error":"#VALUE!"}}]
[{"$f":"LOWER(LEFT(User!B579,LEN(I579)))","v":""},{"$f":"ABS(RIGHT(User!B579,(LEN(User!B579)-LEN(I579))))","v":{"$error":"#VALUE!"}}]
[{"$f":"LOWER(LEFT(User!B580,LEN(I580)))","v":""},{"$f":"ABS(RIGHT(User!B580,(LEN(User!B580)-LEN(I580))))","v":{"$error":"#VALUE!"}}]
[{"$f":"LOWER(LEFT(User!B581,LEN(I581)))","v":""},{"$f":"ABS(RIGHT(User!B581,(LEN(User!B581)-LEN(I581))))","v":{"$error":"#VALUE!"}}]
[{"$f":"LOWER(LEFT(User!B582,LEN(I582)))","v":""},{"$f":"ABS(RIGHT(User!B582,(LEN(User!B582)-LEN(I582))))","v":{"$error":"#VALUE!"}}]
[{"$f":"LOWER(LEFT(User!B583,LEN(I583)))","v":""},{"$f":"ABS(RIGHT(User!B583,(LEN(User!B583)-LEN(I583))))","v":{"$error":"#VALUE!"}}]
[{"$f":"LOWER(LEFT(User!B584,LEN(I584)))","v":""},{"$f":"ABS(RIGHT(User!B584,(LEN(User!B584)-LEN(I584))))","v":{"$error":"#VALUE!"}}]
[{"$f":"LOWER(LEFT(User!B585,LEN(I585)))","v":""},{"$f":"ABS(RIGHT(User!B585,(LEN(User!B585)-LEN(I585))))","v":{"$error":"#VALUE!"}}]
[{"$f":"LOWER(LEFT(User!B586,LEN(I586)))","v":""},{"$f":"ABS(RIGHT(User!B586,(LEN(User!B586)-LEN(I586))))","v":{"$error":"#VALUE!"}}]
[{"$f":"LOWER(LEFT(User!B587,LEN(I587)))","v":""},{"$f":"ABS(RIGHT(User!B587,(LEN(User!B587)-LEN(I587))))","v":{"$error":"#VALUE!"}}]
[{"$f":"LOWER(LEFT(User!B588,LEN(I588)))","v":""},{"$f":"ABS(RIGHT(User!B588,(LEN(User!B588)-LEN(I588))))","v":{"$error":"#VALUE!"}}]
[{"$f":"LOWER(LEFT(User!B589,LEN(I589)))","v":""},{"$f":"ABS(RIGHT(User!B589,(LEN(User!B589)-LEN(I589))))","v":{"$error":"#VALUE!"}}]
[{"$f":"LOWER(LEFT(User!B590,LEN(I590)))","v":""},{"$f":"ABS(RIGHT(User!B590,(LEN(User!B590)-LEN(I590))))","v":{"$error":"#VALUE!"}}]
[{"$f":"LOWER(LEFT(User!B591,LEN(I591)))","v":""},{"$f":"ABS(RIGHT(User!B591,(LEN(User!B591)-LEN(I591))))","v":{"$error":"#VALUE!"}}]
[{"$f":"LOWER(LEFT(User!B592,LEN(I592)))","v":""},{"$f":"ABS(RIGHT(User!B592,(LEN(User!B592)-LEN(I592))))","v":{"$error":"#VALUE!"}}]
[{"$f":"LOWER(LEFT(User!B593,LEN(I593)))","v":""},{"$f":"ABS(RIGHT(User!B593,(LEN(User!B593)-LEN(I593))))","v":{"$error":"#VALUE!"}}]
[{"$f":"LOWER(LEFT(User!B594,LEN(I594)))","v":""},{"$f":"ABS(RIGHT(User!B594,(LEN(User!B594)-LEN(I594))))","v":{"$error":"#VALUE!"}}]
[{"$f":"LOWER(LEFT(User!B595,LEN(I595)))","v":""},{"$f":"ABS(RIGHT(User!B595,(LEN(User!B595)-LEN(I595))))","v":{"$error":"#VALUE!"}}]
[{"$f":"LOWER(LEFT(User!B596,LEN(I596)))","v":""},{"$f":"ABS(RIGHT(User!B596,(LEN(User!B596)-LEN(I596))))","v":{"$error":"#VALUE!"}}]
[{"$f":"LOWER(LEFT(User!B597,LEN(I597)))","v":""},{"$f":"ABS(RIGHT(User!B597,(LEN(User!B597)-LEN(I597))))","v":{"$error":"#VALUE!"}}]
[{"$f":"LOWER(LEFT(User!B598,LEN(I598)))","v":""},{"$f":"ABS(RIGHT(User!B598,(LEN(User!B598)-LEN(I598))))","v":{"$error":"#VALUE!"}}]
[{"$f":"LOWER(LEFT(User!B599,LEN(I599)))","v":""},{"$f":"ABS(RIGHT(User!B599,(LEN(User!B599)-LEN(I599))))","v":{"$error":"#VALUE!"}}]
[{"$f":"LOWER(LEFT(User!B600,LEN(I600)))","v":""},{"$f":"ABS(RIGHT(User!B600,(LEN(User!B600)-LEN(I600))))","v":{"$error":"#VALUE!"}}]
[{"$f":"LOWER(LEFT(User!B601,LEN(I601)))","v":""},{"$f":"ABS(RIGHT(User!B601,(LEN(User!B601)-LEN(I601))))","v":{"$error":"#VALUE!"}}]
[{"$f":"LOWER(LEFT(User!B602,LEN(I602)))","v":""},{"$f":"ABS(RIGHT(User!B602,(LEN(User!B602)-LEN(I602))))","v":{"$error":"#VALUE!"}}]
[{"$f":"LOWER(LEFT(User!B603,LEN(I603)))","v":""},{"$f":"ABS(RIGHT(User!B603,(LEN(User!B603)-LEN(I603))))","v":{"$error":"#VALUE!"}}]
[{"$f":"LOWER(LEFT(User!B604,LEN(I604)))","v":""},{"$f":"ABS(RIGHT(User!B604,(LEN(User!B604)-LEN(I604))))","v":{"$error":"#VALUE!"}}]
[{"$f":"LOWER(LEFT(User!B605,LEN(I605)))","v":""},{"$f":"ABS(RIGHT(User!B605,(LEN(User!B605)-LEN(I605))))","v":{"$error":"#VALUE!"}}]
[{"$f":"LOWER(LEFT(User!B606,LEN(I606)))","v":""},{"$f":"ABS(RIGHT(User!B606,(LEN(User!B606)-LEN(I606))))","v":{"$error":"#VALUE!"}}]
[{"$f":"LOWER(LEFT(User!B607,LEN(I607)))","v":""},{"$f":"ABS(RIGHT(User!B607,(LEN(User!B607)-LEN(I607))))","v":{"$error":"#VALUE!"}}]
[{"$f":"LOWER(LEFT(User!B608,LEN(I608)))","v":""},{"$f":"ABS(RIGHT(User!B608,(LEN(User!B608)-LEN(I608))))","v":{"$error":"#VALUE!"}}]
[{"$f":"LOWER(LEFT(User!B609,LEN(I609)))","v":""},{"$f":"ABS(RIGHT(User!B609,(LEN(User!B609)-LEN(I609))))","v":{"$error":"#VALUE!"}}]
[{"$f":"LOWER(LEFT(User!B610,LEN(I610)))","v":""},{"$f":"ABS(RIGHT(User!B610,(LEN(User!B610)-LEN(I610))))","v":{"$error":"#VALUE!"}}]
[{"$f":"LOWER(LEFT(User!B611,LEN(I611)))","v":""},{"$f":"ABS(RIGHT(User!B611,(LEN(User!B611)-LEN(I611))))","v":{"$error":"#VALUE!"}}]
[{"$f":"LOWER(LEFT(User!B612,LEN(I612)))","v":""},{"$f":"ABS(RIGHT(User!B612,(LEN(User!B612)-LEN(I612))))","v":{"$error":"#VALUE!"}}]
[{"$f":"LOWER(LEFT(User!B613,LEN(I613)))","v":""},{"$f":"ABS(RIGHT(User!B613,(LEN(User!B613)-LEN(I613))))","v":{"$error":"#VALUE!"}}]
[{"$f":"LOWER(LEFT(User!B614,LEN(I614)))","v":""},{"$f":"ABS(RIGHT(User!B614,(LEN(User!B614)-LEN(I614))))","v":{"$error":"#VALUE!"}}]
[{"$f":"LOWER(LEFT(User!B615,LEN(I615)))","v":""},{"$f":"ABS(RIGHT(User!B615,(LEN(User!B615)-LEN(I615))))","v":{"$error":"#VALUE!"}}]
[{"$f":"LOWER(LEFT(User!B616,LEN(I616)))","v":""},{"$f":"ABS(RIGHT(User!B616,(LEN(User!B616)-LEN(I616))))","v":{"$error":"#VALUE!"}}]
[{"$f":"LOWER(LEFT(User!B617,LEN(I617)))","v":""},{"$f":"ABS(RIGHT(User!B617,(LEN(User!B617)-LEN(I617))))","v":{"$error":"#VALUE!"}}]
[{"$f":"LOWER(LEFT(User!B618,LEN(I618)))","v":""},{"$f":"ABS(RIGHT(User!B618,(LEN(User!B618)-LEN(I618))))","v":{"$error":"#VALUE!"}}]
[{"$f":"LOWER(LEFT(User!B619,LEN(I619)))","v":""},{"$f":"ABS(RIGHT(User!B619,(LEN(User!B619)-LEN(I619))))","v":{"$error":"#VALUE!"}}]
[{"$f":"LOWER(LEFT(User!B620,LEN(I620)))","v":""},{"$f":"ABS(RIGHT(User!B620,(LEN(User!B620)-LEN(I620))))","v":{"$error":"#VALUE!"}}]
[{"$f":"LOWER(LEFT(User!B621,LEN(I621)))","v":""},{"$f":"ABS(RIGHT(User!B621,(LEN(User!B621)-LEN(I621))))","v":{"$error":"#VALUE!"}}]
[{"$f":"LOWER(LEFT(User!B622,LEN(I622)))","v":""},{"$f":"ABS(RIGHT(User!B622,(LEN(User!B622)-LEN(I622))))","v":{"$error":"#VALUE!"}}]
[{"$f":"LOWER(LEFT(User!B623,LEN(I623)))","v":""},{"$f":"ABS(RIGHT(User!B623,(LEN(User!B623)-LEN(I623))))","v":{"$error":"#VALUE!"}}]
[{"$f":"LOWER(LEFT(User!B624,LEN(I624)))","v":""},{"$f":"ABS(RIGHT(User!B624,(LEN(User!B624)-LEN(I624))))","v":{"$error":"#VALUE!"}}]
[{"$f":"LOWER(LEFT(User!B625,LEN(I625)))","v":""},{"$f":"ABS(RIGHT(User!B625,(LEN(User!B625)-LEN(I625))))","v":{"$error":"#VALUE!"}}]
[{"$f":"LOWER(LEFT(User!B626,LEN(I626)))","v":""},{"$f":"ABS(RIGHT(User!B626,(LEN(User!B626)-LEN(I626))))","v":{"$error":"#VALUE!"}}]
[{"$f":"LOWER(LEFT(User!B627,LEN(I627)))","v":""},{"$f":"ABS(RIGHT(User!B627,(LEN(User!B627)-LEN(I627))))","v":{"$error":"#VALUE!"}}]
[{"$f":"LOWER(LEFT(User!B628,LEN(I628)))","v":""},{"$f":"ABS(RIGHT(User!B628,(LEN(User!B628)-LEN(I628))))","v":{"$error":"#VALUE!"}}]
[{"$f":"LOWER(LEFT(User!B629,LEN(I629)))","v":""},{"$f":"ABS(RIGHT(User!B629,(LEN(User!B629)-LEN(I629))))","v":{"$error":"#VALUE!"}}]
[{"$f":"LOWER(LEFT(User!B630,LEN(I630)))","v":""},{"$f":"ABS(RIGHT(User!B630,(LEN(User!B630)-LEN(I630))))","v":{"$error":"#VALUE!"}}]
[{"$f":"LOWER(LEFT(User!B631,LEN(I631)))","v":""},{"$f":"ABS(RIGHT(User!B631,(LEN(User!B631)-LEN(I631))))","v":{"$error":"#VALUE!"}}]
[{"$f":"LOWER(LEFT(User!B632,LEN(I632)))","v":""},{"$f":"ABS(RIGHT(User!B632,(LEN(User!B632)-LEN(I632))))","v":{"$error":"#VALUE!"}}]
[{"$f":"LOWER(LEFT(User!B633,LEN(I633)))","v":""},{"$f":"ABS(RIGHT(User!B633,(LEN(User!B633)-LEN(I633))))","v":{"$error":"#VALUE!"}}]
[{"$f":"LOWER(LEFT(User!B634,LEN(I634)))","v":""},{"$f":"ABS(RIGHT(User!B634,(LEN(User!B634)-LEN(I634))))","v":{"$error":"#VALUE!"}}]
[{"$f":"LOWER(LEFT(User!B635,LEN(I635)))","v":""},{"$f":"ABS(RIGHT(User!B635,(LEN(User!B635)-LEN(I635))))","v":{"$error":"#VALUE!"}}]
[{"$f":"LOWER(LEFT(User!B636,LEN(I636)))","v":""},{"$f":"ABS(RIGHT(User!B636,(LEN(User!B636)-LEN(I636))))","v":{"$error":"#VALUE!"}}]
[{"$f":"LOWER(LEFT(User!B637,LEN(I637)))","v":""},{"$f":"ABS(RIGHT(User!B637,(LEN(User!B637)-LEN(I637))))","v":{"$error":"#VALUE!"}}]
[{"$f":"LOWER(LEFT(User!B638,LEN(I638)))","v":""},{"$f":"ABS(RIGHT(User!B638,(LEN(User!B638)-LEN(I638))))","v":{"$error":"#VALUE!"}}]
[{"$f":"LOWER(LEFT(User!B639,LEN(I639)))","v":""},{"$f":"ABS(RIGHT(User!B639,(LEN(User!B639)-LEN(I639))))","v":{"$error":"#VALUE!"}}]
[{"$f":"LOWER(LEFT(User!B640,LEN(I640)))","v":""},{"$f":"ABS(RIGHT(User!B640,(LEN(User!B640)-LEN(I640))))","v":{"$error":"#VALUE!"}}]
[{"$f":"LOWER(LEFT(User!B641,LEN(I641)))","v":""},{"$f":"ABS(RIGHT(User!B641,(LEN(User!B641)-LEN(I641))))","v":{"$error":"#VALUE!"}}]
[{"$f":"LOWER(LEFT(User!B642,LEN(I642)))","v":""},{"$f":"ABS(RIGHT(User!B642,(LEN(User!B642)-LEN(I642))))","v":{"$error":"#VALUE!"}}]
[{"$f":"LOWER(LEFT(User!B643,LEN(I643)))","v":""},{"$f":"ABS(RIGHT(User!B643,(LEN(User!B643)-LEN(I643))))","v":{"$error":"#VALUE!"}}]
[{"$f":"LOWER(LEFT(User!B644,LEN(I644)))","v":""},{"$f":"ABS(RIGHT(User!B644,(LEN(User!B644)-LEN(I644))))","v":{"$error":"#VALUE!"}}]
[{"$f":"LOWER(LEFT(User!B645,LEN(I645)))","v":""},{"$f":"ABS(RIGHT(User!B645,(LEN(User!B645)-LEN(I645))))","v":{"$error":"#VALUE!"}}]
[{"$f":"LOWER(LEFT(User!B646,LEN(I646)))","v":""},{"$f":"ABS(RIGHT(User!B646,(LEN(User!B646)-LEN(I646))))","v":{"$error":"#VALUE!"}}]
[{"$f":"LOWER(LEFT(User!B647,LEN(I647)))","v":""},{"$f":"ABS(RIGHT(User!B647,(LEN(User!B647)-LEN(I647))))","v":{"$error":"#VALUE!"}}]
[{"$f":"LOWER(LEFT(User!B648,LEN(I648)))","v":""},{"$f":"ABS(RIGHT(User!B648,(LEN(User!B648)-LEN(I648))))","v":{"$error":"#VALUE!"}}]
[{"$f":"LOWER(LEFT(User!B649,LEN(I649)))","v":""},{"$f":"ABS(RIGHT(User!B649,(LEN(User!B649)-LEN(I649))))","v":{"$error":"#VALUE!"}}]
[{"$f":"LOWER(LEFT(User!B650,LEN(I650)))","v":""},{"$f":"ABS(RIGHT(User!B650,(LEN(User!B650)-LEN(I650))))","v":{"$error":"#VALUE!"}}]
[{"$f":"LOWER(LEFT(User!B651,LEN(I651)))","v":""},{"$f":"ABS(RIGHT(User!B651,(LEN(User!B651)-LEN(I651))))","v":{"$error":"#VALUE!"}}]
[{"$f":"LOWER(LEFT(User!B652,LEN(I652)))","v":""},{"$f":"ABS(RIGHT(User!B652,(LEN(User!B652)-LEN(I652))))","v":{"$error":"#VALUE!"}}]
[{"$f":"LOWER(LEFT(User!B653,LEN(I653)))","v":""},{"$f":"ABS(RIGHT(User!B653,(LEN(User!B653)-LEN(I653))))","v":{"$error":"#VALUE!"}}]
[{"$f":"LOWER(LEFT(User!B654,LEN(I654)))","v":""},{"$f":"ABS(RIGHT(User!B654,(LEN(User!B654)-LEN(I654))))","v":{"$error":"#VALUE!"}}]
[{"$f":"LOWER(LEFT(User!B655,LEN(I655)))","v":""},{"$f":"ABS(RIGHT(User!B655,(LEN(User!B655)-LEN(I655))))","v":{"$error":"#VALUE!"}}]
[{"$f":"LOWER(LEFT(User!B656,LEN(I656)))","v":""},{"$f":"ABS(RIGHT(User!B656,(LEN(User!B656)-LEN(I656))))","v":{"$error":"#VALUE!"}}]
[{"$f":"LOWER(LEFT(User!B657,LEN(I657)))","v":""},{"$f":"ABS(RIGHT(User!B657,(LEN(User!B657)-LEN(I657))))","v":{"$error":"#VALUE!"}}]
[{"$f":"LOWER(LEFT(User!B658,LEN(I658)))","v":""},{"$f":"ABS(RIGHT(User!B658,(LEN(User!B658)-LEN(I658))))","v":{"$error":"#VALUE!"}}]
[{"$f":"LOWER(LEFT(User!B659,LEN(I659)))","v":""},{"$f":"ABS(RIGHT(User!B659,(LEN(User!B659)-LEN(I659))))","v":{"$error":"#VALUE!"}}]
[{"$f":"LOWER(LEFT(User!B660,LEN(I660)))","v":""},{"$f":"ABS(RIGHT(User!B660,(LEN(User!B660)-LEN(I660))))","v":{"$error":"#VALUE!"}}]
[{"$f":"LOWER(LEFT(User!B661,LEN(I661)))","v":""},{"$f":"ABS(RIGHT(User!B661,(LEN(User!B661)-LEN(I661))))","v":{"$error":"#VALUE!"}}]
[{"$f":"LOWER(LEFT(User!B662,LEN(I662)))","v":""},{"$f":"ABS(RIGHT(User!B662,(LEN(User!B662)-LEN(I662))))","v":{"$error":"#VALUE!"}}]
[{"$f":"LOWER(LEFT(User!B663,LEN(I663)))","v":""},{"$f":"ABS(RIGHT(User!B663,(LEN(User!B663)-LEN(I663))))","v":{"$error":"#VALUE!"}}]
[{"$f":"LOWER(LEFT(User!B664,LEN(I664)))","v":""},{"$f":"ABS(RIGHT(User!B664,(LEN(User!B664)-LEN(I664))))","v":{"$error":"#VALUE!"}}]
[{"$f":"LOWER(LEFT(User!B665,LEN(I665)))","v":""},{"$f":"ABS(RIGHT(User!B665,(LEN(User!B665)-LEN(I665))))","v":{"$error":"#VALUE!"}}]
[{"$f":"LOWER(LEFT(User!B666,LEN(I666)))","v":""},{"$f":"ABS(RIGHT(User!B666,(LEN(User!B666)-LEN(I666))))","v":{"$error":"#VALUE!"}}]
[{"$f":"LOWER(LEFT(User!B667,LEN(I667)))","v":""},{"$f":"ABS(RIGHT(User!B667,(LEN(User!B667)-LEN(I667))))","v":{"$error":"#VALUE!"}}]
[{"$f":"LOWER(LEFT(User!B668,LEN(I668)))","v":""},{"$f":"ABS(RIGHT(User!B668,(LEN(User!B668)-LEN(I668))))","v":{"$error":"#VALUE!"}}]
[{"$f":"LOWER(LEFT(User!B669,LEN(I669)))","v":""},{"$f":"ABS(RIGHT(User!B669,(LEN(User!B669)-LEN(I669))))","v":{"$error":"#VALUE!"}}]
[{"$f":"LOWER(LEFT(User!B670,LEN(I670)))","v":""},{"$f":"ABS(RIGHT(User!B670,(LEN(User!B670)-LEN(I670))))","v":{"$error":"#VALUE!"}}]
[{"$f":"LOWER(LEFT(User!B671,LEN(I671)))","v":""},{"$f":"ABS(RIGHT(User!B671,(LEN(User!B671)-LEN(I671))))","v":{"$error":"#VALUE!"}}]
[{"$f":"LOWER(LEFT(User!B672,LEN(I672)))","v":""},{"$f":"ABS(RIGHT(User!B672,(LEN(User!B672)-LEN(I672))))","v":{"$error":"#VALUE!"}}]
[{"$f":"LOWER(LEFT(User!B673,LEN(I673)))","v":""},{"$f":"ABS(RIGHT(User!B673,(LEN(User!B673)-LEN(I673))))","v":{"$error":"#VALUE!"}}]
[{"$f":"LOWER(LEFT(User!B674,LEN(I674)))","v":""},{"$f":"ABS(RIGHT(User!B674,(LEN(User!B674)-LEN(I674))))","v":{"$error":"#VALUE!"}}]
[{"$f":"LOWER(LEFT(User!B675,LEN(I675)))","v":""},{"$f":"ABS(RIGHT(User!B675,(LEN(User!B675)-LEN(I675))))","v":{"$error":"#VALUE!"}}]
[{"$f":"LOWER(LEFT(User!B676,LEN(I676)))","v":""},{"$f":"ABS(RIGHT(User!B676,(LEN(User!B676)-LEN(I676))))","v":{"$error":"#VALUE!"}}]
[{"$f":"LOWER(LEFT(User!B677,LEN(I677)))","v":""},{"$f":"ABS(RIGHT(User!B677,(LEN(User!B677)-LEN(I677))))","v":{"$error":"#VALUE!"}}]
[{"$f":"LOWER(LEFT(User!B678,LEN(I678)))","v":""},{"$f":"ABS(RIGHT(User!B678,(LEN(User!B678)-LEN(I678))))","v":{"$error":"#VALUE!"}}]
[{"$f":"LOWER(LEFT(User!B679,LEN(I679)))","v":""},{"$f":"ABS(RIGHT(User!B679,(LEN(User!B679)-LEN(I679))))","v":{"$error":"#VALUE!"}}]
[{"$f":"LOWER(LEFT(User!B680,LEN(I680)))","v":""},{"$f":"ABS(RIGHT(User!B680,(LEN(User!B680)-LEN(I680))))","v":{"$error":"#VALUE!"}}]
[{"$f":"LOWER(LEFT(User!B681,LEN(I681)))","v":""},{"$f":"ABS(RIGHT(User!B681,(LEN(User!B681)-LEN(I681))))","v":{"$error":"#VALUE!"}}]
[{"$f":"LOWER(LEFT(User!B682,LEN(I682)))","v":""},{"$f":"ABS(RIGHT(User!B682,(LEN(User!B682)-LEN(I682))))","v":{"$error":"#VALUE!"}}]
[{"$f":"LOWER(LEFT(User!B683,LEN(I683)))","v":""},{"$f":"ABS(RIGHT(User!B683,(LEN(User!B683)-LEN(I683))))","v":{"$error":"#VALUE!"}}]
[{"$f":"LOWER(LEFT(User!B684,LEN(I684)))","v":""},{"$f":"ABS(RIGHT(User!B684,(LEN(User!B684)-LEN(I684))))","v":{"$error":"#VALUE!"}}]
[{"$f":"LOWER(LEFT(User!B685,LEN(I685)))","v":""},{"$f":"ABS(RIGHT(User!B685,(LEN(User!B685)-LEN(I685))))","v":{"$error":"#VALUE!"}}]
[{"$f":"LOWER(LEFT(User!B686,LEN(I686)))","v":""},{"$f":"ABS(RIGHT(User!B686,(LEN(User!B686)-LEN(I686))))","v":{"$error":"#VALUE!"}}]
[{"$f":"LOWER(LEFT(User!B687,LEN(I687)))","v":""},{"$f":"ABS(RIGHT(User!B687,(LEN(User!B687)-LEN(I687))))","v":{"$error":"#VALUE!"}}]
[{"$f":"LOWER(LEFT(User!B688,LEN(I688)))","v":""},{"$f":"ABS(RIGHT(User!B688,(LEN(User!B688)-LEN(I688))))","v":{"$error":"#VALUE!"}}]
[{"$f":"LOWER(LEFT(User!B689,LEN(I689)))","v":""},{"$f":"ABS(RIGHT(User!B689,(LEN(User!B689)-LEN(I689))))","v":{"$error":"#VALUE!"}}]
[{"$f":"LOWER(LEFT(User!B690,LEN(I690)))","v":""},{"$f":"ABS(RIGHT(User!B690,(LEN(User!B690)-LEN(I690))))","v":{"$error":"#VALUE!"}}]
[{"$f":"LOWER(LEFT(User!B691,LEN(I691)))","v":""},{"$f":"ABS(RIGHT(User!B691,(LEN(User!B691)-LEN(I691))))","v":{"$error":"#VALUE!"}}]
[{"$f":"LOWER(LEFT(User!B692,LEN(I692)))","v":""},{"$f":"ABS(RIGHT(User!B692,(LEN(User!B692)-LEN(I692))))","v":{"$error":"#VALUE!"}}]
[{"$f":"LOWER(LEFT(User!B693,LEN(I693)))","v":""},{"$f":"ABS(RIGHT(User!B693,(LEN(User!B693)-LEN(I693))))","v":{"$error":"#VALUE!"}}]
[{"$f":"LOWER(LEFT(User!B694,LEN(I694)))","v":""},{"$f":"ABS(RIGHT(User!B694,(LEN(User!B694)-LEN(I694))))","v":{"$error":"#VALUE!"}}]
[{"$f":"LOWER(LEFT(User!B695,LEN(I695)))","v":""},{"$f":"ABS(RIGHT(User!B695,(LEN(User!B695)-LEN(I695))))","v":{"$error":"#VALUE!"}}]
[{"$f":"LOWER(LEFT(User!B696,LEN(I696)))","v":""},{"$f":"ABS(RIGHT(User!B696,(LEN(User!B696)-LEN(I696))))","v":{"$error":"#VALUE!"}}]
[{"$f":"LOWER(LEFT(User!B697,LEN(I697)))","v":""},{"$f":"ABS(RIGHT(User!B697,(LEN(User!B697)-LEN(I697))))","v":{"$error":"#VALUE!"}}]
[{"$f":"LOWER(LEFT(User!B698,LEN(I698)))","v":""},{"$f":"ABS(RIGHT(User!B698,(LEN(User!B698)-LEN(I698))))","v":{"$error":"#VALUE!"}}]
[{"$f":"LOWER(LEFT(User!B699,LEN(I699)))","v":""},{"$f":"ABS(RIGHT(User!B699,(LEN(User!B699)-LEN(I699))))","v":{"$error":"#VALUE!"}}]
[{"$f":"LOWER(LEFT(User!B700,LEN(I700)))","v":""},{"$f":"ABS(RIGHT(User!B700,(LEN(User!B700)-LEN(I700))))","v":{"$error":"#VALUE!"}}]
[{"$f":"LOWER(LEFT(User!B701,LEN(I701)))","v":""},{"$f":"ABS(RIGHT(User!B701,(LEN(User!B701)-LEN(I701))))","v":{"$error":"#VALUE!"}}]
[{"$f":"LOWER(LEFT(User!B702,LEN(I702)))","v":""},{"$f":"ABS(RIGHT(User!B702,(LEN(User!B702)-LEN(I702))))","v":{"$error":"#VALUE!"}}]
[{"$f":"LOWER(LEFT(User!B703,LEN(I703)))","v":""},{"$f":"ABS(RIGHT(User!B703,(LEN(User!B703)-LEN(I703))))","v":{"$error":"#VALUE!"}}]
[{"$f":"LOWER(LEFT(User!B704,LEN(I704)))","v":""},{"$f":"ABS(RIGHT(User!B704,(LEN(User!B704)-LEN(I704))))","v":{"$error":"#VALUE!"}}]
[{"$f":"LOWER(LEFT(User!B705,LEN(I705)))","v":""},{"$f":"ABS(RIGHT(User!B705,(LEN(User!B705)-LEN(I705))))","v":{"$error":"#VALUE!"}}]
[{"$f":"LOWER(LEFT(User!B706,LEN(I706)))","v":""},{"$f":"ABS(RIGHT(User!B706,(LEN(User!B706)-LEN(I706))))","v":{"$error":"#VALUE!"}}]
[{"$f":"LOWER(LEFT(User!B707,LEN(I707)))","v":""},{"$f":"ABS(RIGHT(User!B707,(LEN(User!B707)-LEN(I707))))","v":{"$error":"#VALUE!"}}]
[{"$f":"LOWER(LEFT(User!B708,LEN(I708)))","v":""},{"$f":"ABS(RIGHT(User!B708,(LEN(User!B708)-LEN(I708))))","v":{"$error":"#VALUE!"}}]
[{"$f":"LOWER(LEFT(User!B709,LEN(I709)))","v":""},{"$f":"ABS(RIGHT(User!B709,(LEN(User!B709)-LEN(I709))))","v":{"$error":"#VALUE!"}}]
[{"$f":"LOWER(LEFT(User!B710,LEN(I710)))","v":""},{"$f":"ABS(RIGHT(User!B710,(LEN(User!B710)-LEN(I710))))","v":{"$error":"#VALUE!"}}]
[{"$f":"LOWER(LEFT(User!B711,LEN(I711)))","v":""},{"$f":"ABS(RIGHT(User!B711,(LEN(User!B711)-LEN(I711))))","v":{"$error":"#VALUE!"}}]
[{"$f":"LOWER(LEFT(User!B712,LEN(I712)))","v":""},{"$f":"ABS(RIGHT(User!B712,(LEN(User!B712)-LEN(I712))))","v":{"$error":"#VALUE!"}}]
[{"$f":"LOWER(LEFT(User!B713,LEN(I713)))","v":""},{"$f":"ABS(RIGHT(User!B713,(LEN(User!B713)-LEN(I713))))","v":{"$error":"#VALUE!"}}]
[{"$f":"LOWER(LEFT(User!B714,LEN(I714)))","v":""},{"$f":"ABS(RIGHT(User!B714,(LEN(User!B714)-LEN(I714))))","v":{"$error":"#VALUE!"}}]
[{"$f":"LOWER(LEFT(User!B715,LEN(I715)))","v":""},{"$f":"ABS(RIGHT(User!B715,(LEN(User!B715)-LEN(I715))))","v":{"$error":"#VALUE!"}}]
[{"$f":"LOWER(LEFT(User!B716,LEN(I716)))","v":""},{"$f":"ABS(RIGHT(User!B716,(LEN(User!B716)-LEN(I716))))","v":{"$error":"#VALUE!"}}]
[{"$f":"LOWER(LEFT(User!B717,LEN(I717)))","v":""},{"$f":"ABS(RIGHT(User!B717,(LEN(User!B717)-LEN(I717))))","v":{"$error":"#VALUE!"}}]
[{"$f":"LOWER(LEFT(User!B718,LEN(I718)))","v":""},{"$f":"ABS(RIGHT(User!B718,(LEN(User!B718)-LEN(I718))))","v":{"$error":"#VALUE!"}}]
[{"$f":"LOWER(LEFT(User!B719,LEN(I719)))","v":""},{"$f":"ABS(RIGHT(User!B719,(LEN(User!B719)-LEN(I719))))","v":{"$error":"#VALUE!"}}]
[{"$f":"LOWER(LEFT(User!B720,LEN(I720)))","v":""},{"$f":"ABS(RIGHT(User!B720,(LEN(User!B720)-LEN(I720))))","v":{"$error":"#VALUE!"}}]
[{"$f":"LOWER(LEFT(User!B721,LEN(I721)))","v":""},{"$f":"ABS(RIGHT(User!B721,(LEN(User!B721)-LEN(I721))))","v":{"$error":"#VALUE!"}}]
[{"$f":"LOWER(LEFT(User!B722,LEN(I722)))","v":""},{"$f":"ABS(RIGHT(User!B722,(LEN(User!B722)-LEN(I722))))","v":{"$error":"#VALUE!"}}]
[{"$f":"LOWER(LEFT(User!B723,LEN(I723)))","v":""},{"$f":"ABS(RIGHT(User!B723,(LEN(User!B723)-LEN(I723))))","v":{"$error":"#VALUE!"}}]
[{"$f":"LOWER(LEFT(User!B724,LEN(I724)))","v":""},{"$f":"ABS(RIGHT(User!B724,(LEN(User!B724)-LEN(I724))))","v":{"$error":"#VALUE!"}}]
[{"$f":"LOWER(LEFT(User!B725,LEN(I725)))","v":""},{"$f":"ABS(RIGHT(User!B725,(LEN(User!B725)-LEN(I725))))","v":{"$error":"#VALUE!"}}]
[{"$f":"LOWER(LEFT(User!B726,LEN(I726)))","v":""},{"$f":"ABS(RIGHT(User!B726,(LEN(User!B726)-LEN(I726))))","v":{"$error":"#VALUE!"}}]
[{"$f":"LOWER(LEFT(User!B727,LEN(I727)))","v":""},{"$f":"ABS(RIGHT(User!B727,(LEN(User!B727)-LEN(I727))))","v":{"$error":"#VALUE!"}}]
[{"$f":"LOWER(LEFT(User!B728,LEN(I728)))","v":""},{"$f":"ABS(RIGHT(User!B728,(LEN(User!B728)-LEN(I728))))","v":{"$error":"#VALUE!"}}]
[{"$f":"LOWER(LEFT(User!B729,LEN(I729)))","v":""},{"$f":"ABS(RIGHT(User!B729,(LEN(User!B729)-LEN(I729))))","v":{"$error":"#VALUE!"}}]
[{"$f":"LOWER(LEFT(User!B730,LEN(I730)))","v":""},{"$f":"ABS(RIGHT(User!B730,(LEN(User!B730)-LEN(I730))))","v":{"$error":"#VALUE!"}}]
[{"$f":"LOWER(LEFT(User!B731,LEN(I731)))","v":""},{"$f":"ABS(RIGHT(User!B731,(LEN(User!B731)-LEN(I731))))","v":{"$error":"#VALUE!"}}]
[{"$f":"LOWER(LEFT(User!B732,LEN(I732)))","v":""},{"$f":"ABS(RIGHT(User!B732,(LEN(User!B732)-LEN(I732))))","v":{"$error":"#VALUE!"}}]
[{"$f":"LOWER(LEFT(User!B733,LEN(I733)))","v":""},{"$f":"ABS(RIGHT(User!B733,(LEN(User!B733)-LEN(I733))))","v":{"$error":"#VALUE!"}}]
[{"$f":"LOWER(LEFT(User!B734,LEN(I734)))","v":""},{"$f":"ABS(RIGHT(User!B734,(LEN(User!B734)-LEN(I734))))","v":{"$error":"#VALUE!"}}]
[{"$f":"LOWER(LEFT(User!B735,LEN(I735)))","v":""},{"$f":"ABS(RIGHT(User!B735,(LEN(User!B735)-LEN(I735))))","v":{"$error":"#VALUE!"}}]
[{"$f":"LOWER(LEFT(User!B736,LEN(I736)))","v":""},{"$f":"ABS(RIGHT(User!B736,(LEN(User!B736)-LEN(I736))))","v":{"$error":"#VALUE!"}}]
[{"$f":"LOWER(LEFT(User!B737,LEN(I737)))","v":""},{"$f":"ABS(RIGHT(User!B737,(LEN(User!B737)-LEN(I737))))","v":{"$error":"#VALUE!"}}]
[{"$f":"LOWER(LEFT(User!B738,LEN(I738)))","v":""},{"$f":"ABS(RIGHT(User!B738,(LEN(User!B738)-LEN(I738))))","v":{"$error":"#VALUE!"}}]
[{"$f":"LOWER(LEFT(User!B739,LEN(I739)))","v":""},{"$f":"ABS(RIGHT(User!B739,(LEN(User!B739)-LEN(I739))))","v":{"$error":"#VALUE!"}}]
[{"$f":"LOWER(LEFT(User!B740,LEN(I740)))","v":""},{"$f":"ABS(RIGHT(User!B740,(LEN(User!B740)-LEN(I740))))","v":{"$error":"#VALUE!"}}]
[{"$f":"LOWER(LEFT(User!B741,LEN(I741)))","v":""},{"$f":"ABS(RIGHT(User!B741,(LEN(User!B741)-LEN(I741))))","v":{"$error":"#VALUE!"}}]
[{"$f":"LOWER(LEFT(User!B742,LEN(I742)))","v":""},{"$f":"ABS(RIGHT(User!B742,(LEN(User!B742)-LEN(I742))))","v":{"$error":"#VALUE!"}}]
[{"$f":"LOWER(LEFT(User!B743,LEN(I743)))","v":""},{"$f":"ABS(RIGHT(User!B743,(LEN(User!B743)-LEN(I743))))","v":{"$error":"#VALUE!"}}]
[{"$f":"LOWER(LEFT(User!B744,LEN(I744)))","v":""},{"$f":"ABS(RIGHT(User!B744,(LEN(User!B744)-LEN(I744))))","v":{"$error":"#VALUE!"}}]
[{"$f":"LOWER(LEFT(User!B745,LEN(I745)))","v":""},{"$f":"ABS(RIGHT(User!B745,(LEN(User!B745)-LEN(I745))))","v":{"$error":"#VALUE!"}}]
[{"$f":"LOWER(LEFT(User!B746,LEN(I746)))","v":""},{"$f":"ABS(RIGHT(User!B746,(LEN(User!B746)-LEN(I746))))","v":{"$error":"#VALUE!"}}]
[{"$f":"LOWER(LEFT(User!B747,LEN(I747)))","v":""},{"$f":"ABS(RIGHT(User!B747,(LEN(User!B747)-LEN(I747))))","v":{"$error":"#VALUE!"}}]
[{"$f":"LOWER(LEFT(User!B748,LEN(I748)))","v":""},{"$f":"ABS(RIGHT(User!B748,(LEN(User!B748)-LEN(I748))))","v":{"$error":"#VALUE!"}}]
[{"$f":"LOWER(LEFT(User!B749,LEN(I749)))","v":""},{"$f":"ABS(RIGHT(User!B749,(LEN(User!B749)-LEN(I749))))","v":{"$error":"#VALUE!"}}]
[{"$f":"LOWER(LEFT(User!B750,LEN(I750)))","v":""},{"$f":"ABS(RIGHT(User!B750,(LEN(User!B750)-LEN(I750))))","v":{"$error":"#VALUE!"}}]
[{"$f":"LOWER(LEFT(User!B751,LEN(I751)))","v":""},{"$f":"ABS(RIGHT(User!B751,(LEN(User!B751)-LEN(I751))))","v":{"$error":"#VALUE!"}}]
[{"$f":"LOWER(LEFT(User!B752,LEN(I752)))","v":""},{"$f":"ABS(RIGHT(User!B752,(LEN(User!B752)-LEN(I752))))","v":{"$error":"#VALUE!"}}]
[{"$f":"LOWER(LEFT(User!B753,LEN(I753)))","v":""},{"$f":"ABS(RIGHT(User!B753,(LEN(User!B753)-LEN(I753))))","v":{"$error":"#VALUE!"}}]
[{"$f":"LOWER(LEFT(User!B754,LEN(I754)))","v":""},{"$f":"ABS(RIGHT(User!B754,(LEN(User!B754)-LEN(I754))))","v":{"$error":"#VALUE!"}}]
[{"$f":"LOWER(LEFT(User!B755,LEN(I755)))","v":""},{"$f":"ABS(RIGHT(User!B755,(LEN(User!B755)-LEN(I755))))","v":{"$error":"#VALUE!"}}]
[{"$f":"LOWER(LEFT(User!B756,LEN(I756)))","v":""},{"$f":"ABS(RIGHT(User!B756,(LEN(User!B756)-LEN(I756))))","v":{"$error":"#VALUE!"}}]
[{"$f":"LOWER(LEFT(User!B757,LEN(I757)))","v":""},{"$f":"ABS(RIGHT(User!B757,(LEN(User!B757)-LEN(I757))))","v":{"$error":"#VALUE!"}}]
[{"$f":"LOWER(LEFT(User!B758,LEN(I758)))","v":""},{"$f":"ABS(RIGHT(User!B758,(LEN(User!B758)-LEN(I758))))","v":{"$error":"#VALUE!"}}]
[{"$f":"LOWER(LEFT(User!B759,LEN(I759)))","v":""},{"$f":"ABS(RIGHT(User!B759,(LEN(User!B759)-LEN(I759))))","v":{"$error":"#VALUE!"}}]
[{"$f":"LOWER(LEFT(User!B760,LEN(I760)))","v":""},{"$f":"ABS(RIGHT(User!B760,(LEN(User!B760)-LEN(I760))))","v":{"$error":"#VALUE!"}}]
[{"$f":"LOWER(LEFT(User!B761,LEN(I761)))","v":""},{"$f":"ABS(RIGHT(User!B761,(LEN(User!B761)-LEN(I761))))","v":{"$error":"#VALUE!"}}]
[{"$f":"LOWER(LEFT(User!B762,LEN(I762)))","v":""},{"$f":"ABS(RIGHT(User!B762,(LEN(User!B762)-LEN(I762))))","v":{"$error":"#VALUE!"}}]
[{"$f":"LOWER(LEFT(User!B763,LEN(I763)))","v":""},{"$f":"ABS(RIGHT(User!B763,(LEN(User!B763)-LEN(I763))))","v":{"$error":"#VALUE!"}}]
[{"$f":"LOWER(LEFT(User!B764,LEN(I764)))","v":""},{"$f":"ABS(RIGHT(User!B764,(LEN(User!B764)-LEN(I764))))","v":{"$error":"#VALUE!"}}]
[{"$f":"LOWER(LEFT(User!B765,LEN(I765)))","v":""},{"$f":"ABS(RIGHT(User!B765,(LEN(User!B765)-LEN(I765))))","v":{"$error":"#VALUE!"}}]
[{"$f":"LOWER(LEFT(User!B766,LEN(I766)))","v":""},{"$f":"ABS(RIGHT(User!B766,(LEN(User!B766)-LEN(I766))))","v":{"$error":"#VALUE!"}}]
[{"$f":"LOWER(LEFT(User!B767,LEN(I767)))","v":""},{"$f":"ABS(RIGHT(User!B767,(LEN(User!B767)-LEN(I767))))","v":{"$error":"#VALUE!"}}]
[{"$f":"LOWER(LEFT(User!B768,LEN(I768)))","v":""},{"$f":"ABS(RIGHT(User!B768,(LEN(User!B768)-LEN(I768))))","v":{"$error":"#VALUE!"}}]
[{"$f":"LOWER(LEFT(User!B769,LEN(I769)))","v":""},{"$f":"ABS(RIGHT(User!B769,(LEN(User!B769)-LEN(I769))))","v":{"$error":"#VALUE!"}}]
[{"$f":"LOWER(LEFT(User!B770,LEN(I770)))","v":""},{"$f":"ABS(RIGHT(User!B770,(LEN(User!B770)-LEN(I770))))","v":{"$error":"#VALUE!"}}]
[{"$f":"LOWER(LEFT(User!B771,LEN(I771)))","v":""},{"$f":"ABS(RIGHT(User!B771,(LEN(User!B771)-LEN(I771))))","v":{"$error":"#VALUE!"}}]
[{"$f":"LOWER(LEFT(User!B772,LEN(I772)))","v":""},{"$f":"ABS(RIGHT(User!B772,(LEN(User!B772)-LEN(I772))))","v":{"$error":"#VALUE!"}}]
[{"$f":"LOWER(LEFT(User!B773,LEN(I773)))","v":""},{"$f":"ABS(RIGHT(User!B773,(LEN(User!B773)-LEN(I773))))","v":{"$error":"#VALUE!"}}]
[{"$f":"LOWER(LEFT(User!B774,LEN(I774)))","v":""},{"$f":"ABS(RIGHT(User!B774,(LEN(User!B774)-LEN(I774))))","v":{"$error":"#VALUE!"}}]
[{"$f":"LOWER(LEFT(User!B775,LEN(I775)))","v":""},{"$f":"ABS(RIGHT(User!B775,(LEN(User!B775)-LEN(I775))))","v":{"$error":"#VALUE!"}}]
[{"$f":"LOWER(LEFT(User!B776,LEN(I776)))","v":""},{"$f":"ABS(RIGHT(User!B776,(LEN(User!B776)-LEN(I776))))","v":{"$error":"#VALUE!"}}]
[{"$f":"LOWER(LEFT(User!B777,LEN(I777)))","v":""},{"$f":"ABS(RIGHT(User!B777,(LEN(User!B777)-LEN(I777))))","v":{"$error":"#VALUE!"}}]
[{"$f":"LOWER(LEFT(User!B778,LEN(I778)))","v":""},{"$f":"ABS(RIGHT(User!B778,(LEN(User!B778)-LEN(I778))))","v":{"$error":"#VALUE!"}}]
[{"$f":"LOWER(LEFT(User!B779,LEN(I779)))","v":""},{"$f":"ABS(RIGHT(User!B779,(LEN(User!B779)-LEN(I779))))","v":{"$error":"#VALUE!"}}]
[{"$f":"LOWER(LEFT(User!B780,LEN(I780)))","v":""},{"$f":"ABS(RIGHT(User!B780,(LEN(User!B780)-LEN(I780))))","v":{"$error":"#VALUE!"}}]
[{"$f":"LOWER(LEFT(User!B781,LEN(I781)))","v":""},{"$f":"ABS(RIGHT(User!B781,(LEN(User!B781)-LEN(I781))))","v":{"$error":"#VALUE!"}}]
[{"$f":"LOWER(LEFT(User!B782,LEN(I782)))","v":""},{"$f":"ABS(RIGHT(User!B782,(LEN(User!B782)-LEN(I782))))","v":{"$error":"#VALUE!"}}]
[{"$f":"LOWER(LEFT(User!B783,LEN(I783)))","v":""},{"$f":"ABS(RIGHT(User!B783,(LEN(User!B783)-LEN(I783))))","v":{"$error":"#VALUE!"}}]
[{"$f":"LOWER(LEFT(User!B784,LEN(I784)))","v":""},{"$f":"ABS(RIGHT(User!B784,(LEN(User!B784)-LEN(I784))))","v":{"$error":"#VALUE!"}}]
[{"$f":"LOWER(LEFT(User!B785,LEN(I785)))","v":""},{"$f":"ABS(RIGHT(User!B785,(LEN(User!B785)-LEN(I785))))","v":{"$error":"#VALUE!"}}]
[{"$f":"LOWER(LEFT(User!B786,LEN(I786)))","v":""},{"$f":"ABS(RIGHT(User!B786,(LEN(User!B786)-LEN(I786))))","v":{"$error":"#VALUE!"}}]
[{"$f":"LOWER(LEFT(User!B787,LEN(I787)))","v":""},{"$f":"ABS(RIGHT(User!B787,(LEN(User!B787)-LEN(I787))))","v":{"$error":"#VALUE!"}}]
[{"$f":"LOWER(LEFT(User!B788,LEN(I788)))","v":""},{"$f":"ABS(RIGHT(User!B788,(LEN(User!B788)-LEN(I788))))","v":{"$error":"#VALUE!"}}]
[{"$f":"LOWER(LEFT(User!B789,LEN(I789)))","v":""},{"$f":"ABS(RIGHT(User!B789,(LEN(User!B789)-LEN(I789))))","v":{"$error":"#VALUE!"}}]
[{"$f":"LOWER(LEFT(User!B790,LEN(I790)))","v":""},{"$f":"ABS(RIGHT(User!B790,(LEN(User!B790)-LEN(I790))))","v":{"$error":"#VALUE!"}}]
[{"$f":"LOWER(LEFT(User!B791,LEN(I791)))","v":""},{"$f":"ABS(RIGHT(User!B791,(LEN(User!B791)-LEN(I791))))","v":{"$error":"#VALUE!"}}]
[{"$f":"LOWER(LEFT(User!B792,LEN(I792)))","v":""},{"$f":"ABS(RIGHT(User!B792,(LEN(User!B792)-LEN(I792))))","v":{"$error":"#VALUE!"}}]
[{"$f":"LOWER(LEFT(User!B793,LEN(I793)))","v":""},{"$f":"ABS(RIGHT(User!B793,(LEN(User!B793)-LEN(I793))))","v":{"$error":"#VALUE!"}}]
[{"$f":"LOWER(LEFT(User!B794,LEN(I794)))","v":""},{"$f":"ABS(RIGHT(User!B794,(LEN(User!B794)-LEN(I794))))","v":{"$error":"#VALUE!"}}]
[{"$f":"LOWER(LEFT(User!B795,LEN(I795)))","v":""},{"$f":"ABS(RIGHT(User!B795,(LEN(User!B795)-LEN(I795))))","v":{"$error":"#VALUE!"}}]
[{"$f":"LOWER(LEFT(User!B796,LEN(I796)))","v":""},{"$f":"ABS(RIGHT(User!B796,(LEN(User!B796)-LEN(I796))))","v":{"$error":"#VALUE!"}}]
[{"$f":"LOWER(LEFT(User!B797,LEN(I797)))","v":""},{"$f":"ABS(RIGHT(User!B797,(LEN(User!B797)-LEN(I797))))","v":{"$error":"#VALUE!"}}]
[{"$f":"LOWER(LEFT(User!B798,LEN(I798)))","v":""},{"$f":"ABS(RIGHT(User!B798,(LEN(User!B798)-LEN(I798))))","v":{"$error":"#VALUE!"}}]
[{"$f":"LOWER(LEFT(User!B799,LEN(I799)))","v":""},{"$f":"ABS(RIGHT(User!B799,(LEN(User!B799)-LEN(I799))))","v":{"$error":"#VALUE!"}}]
[{"$f":"LOWER(LEFT(User!B800,LEN(I800)))","v":""},{"$f":"ABS(RIGHT(User!B800,(LEN(User!B800)-LEN(I800))))","v":{"$error":"#VALUE!"}}]
[{"$f":"LOWER(LEFT(User!B801,LEN(I801)))","v":""},{"$f":"ABS(RIGHT(User!B801,(LEN(User!B801)-LEN(I801))))","v":{"$error":"#VALUE!"}}]
[{"$f":"LOWER(LEFT(User!B802,LEN(I802)))","v":""},{"$f":"ABS(RIGHT(User!B802,(LEN(User!B802)-LEN(I802))))","v":{"$error":"#VALUE!"}}]
[{"$f":"LOWER(LEFT(User!B803,LEN(I803)))","v":""},{"$f":"ABS(RIGHT(User!B803,(LEN(User!B803)-LEN(I803))))","v":{"$error":"#VALUE!"}}]
[{"$f":"LOWER(LEFT(User!B804,LEN(I804)))","v":""},{"$f":"ABS(RIGHT(User!B804,(LEN(User!B804)-LEN(I804))))","v":{"$error":"#VALUE!"}}]
[{"$f":"LOWER(LEFT(User!B805,LEN(I805)))","v":""},{"$f":"ABS(RIGHT(User!B805,(LEN(User!B805)-LEN(I805))))","v":{"$error":"#VALUE!"}}]
[{"$f":"LOWER(LEFT(User!B806,LEN(I806)))","v":""},{"$f":"ABS(RIGHT(User!B806,(LEN(User!B806)-LEN(I806))))","v":{"$error":"#VALUE!"}}]
[{"$f":"LOWER(LEFT(User!B807,LEN(I807)))","v":""},{"$f":"ABS(RIGHT(User!B807,(LEN(User!B807)-LEN(I807))))","v":{"$error":"#VALUE!"}}]
[{"$f":"LOWER(LEFT(User!B808,LEN(I808)))","v":""},{"$f":"ABS(RIGHT(User!B808,(LEN(User!B808)-LEN(I808))))","v":{"$error":"#VALUE!"}}]
[{"$f":"LOWER(LEFT(User!B809,LEN(I809)))","v":""},{"$f":"ABS(RIGHT(User!B809,(LEN(User!B809)-LEN(I809))))","v":{"$error":"#VALUE!"}}]
[{"$f":"LOWER(LEFT(User!B810,LEN(I810)))","v":""},{"$f":"ABS(RIGHT(User!B810,(LEN(User!B810)-LEN(I810))))","v":{"$error":"#VALUE!"}}]
[{"$f":"LOWER(LEFT(User!B811,LEN(I811)))","v":""},{"$f":"ABS(RIGHT(User!B811,(LEN(User!B811)-LEN(I811))))","v":{"$error":"#VALUE!"}}]
[{"$f":"LOWER(LEFT(User!B812,LEN(I812)))","v":""},{"$f":"ABS(RIGHT(User!B812,(LEN(User!B812)-LEN(I812))))","v":{"$error":"#VALUE!"}}]
[{"$f":"LOWER(LEFT(User!B813,LEN(I813)))","v":""},{"$f":"ABS(RIGHT(User!B813,(LEN(User!B813)-LEN(I813))))","v":{"$error":"#VALUE!"}}]
[{"$f":"LOWER(LEFT(User!B814,LEN(I814)))","v":""},{"$f":"ABS(RIGHT(User!B814,(LEN(User!B814)-LEN(I814))))","v":{"$error":"#VALUE!"}}]
[{"$f":"LOWER(LEFT(User!B815,LEN(I815)))","v":""},{"$f":"ABS(RIGHT(User!B815,(LEN(User!B815)-LEN(I815))))","v":{"$error":"#VALUE!"}}]
[{"$f":"LOWER(LEFT(User!B816,LEN(I816)))","v":""},{"$f":"ABS(RIGHT(User!B816,(LEN(User!B816)-LEN(I816))))","v":{"$error":"#VALUE!"}}]
[{"$f":"LOWER(LEFT(User!B817,LEN(I817)))","v":""},{"$f":"ABS(RIGHT(User!B817,(LEN(User!B817)-LEN(I817))))","v":{"$error":"#VALUE!"}}]
[{"$f":"LOWER(LEFT(User!B818,LEN(I818)))","v":""},{"$f":"ABS(RIGHT(User!B818,(LEN(User!B818)-LEN(I818))))","v":{"$error":"#VALUE!"}}]
[{"$f":"LOWER(LEFT(User!B819,LEN(I819)))","v":""},{"$f":"ABS(RIGHT(User!B819,(LEN(User!B819)-LEN(I819))))","v":{"$error":"#VALUE!"}}]
[{"$f":"LOWER(LEFT(User!B820,LEN(I820)))","v":""},{"$f":"ABS(RIGHT(User!B820,(LEN(User!B820)-LEN(I820))))","v":{"$error":"#VALUE!"}}]
[{"$f":"LOWER(LEFT(User!B821,LEN(I821)))","v":""},{"$f":"ABS(RIGHT(User!B821,(LEN(User!B821)-LEN(I821))))","v":{"$error":"#VALUE!"}}]
[{"$f":"LOWER(LEFT(User!B822,LEN(I822)))","v":""},{"$f":"ABS(RIGHT(User!B822,(LEN(User!B822)-LEN(I822))))","v":{"$error":"#VALUE!"}}]
[{"$f":"LOWER(LEFT(User!B823,LEN(I823)))","v":""},{"$f":"ABS(RIGHT(User!B823,(LEN(User!B823)-LEN(I823))))","v":{"$error":"#VALUE!"}}]
[{"$f":"LOWER(LEFT(User!B824,LEN(I824)))","v":""},{"$f":"ABS(RIGHT(User!B824,(LEN(User!B824)-LEN(I824))))","v":{"$error":"#VALUE!"}}]
[{"$f":"LOWER(LEFT(User!B825,LEN(I825)))","v":""},{"$f":"ABS(RIGHT(User!B825,(LEN(User!B825)-LEN(I825))))","v":{"$error":"#VALUE!"}}]
[{"$f":"LOWER(LEFT(User!B826,LEN(I826)))","v":""},{"$f":"ABS(RIGHT(User!B826,(LEN(User!B826)-LEN(I826))))","v":{"$error":"#VALUE!"}}]
[{"$f":"LOWER(LEFT(User!B827,LEN(I827)))","v":""},{"$f":"ABS(RIGHT(User!B827,(LEN(User!B827)-LEN(I827))))","v":{"$error":"#VALUE!"}}]
[{"$f":"LOWER(LEFT(User!B828,LEN(I828)))","v":""},{"$f":"ABS(RIGHT(User!B828,(LEN(User!B828)-LEN(I828))))","v":{"$error":"#VALUE!"}}]
[{"$f":"LOWER(LEFT(User!B829,LEN(I829)))","v":""},{"$f":"ABS(RIGHT(User!B829,(LEN(User!B829)-LEN(I829))))","v":{"$error":"#VALUE!"}}]
[{"$f":"LOWER(LEFT(User!B830,LEN(I830)))","v":""},{"$f":"ABS(RIGHT(User!B830,(LEN(User!B830)-LEN(I830))))","v":{"$error":"#VALUE!"}}]
[{"$f":"LOWER(LEFT(User!B831,LEN(I831)))","v":""},{"$f":"ABS(RIGHT(User!B831,(LEN(User!B831)-LEN(I831))))","v":{"$error":"#VALUE!"}}]
[{"$f":"LOWER(LEFT(User!B832,LEN(I832)))","v":""},{"$f":"ABS(RIGHT(User!B832,(LEN(User!B832)-LEN(I832))))","v":{"$error":"#VALUE!"}}]
[{"$f":"LOWER(LEFT(User!B833,LEN(I833)))","v":""},{"$f":"ABS(RIGHT(User!B833,(LEN(User!B833)-LEN(I833))))","v":{"$error":"#VALUE!"}}]
[{"$f":"LOWER(LEFT(User!B834,LEN(I834)))","v":""},{"$f":"ABS(RIGHT(User!B834,(LEN(User!B834)-LEN(I834))))","v":{"$error":"#VALUE!"}}]
[{"$f":"LOWER(LEFT(User!B835,LEN(I835)))","v":""},{"$f":"ABS(RIGHT(User!B835,(LEN(User!B835)-LEN(I835))))","v":{"$error":"#VALUE!"}}]
[{"$f":"LOWER(LEFT(User!B836,LEN(I836)))","v":""},{"$f":"ABS(RIGHT(User!B836,(LEN(User!B836)-LEN(I836))))","v":{"$error":"#VALUE!"}}]
[{"$f":"LOWER(LEFT(User!B837,LEN(I837)))","v":""},{"$f":"ABS(RIGHT(User!B837,(LEN(User!B837)-LEN(I837))))","v":{"$error":"#VALUE!"}}]
[{"$f":"LOWER(LEFT(User!B838,LEN(I838)))","v":""},{"$f":"ABS(RIGHT(User!B838,(LEN(User!B838)-LEN(I838))))","v":{"$error":"#VALUE!"}}]
[{"$f":"LOWER(LEFT(User!B839,LEN(I839)))","v":""},{"$f":"ABS(RIGHT(User!B839,(LEN(User!B839)-LEN(I839))))","v":{"$error":"#VALUE!"}}]
[{"$f":"LOWER(LEFT(User!B840,LEN(I840)))","v":""},{"$f":"ABS(RIGHT(User!B840,(LEN(User!B840)-LEN(I840))))","v":{"$error":"#VALUE!"}}]
[{"$f":"LOWER(LEFT(User!B841,LEN(I841)))","v":""},{"$f":"ABS(RIGHT(User!B841,(LEN(User!B841)-LEN(I841))))","v":{"$error":"#VALUE!"}}]
[{"$f":"LOWER(LEFT(User!B842,LEN(I842)))","v":""},{"$f":"ABS(RIGHT(User!B842,(LEN(User!B842)-LEN(I842))))","v":{"$error":"#VALUE!"}}]
[{"$f":"LOWER(LEFT(User!B843,LEN(I843)))","v":""},{"$f":"ABS(RIGHT(User!B843,(LEN(User!B843)-LEN(I843))))","v":{"$error":"#VALUE!"}}]
[{"$f":"LOWER(LEFT(User!B844,LEN(I844)))","v":""},{"$f":"ABS(RIGHT(User!B844,(LEN(User!B844)-LEN(I844))))","v":{"$error":"#VALUE!"}}]
[{"$f":"LOWER(LEFT(User!B845,LEN(I845)))","v":""},{"$f":"ABS(RIGHT(User!B845,(LEN(User!B845)-LEN(I845))))","v":{"$error":"#VALUE!"}}]
[{"$f":"LOWER(LEFT(User!B846,LEN(I846)))","v":""},{"$f":"ABS(RIGHT(User!B846,(LEN(User!B846)-LEN(I846))))","v":{"$error":"#VALUE!"}}]
[{"$f":"LOWER(LEFT(User!B847,LEN(I847)))","v":""},{"$f":"ABS(RIGHT(User!B847,(LEN(User!B847)-LEN(I847))))","v":{"$error":"#VALUE!"}}]
[{"$f":"LOWER(LEFT(User!B848,LEN(I848)))","v":""},{"$f":"ABS(RIGHT(User!B848,(LEN(User!B848)-LEN(I848))))","v":{"$error":"#VALUE!"}}]
[{"$f":"LOWER(LEFT(User!B849,LEN(I849)))","v":""},{"$f":"ABS(RIGHT(User!B849,(LEN(User!B849)-LEN(I849))))","v":{"$error":"#VALUE!"}}]
[{"$f":"LOWER(LEFT(User!B850,LEN(I850)))","v":""},{"$f":"ABS(RIGHT(User!B850,(LEN(User!B850)-LEN(I850))))","v":{"$error":"#VALUE!"}}]
[{"$f":"LOWER(LEFT(User!B851,LEN(I851)))","v":""},{"$f":"ABS(RIGHT(User!B851,(LEN(User!B851)-LEN(I851))))","v":{"$error":"#VALUE!"}}]
[{"$f":"LOWER(LEFT(User!B852,LEN(I852)))","v":""},{"$f":"ABS(RIGHT(User!B852,(LEN(User!B852)-LEN(I852))))","v":{"$error":"#VALUE!"}}]
[{"$f":"LOWER(LEFT(User!B853,LEN(I853)))","v":""},{"$f":"ABS(RIGHT(User!B853,(LEN(User!B853)-LEN(I853))))","v":{"$error":"#VALUE!"}}]
[{"$f":"LOWER(LEFT(User!B854,LEN(I854)))","v":""},{"$f":"ABS(RIGHT(User!B854,(LEN(User!B854)-LEN(I854))))","v":{"$error":"#VALUE!"}}]
[{"$f":"LOWER(LEFT(User!B855,LEN(I855)))","v":""},{"$f":"ABS(RIGHT(User!B855,(LEN(User!B855)-LEN(I855))))","v":{"$error":"#VALUE!"}}]
[{"$f":"LOWER(LEFT(User!B856,LEN(I856)))","v":""},{"$f":"ABS(RIGHT(User!B856,(LEN(User!B856)-LEN(I856))))","v":{"$error":"#VALUE!"}}]
[{"$f":"LOWER(LEFT(User!B857,LEN(I857)))","v":""},{"$f":"ABS(RIGHT(User!B857,(LEN(User!B857)-LEN(I857))))","v":{"$error":"#VALUE!"}}]
[{"$f":"LOWER(LEFT(User!B858,LEN(I858)))","v":""},{"$f":"ABS(RIGHT(User!B858,(LEN(User!B858)-LEN(I858))))","v":{"$error":"#VALUE!"}}]
[{"$f":"LOWER(LEFT(User!B859,LEN(I859)))","v":""},{"$f":"ABS(RIGHT(User!B859,(LEN(User!B859)-LEN(I859))))","v":{"$error":"#VALUE!"}}]
[{"$f":"LOWER(LEFT(User!B860,LEN(I860)))","v":""},{"$f":"ABS(RIGHT(User!B860,(LEN(User!B860)-LEN(I860))))","v":{"$error":"#VALUE!"}}]
[{"$f":"LOWER(LEFT(User!B861,LEN(I861)))","v":""},{"$f":"ABS(RIGHT(User!B861,(LEN(User!B861)-LEN(I861))))","v":{"$error":"#VALUE!"}}]
[{"$f":"LOWER(LEFT(User!B862,LEN(I862)))","v":""},{"$f":"ABS(RIGHT(User!B862,(LEN(User!B862)-LEN(I862))))","v":{"$error":"#VALUE!"}}]
[{"$f":"LOWER(LEFT(User!B863,LEN(I863)))","v":""},{"$f":"ABS(RIGHT(User!B863,(LEN(User!B863)-LEN(I863))))","v":{"$error":"#VALUE!"}}]
[{"$f":"LOWER(LEFT(User!B864,LEN(I864)))","v":""},{"$f":"ABS(RIGHT(User!B864,(LEN(User!B864)-LEN(I864))))","v":{"$error":"#VALUE!"}}]
[{"$f":"LOWER(LEFT(User!B865,LEN(I865)))","v":""},{"$f":"ABS(RIGHT(User!B865,(LEN(User!B865)-LEN(I865))))","v":{"$error":"#VALUE!"}}]
[{"$f":"LOWER(LEFT(User!B866,LEN(I866)))","v":""},{"$f":"ABS(RIGHT(User!B866,(LEN(User!B866)-LEN(I866))))","v":{"$error":"#VALUE!"}}]
[{"$f":"LOWER(LEFT(User!B867,LEN(I867)))","v":""},{"$f":"ABS(RIGHT(User!B867,(LEN(User!B867)-LEN(I867))))","v":{"$error":"#VALUE!"}}]
[{"$f":"LOWER(LEFT(User!B868,LEN(I868)))","v":""},{"$f":"ABS(RIGHT(User!B868,(LEN(User!B868)-LEN(I868))))","v":{"$error":"#VALUE!"}}]
[{"$f":"LOWER(LEFT(User!B869,LEN(I869)))","v":""},{"$f":"ABS(RIGHT(User!B869,(LEN(User!B869)-LEN(I869))))","v":{"$error":"#VALUE!"}}]
[{"$f":"LOWER(LEFT(User!B870,LEN(I870)))","v":""},{"$f":"ABS(RIGHT(User!B870,(LEN(User!B870)-LEN(I870))))","v":{"$error":"#VALUE!"}}]
[{"$f":"LOWER(LEFT(User!B871,LEN(I871)))","v":""},{"$f":"ABS(RIGHT(User!B871,(LEN(User!B871)-LEN(I871))))","v":{"$error":"#VALUE!"}}]
[{"$f":"LOWER(LEFT(User!B872,LEN(I872)))","v":""},{"$f":"ABS(RIGHT(User!B872,(LEN(User!B872)-LEN(I872))))","v":{"$error":"#VALUE!"}}]
[{"$f":"LOWER(LEFT(User!B873,LEN(I873)))","v":""},{"$f":"ABS(RIGHT(User!B873,(LEN(User!B873)-LEN(I873))))","v":{"$error":"#VALUE!"}}]
[{"$f":"LOWER(LEFT(User!B874,LEN(I874)))","v":""},{"$f":"ABS(RIGHT(User!B874,(LEN(User!B874)-LEN(I874))))","v":{"$error":"#VALUE!"}}]
[{"$f":"LOWER(LEFT(User!B875,LEN(I875)))","v":""},{"$f":"ABS(RIGHT(User!B875,(LEN(User!B875)-LEN(I875))))","v":{"$error":"#VALUE!"}}]
[{"$f":"LOWER(LEFT(User!B876,LEN(I876)))","v":""},{"$f":"ABS(RIGHT(User!B876,(LEN(User!B876)-LEN(I876))))","v":{"$error":"#VALUE!"}}]
[{"$f":"LOWER(LEFT(User!B877,LEN(I877)))","v":""},{"$f":"ABS(RIGHT(User!B877,(LEN(User!B877)-LEN(I877))))","v":{"$error":"#VALUE!"}}]
[{"$f":"LOWER(LEFT(User!B878,LEN(I878)))","v":""},{"$f":"ABS(RIGHT(User!B878,(LEN(User!B878)-LEN(I878))))","v":{"$error":"#VALUE!"}}]
[{"$f":"LOWER(LEFT(User!B879,LEN(I879)))","v":""},{"$f":"ABS(RIGHT(User!B879,(LEN(User!B879)-LEN(I879))))","v":{"$error":"#VALUE!"}}]
[{"$f":"LOWER(LEFT(User!B880,LEN(I880)))","v":""},{"$f":"ABS(RIGHT(User!B880,(LEN(User!B880)-LEN(I880))))","v":{"$error":"#VALUE!"}}]
[{"$f":"LOWER(LEFT(User!B881,LEN(I881)))","v":""},{"$f":"ABS(RIGHT(User!B881,(LEN(User!B881)-LEN(I881))))","v":{"$error":"#VALUE!"}}]
[{"$f":"LOWER(LEFT(User!B882,LEN(I882)))","v":""},{"$f":"ABS(RIGHT(User!B882,(LEN(User!B882)-LEN(I882))))","v":{"$error":"#VALUE!"}}]
[{"$f":"LOWER(LEFT(User!B883,LEN(I883)))","v":""},{"$f":"ABS(RIGHT(User!B883,(LEN(User!B883)-LEN(I883))))","v":{"$error":"#VALUE!"}}]
[{"$f":"LOWER(LEFT(User!B884,LEN(I884)))","v":""},{"$f":"ABS(RIGHT(User!B884,(LEN(User!B884)-LEN(I884))))","v":{"$error":"#VALUE!"}}]
[{"$f":"LOWER(LEFT(User!B885,LEN(I885)))","v":""},{"$f":"ABS(RIGHT(User!B885,(LEN(User!B885)-LEN(I885))))","v":{"$error":"#VALUE!"}}]
[{"$f":"LOWER(LEFT(User!B886,LEN(I886)))","v":""},{"$f":"ABS(RIGHT(User!B886,(LEN(User!B886)-LEN(I886))))","v":{"$error":"#VALUE!"}}]
[{"$f":"LOWER(LEFT(User!B887,LEN(I887)))","v":""},{"$f":"ABS(RIGHT(User!B887,(LEN(User!B887)-LEN(I887))))","v":{"$error":"#VALUE!"}}]
[{"$f":"LOWER(LEFT(User!B888,LEN(I888)))","v":""},{"$f":"ABS(RIGHT(User!B888,(LEN(User!B888)-LEN(I888))))","v":{"$error":"#VALUE!"}}]
[{"$f":"LOWER(LEFT(User!B889,LEN(I889)))","v":""},{"$f":"ABS(RIGHT(User!B889,(LEN(User!B889)-LEN(I889))))","v":{"$error":"#VALUE!"}}]
[{"$f":"LOWER(LEFT(User!B890,LEN(I890)))","v":""},{"$f":"ABS(RIGHT(User!B890,(LEN(User!B890)-LEN(I890))))","v":{"$error":"#VALUE!"}}]
[{"$f":"LOWER(LEFT(User!B891,LEN(I891)))","v":""},{"$f":"ABS(RIGHT(User!B891,(LEN(User!B891)-LEN(I891))))","v":{"$error":"#VALUE!"}}]
[{"$f":"LOWER(LEFT(User!B892,LEN(I892)))","v":""},{"$f":"ABS(RIGHT(User!B892,(LEN(User!B892)-LEN(I892))))","v":{"$error":"#VALUE!"}}]
[{"$f":"LOWER(LEFT(User!B893,LEN(I893)))","v":""},{"$f":"ABS(RIGHT(User!B893,(LEN(User!B893)-LEN(I893))))","v":{"$error":"#VALUE!"}}]
[{"$f":"LOWER(LEFT(User!B894,LEN(I894)))","v":""},{"$f":"ABS(RIGHT(User!B894,(LEN(User!B894)-LEN(I894))))","v":{"$error":"#VALUE!"}}]
[{"$f":"LOWER(LEFT(User!B895,LEN(I895)))","v":""},{"$f":"ABS(RIGHT(User!B895,(LEN(User!B895)-LEN(I895))))","v":{"$error":"#VALUE!"}}]
[{"$f":"LOWER(LEFT(User!B896,LEN(I896)))","v":""},{"$f":"ABS(RIGHT(User!B896,(LEN(User!B896)-LEN(I896))))","v":{"$error":"#VALUE!"}}]
[{"$f":"LOWER(LEFT(User!B897,LEN(I897)))","v":""},{"$f":"ABS(RIGHT(User!B897,(LEN(User!B897)-LEN(I897))))","v":{"$error":"#VALUE!"}}]
[{"$f":"LOWER(LEFT(User!B898,LEN(I898)))","v":""},{"$f":"ABS(RIGHT(User!B898,(LEN(User!B898)-LEN(I898))))","v":{"$error":"#VALUE!"}}]
[{"$f":"LOWER(LEFT(User!B899,LEN(I899)))","v":""},{"$f":"ABS(RIGHT(User!B899,(LEN(User!B899)-LEN(I899))))","v":{"$error":"#VALUE!"}}]
[{"$f":"LOWER(LEFT(User!B900,LEN(I900)))","v":""},{"$f":"ABS(RIGHT(User!B900,(LEN(User!B900)-LEN(I900))))","v":{"$error":"#VALUE!"}}]
[{"$f":"LOWER(LEFT(User!B901,LEN(I901)))","v":""},{"$f":"ABS(RIGHT(User!B901,(LEN(User!B901)-LEN(I901))))","v":{"$error":"#VALUE!"}}]
[{"$f":"LOWER(LEFT(User!B902,LEN(I902)))","v":""},{"$f":"ABS(RIGHT(User!B902,(LEN(User!B902)-LEN(I902))))","v":{"$error":"#VALUE!"}}]
[{"$f":"LOWER(LEFT(User!B903,LEN(I903)))","v":""},{"$f":"ABS(RIGHT(User!B903,(LEN(User!B903)-LEN(I903))))","v":{"$error":"#VALUE!"}}]
[{"$f":"LOWER(LEFT(User!B904,LEN(I904)))","v":""},{"$f":"ABS(RIGHT(User!B904,(LEN(User!B904)-LEN(I904))))","v":{"$error":"#VALUE!"}}]
[{"$f":"LOWER(LEFT(User!B905,LEN(I905)))","v":""},{"$f":"ABS(RIGHT(User!B905,(LEN(User!B905)-LEN(I905))))","v":{"$error":"#VALUE!"}}]
[{"$f":"LOWER(LEFT(User!B906,LEN(I906)))","v":""},{"$f":"ABS(RIGHT(User!B906,(LEN(User!B906)-LEN(I906))))","v":{"$error":"#VALUE!"}}]
[{"$f":"LOWER(LEFT(User!B907,LEN(I907)))","v":""},{"$f":"ABS(RIGHT(User!B907,(LEN(User!B907)-LEN(I907))))","v":{"$error":"#VALUE!"}}]
[{"$f":"LOWER(LEFT(User!B908,LEN(I908)))","v":""},{"$f":"ABS(RIGHT(User!B908,(LEN(User!B908)-LEN(I908))))","v":{"$error":"#VALUE!"}}]
[{"$f":"LOWER(LEFT(User!B909,LEN(I909)))","v":""},{"$f":"ABS(RIGHT(User!B909,(LEN(User!B909)-LEN(I909))))","v":{"$error":"#VALUE!"}}]
[{"$f":"LOWER(LEFT(User!B910,LEN(I910)))","v":""},{"$f":"ABS(RIGHT(User!B910,(LEN(User!B910)-LEN(I910))))","v":{"$error":"#VALUE!"}}]
[{"$f":"LOWER(LEFT(User!B911,LEN(I911)))","v":""},{"$f":"ABS(RIGHT(User!B911,(LEN(User!B911)-LEN(I911))))","v":{"$error":"#VALUE!"}}]
[{"$f":"LOWER(LEFT(User!B912,LEN(I912)))","v":""},{"$f":"ABS(RIGHT(User!B912,(LEN(User!B912)-LEN(I912))))","v":{"$error":"#VALUE!"}}]
[{"$f":"LOWER(LEFT(User!B913,LEN(I913)))","v":""},{"$f":"ABS(RIGHT(User!B913,(LEN(User!B913)-LEN(I913))))","v":{"$error":"#VALUE!"}}]
[{"$f":"LOWER(LEFT(User!B914,LEN(I914)))","v":""},{"$f":"ABS(RIGHT(User!B914,(LEN(User!B914)-LEN(I914))))","v":{"$error":"#VALUE!"}}]
[{"$f":"LOWER(LEFT(User!B915,LEN(I915)))","v":""},{"$f":"ABS(RIGHT(User!B915,(LEN(User!B915)-LEN(I915))))","v":{"$error":"#VALUE!"}}]
[{"$f":"LOWER(LEFT(User!B916,LEN(I916)))","v":""},{"$f":"ABS(RIGHT(User!B916,(LEN(User!B916)-LEN(I916))))","v":{"$error":"#VALUE!"}}]
[{"$f":"LOWER(LEFT(User!B917,LEN(I917)))","v":""},{"$f":"ABS(RIGHT(User!B917,(LEN(User!B917)-LEN(I917))))","v":{"$error":"#VALUE!"}}]
[{"$f":"LOWER(LEFT(User!B918,LEN(I918)))","v":""},{"$f":"ABS(RIGHT(User!B918,(LEN(User!B918)-LEN(I918))))","v":{"$error":"#VALUE!"}}]
[{"$f":"LOWER(LEFT(User!B919,LEN(I919)))","v":""},{"$f":"ABS(RIGHT(User!B919,(LEN(User!B919)-LEN(I919))))","v":{"$error":"#VALUE!"}}]
[{"$f":"LOWER(LEFT(User!B920,LEN(I920)))","v":""},{"$f":"ABS(RIGHT(User!B920,(LEN(User!B920)-LEN(I920))))","v":{"$error":"#VALUE!"}}]
[{"$f":"LOWER(LEFT(User!B921,LEN(I921)))","v":""},{"$f":"ABS(RIGHT(User!B921,(LEN(User!B921)-LEN(I921))))","v":{"$error":"#VALUE!"}}]
[{"$f":"LOWER(LEFT(User!B922,LEN(I922)))","v":""},{"$f":"ABS(RIGHT(User!B922,(LEN(User!B922)-LEN(I922))))","v":{"$error":"#VALUE!"}}]
[{"$f":"LOWER(LEFT(User!B923,LEN(I923)))","v":""},{"$f":"ABS(RIGHT(User!B923,(LEN(User!B923)-LEN(I923))))","v":{"$error":"#VALUE!"}}]
[{"$f":"LOWER(LEFT(User!B924,LEN(I924)))","v":""},{"$f":"ABS(RIGHT(User!B924,(LEN(User!B924)-LEN(I924))))","v":{"$error":"#VALUE!"}}]
[{"$f":"LOWER(LEFT(User!B925,LEN(I925)))","v":""},{"$f":"ABS(RIGHT(User!B925,(LEN(User!B925)-LEN(I925))))","v":{"$error":"#VALUE!"}}]
[{"$f":"LOWER(LEFT(User!B926,LEN(I926)))","v":""},{"$f":"ABS(RIGHT(User!B926,(LEN(User!B926)-LEN(I926))))","v":{"$error":"#VALUE!"}}]
[{"$f":"LOWER(LEFT(User!B927,LEN(I927)))","v":""},{"$f":"ABS(RIGHT(User!B927,(LEN(User!B927)-LEN(I927))))","v":{"$error":"#VALUE!"}}]
[{"$f":"LOWER(LEFT(User!B928,LEN(I928)))","v":""},{"$f":"ABS(RIGHT(User!B928,(LEN(User!B928)-LEN(I928))))","v":{"$error":"#VALUE!"}}]
[{"$f":"LOWER(LEFT(User!B929,LEN(I929)))","v":""},{"$f":"ABS(RIGHT(User!B929,(LEN(User!B929)-LEN(I929))))","v":{"$error":"#VALUE!"}}]
[{"$f":"LOWER(LEFT(User!B930,LEN(I930)))","v":""},{"$f":"ABS(RIGHT(User!B930,(LEN(User!B930)-LEN(I930))))","v":{"$error":"#VALUE!"}}]
[{"$f":"LOWER(LEFT(User!B931,LEN(I931)))","v":""},{"$f":"ABS(RIGHT(User!B931,(LEN(User!B931)-LEN(I931))))","v":{"$error":"#VALUE!"}}]
[{"$f":"LOWER(LEFT(User!B932,LEN(I932)))","v":""},{"$f":"ABS(RIGHT(User!B932,(LEN(User!B932)-LEN(I932))))","v":{"$error":"#VALUE!"}}]
[{"$f":"LOWER(LEFT(User!B933,LEN(I933)))","v":""},{"$f":"ABS(RIGHT(User!B933,(LEN(User!B933)-LEN(I933))))","v":{"$error":"#VALUE!"}}]
[{"$f":"LOWER(LEFT(User!B934,LEN(I934)))","v":""},{"$f":"ABS(RIGHT(User!B934,(LEN(User!B934)-LEN(I934))))","v":{"$error":"#VALUE!"}}]
[{"$f":"LOWER(LEFT(User!B935,LEN(I935)))","v":""},{"$f":"ABS(RIGHT(User!B935,(LEN(User!B935)-LEN(I935))))","v":{"$error":"#VALUE!"}}]
[{"$f":"LOWER(LEFT(User!B936,LEN(I936)))","v":""},{"$f":"ABS(RIGHT(User!B936,(LEN(User!B936)-LEN(I936))))","v":{"$error":"#VALUE!"}}]
[{"$f":"LOWER(LEFT(User!B937,LEN(I937)))","v":""},{"$f":"ABS(RIGHT(User!B937,(LEN(User!B937)-LEN(I937))))","v":{"$error":"#VALUE!"}}]
[{"$f":"LOWER(LEFT(User!B938,LEN(I938)))","v":""},{"$f":"ABS(RIGHT(User!B938,(LEN(User!B938)-LEN(I938))))","v":{"$error":"#VALUE!"}}]
[{"$f":"LOWER(LEFT(User!B939,LEN(I939)))","v":""},{"$f":"ABS(RIGHT(User!B939,(LEN(User!B939)-LEN(I939))))","v":{"$error":"#VALUE!"}}]
[{"$f":"LOWER(LEFT(User!B940,LEN(I940)))","v":""},{"$f":"ABS(RIGHT(User!B940,(LEN(User!B940)-LEN(I940))))","v":{"$error":"#VALUE!"}}]
[{"$f":"LOWER(LEFT(User!B941,LEN(I941)))","v":""},{"$f":"ABS(RIGHT(User!B941,(LEN(User!B941)-LEN(I941))))","v":{"$error":"#VALUE!"}}]
[{"$f":"LOWER(LEFT(User!B942,LEN(I942)))","v":""},{"$f":"ABS(RIGHT(User!B942,(LEN(User!B942)-LEN(I942))))","v":{"$error":"#VALUE!"}}]
[{"$f":"LOWER(LEFT(User!B943,LEN(I943)))","v":""},{"$f":"ABS(RIGHT(User!B943,(LEN(User!B943)-LEN(I943))))","v":{"$error":"#VALUE!"}}]
[{"$f":"LOWER(LEFT(User!B944,LEN(I944)))","v":""},{"$f":"ABS(RIGHT(User!B944,(LEN(User!B944)-LEN(I944))))","v":{"$error":"#VALUE!"}}]
[{"$f":"LOWER(LEFT(User!B945,LEN(I945)))","v":""},{"$f":"ABS(RIGHT(User!B945,(LEN(User!B945)-LEN(I945))))","v":{"$error":"#VALUE!"}}]
[{"$f":"LOWER(LEFT(User!B946,LEN(I946)))","v":""},{"$f":"ABS(RIGHT(User!B946,(LEN(User!B946)-LEN(I946))))","v":{"$error":"#VALUE!"}}]
[{"$f":"LOWER(LEFT(User!B947,LEN(I947)))","v":""},{"$f":"ABS(RIGHT(User!B947,(LEN(User!B947)-LEN(I947))))","v":{"$error":"#VALUE!"}}]
[{"$f":"LOWER(LEFT(User!B948,LEN(I948)))","v":""},{"$f":"ABS(RIGHT(User!B948,(LEN(User!B948)-LEN(I948))))","v":{"$error":"#VALUE!"}}]
[{"$f":"LOWER(LEFT(User!B949,LEN(I949)))","v":""},{"$f":"ABS(RIGHT(User!B949,(LEN(User!B949)-LEN(I949))))","v":{"$error":"#VALUE!"}}]
[{"$f":"LOWER(LEFT(User!B950,LEN(I950)))","v":""},{"$f":"ABS(RIGHT(User!B950,(LEN(User!B950)-LEN(I950))))","v":{"$error":"#VALUE!"}}]
[{"$f":"LOWER(LEFT(User!B951,LEN(I951)))","v":""},{"$f":"ABS(RIGHT(User!B951,(LEN(User!B951)-LEN(I951))))","v":{"$error":"#VALUE!"}}]
[{"$f":"LOWER(LEFT(User!B952,LEN(I952)))","v":""},{"$f":"ABS(RIGHT(User!B952,(LEN(User!B952)-LEN(I952))))","v":{"$error":"#VALUE!"}}]
[{"$f":"LOWER(LEFT(User!B953,LEN(I953)))","v":""},{"$f":"ABS(RIGHT(User!B953,(LEN(User!B953)-LEN(I953))))","v":{"$error":"#VALUE!"}}]
[{"$f":"LOWER(LEFT(User!B954,LEN(I954)))","v":""},{"$f":"ABS(RIGHT(User!B954,(LEN(User!B954)-LEN(I954))))","v":{"$error":"#VALUE!"}}]
[{"$f":"LOWER(LEFT(User!B955,LEN(I955)))","v":""},{"$f":"ABS(RIGHT(User!B955,(LEN(User!B955)-LEN(I955))))","v":{"$error":"#VALUE!"}}]
[{"$f":"LOWER(LEFT(User!B956,LEN(I956)))","v":""},{"$f":"ABS(RIGHT(User!B956,(LEN(User!B956)-LEN(I956))))","v":{"$error":"#VALUE!"}}]
[{"$f":"LOWER(LEFT(User!B957,LEN(I957)))","v":""},{"$f":"ABS(RIGHT(User!B957,(LEN(User!B957)-LEN(I957))))","v":{"$error":"#VALUE!"}}]
[{"$f":"LOWER(LEFT(User!B958,LEN(I958)))","v":""},{"$f":"ABS(RIGHT(User!B958,(LEN(User!B958)-LEN(I958))))","v":{"$error":"#VALUE!"}}]
[{"$f":"LOWER(LEFT(User!B959,LEN(I959)))","v":""},{"$f":"ABS(RIGHT(User!B959,(LEN(User!B959)-LEN(I959))))","v":{"$error":"#VALUE!"}}]
[{"$f":"LOWER(LEFT(User!B960,LEN(I960)))","v":""},{"$f":"ABS(RIGHT(User!B960,(LEN(User!B960)-LEN(I960))))","v":{"$error":"#VALUE!"}}]
[{"$f":"LOWER(LEFT(User!B961,LEN(I961)))","v":""},{"$f":"ABS(RIGHT(User!B961,(LEN(User!B961)-LEN(I961))))","v":{"$error":"#VALUE!"}}]
[{"$f":"LOWER(LEFT(User!B962,LEN(I962)))","v":""},{"$f":"ABS(RIGHT(User!B962,(LEN(User!B962)-LEN(I962))))","v":{"$error":"#VALUE!"}}]
[{"$f":"LOWER(LEFT(User!B963,LEN(I963)))","v":""},{"$f":"ABS(RIGHT(User!B963,(LEN(User!B963)-LEN(I963))))","v":{"$error":"#VALUE!"}}]
[{"$f":"LOWER(LEFT(User!B964,LEN(I964)))","v":""},{"$f":"ABS(RIGHT(User!B964,(LEN(User!B964)-LEN(I964))))","v":{"$error":"#VALUE!"}}]
[{"$f":"LOWER(LEFT(User!B965,LEN(I965)))","v":""},{"$f":"ABS(RIGHT(User!B965,(LEN(User!B965)-LEN(I965))))","v":{"$error":"#VALUE!"}}]
[{"$f":"LOWER(LEFT(User!B966,LEN(I966)))","v":""},{"$f":"ABS(RIGHT(User!B966,(LEN(User!B966)-LEN(I966))))","v":{"$error":"#VALUE!"}}]
[{"$f":"LOWER(LEFT(User!B967,LEN(I967)))","v":""},{"$f":"ABS(RIGHT(User!B967,(LEN(User!B967)-LEN(I967))))","v":{"$error":"#VALUE!"}}]
[{"$f":"LOWER(LEFT(User!B968,LEN(I968)))","v":""},{"$f":"ABS(RIGHT(User!B968,(LEN(User!B968)-LEN(I968))))","v":{"$error":"#VALUE!"}}]
[{"$f":"LOWER(LEFT(User!B969,LEN(I969)))","v":""},{"$f":"ABS(RIGHT(User!B969,(LEN(User!B969)-LEN(I969))))","v":{"$error":"#VALUE!"}}]
[{"$f":"LOWER(LEFT(User!B970,LEN(I970)))","v":""},{"$f":"ABS(RIGHT(User!B970,(LEN(User!B970)-LEN(I970))))","v":{"$error":"#VALUE!"}}]
[{"$f":"LOWER(LEFT(User!B971,LEN(I971)))","v":""},{"$f":"ABS(RIGHT(User!B971,(LEN(User!B971)-LEN(I971))))","v":{"$error":"#VALUE!"}}]
[{"$f":"LOWER(LEFT(User!B972,LEN(I972)))","v":""},{"$f":"ABS(RIGHT(User!B972,(LEN(User!B972)-LEN(I972))))","v":{"$error":"#VALUE!"}}]
[{"$f":"LOWER(LEFT(User!B973,LEN(I973)))","v":""},{"$f":"ABS(RIGHT(User!B973,(LEN(User!B973)-LEN(I973))))","v":{"$error":"#VALUE!"}}]
[{"$f":"LOWER(LEFT(User!B974,LEN(I974)))","v":""},{"$f":"ABS(RIGHT(User!B974,(LEN(User!B974)-LEN(I974))))","v":{"$error":"#VALUE!"}}]
[{"$f":"LOWER(LEFT(User!B975,LEN(I975)))","v":""},{"$f":"ABS(RIGHT(User!B975,(LEN(User!B975)-LEN(I975))))","v":{"$error":"#VALUE!"}}]
[{"$f":"LOWER(LEFT(User!B976,LEN(I976)))","v":""},{"$f":"ABS(RIGHT(User!B976,(LEN(User!B976)-LEN(I976))))","v":{"$error":"#VALUE!"}}]
[{"$f":"LOWER(LEFT(User!B977,LEN(I977)))","v":""},{"$f":"ABS(RIGHT(User!B977,(LEN(User!B977)-LEN(I977))))","v":{"$error":"#VALUE!"}}]
[{"$f":"LOWER(LEFT(User!B978,LEN(I978)))","v":""},{"$f":"ABS(RIGHT(User!B978,(LEN(User!B978)-LEN(I978))))","v":{"$error":"#VALUE!"}}]
[{"$f":"LOWER(LEFT(User!B979,LEN(I979)))","v":""},{"$f":"ABS(RIGHT(User!B979,(LEN(User!B979)-LEN(I979))))","v":{"$error":"#VALUE!"}}]
[{"$f":"LOWER(LEFT(User!B980,LEN(I980)))","v":""},{"$f":"ABS(RIGHT(User!B980,(LEN(User!B980)-LEN(I980))))","v":{"$error":"#VALUE!"}}]
[{"$f":"LOWER(LEFT(User!B981,LEN(I981)))","v":""},{"$f":"ABS(RIGHT(User!B981,(LEN(User!B981)-LEN(I981))))","v":{"$error":"#VALUE!"}}]
[{"$f":"LOWER(LEFT(User!B982,LEN(I982)))","v":""},{"$f":"ABS(RIGHT(User!B982,(LEN(User!B982)-LEN(I982))))","v":{"$error":"#VALUE!"}}]
[{"$f":"LOWER(LEFT(User!B983,LEN(I983)))","v":""},{"$f":"ABS(RIGHT(User!B983,(LEN(User!B983)-LEN(I983))))","v":{"$error":"#VALUE!"}}]
[{"$f":"LOWER(LEFT(User!B984,LEN(I984)))","v":""},{"$f":"ABS(RIGHT(User!B984,(LEN(User!B984)-LEN(I984))))","v":{"$error":"#VALUE!"}}]
[{"$f":"LOWER(LEFT(User!B985,LEN(I985)))","v":""},{"$f":"ABS(RIGHT(User!B985,(LEN(User!B985)-LEN(I985))))","v":{"$error":"#VALUE!"}}]
[{"$f":"LOWER(LEFT(User!B986,LEN(I986)))","v":""},{"$f":"ABS(RIGHT(User!B986,(LEN(User!B986)-LEN(I986))))","v":{"$error":"#VALUE!"}}]
[{"$f":"LOWER(LEFT(User!B987,LEN(I987)))","v":""},{"$f":"ABS(RIGHT(User!B987,(LEN(User!B987)-LEN(I987))))","v":{"$error":"#VALUE!"}}]
[{"$f":"LOWER(LEFT(User!B988,LEN(I988)))","v":""},{"$f":"ABS(RIGHT(User!B988,(LEN(User!B988)-LEN(I988))))","v":{"$error":"#VALUE!"}}]
[{"$f":"LOWER(LEFT(User!B989,LEN(I989)))","v":""},{"$f":"ABS(RIGHT(User!B989,(LEN(User!B989)-LEN(I989))))","v":{"$error":"#VALUE!"}}]
[{"$f":"LOWER(LEFT(User!B990,LEN(I990)))","v":""},{"$f":"ABS(RIGHT(User!B990,(LEN(User!B990)-LEN(I990))))","v":{"$error":"#VALUE!"}}]
[{"$f":"LOWER(LEFT(User!B991,LEN(I991)))","v":""},{"$f":"ABS(RIGHT(User!B991,(LEN(User!B991)-LEN(I991))))","v":{"$error":"#VALUE!"}}]
[{"$f":"LOWER(LEFT(User!B992,LEN(I992)))","v":""},{"$f":"ABS(RIGHT(User!B992,(LEN(User!B992)-LEN(I992))))","v":{"$error":"#VALUE!"}}]
[{"$f":"LOWER(LEFT(User!B993,LEN(I993)))","v":""},{"$f":"ABS(RIGHT(User!B993,(LEN(User!B993)-LEN(I993))))","v":{"$error":"#VALUE!"}}]
[{"$f":"LOWER(LEFT(User!B994,LEN(I994)))","v":""},{"$f":"ABS(RIGHT(User!B994,(LEN(User!B994)-LEN(I994))))","v":{"$error":"#VALUE!"}}]
[{"$f":"LOWER(LEFT(User!B995,LEN(I995)))","v":""},{"$f":"ABS(RIGHT(User!B995,(LEN(User!B995)-LEN(I995))))","v":{"$error":"#VALUE!"}}]
[{"$f":"LOWER(LEFT(User!B996,LEN(I996)))","v":""},{"$f":"ABS(RIGHT(User!B996,(LEN(User!B996)-LEN(I996))))","v":{"$error":"#VALUE!"}}]
[{"$f":"LOWER(LEFT(User!B997,LEN(I997)))","v":""},{"$f":"ABS(RIGHT(User!B997,(LEN(User!B997)-LEN(I997))))","v":{"$error":"#VALUE!"}}]
[{"$f":"LOWER(LEFT(User!B998,LEN(I998)))","v":""},{"$f":"ABS(RIGHT(User!B998,(LEN(User!B998)-LEN(I998))))","v":{"$error":"#VALUE!"}}]
[{"$f":"LOWER(LEFT(User!B999,LEN(I999)))","v":""},{"$f":"ABS(RIGHT(User!B999,(LEN(User!B999)-LEN(I999))))","v":{"$error":"#VALUE!"}}]
[{"$f":"LOWER(LEFT(User!B1000,LEN(I1000)))","v":""},{"$f":"ABS(RIGHT(User!B1000,(LEN(User!B1000)-LEN(I1000))))","v":{"$error":"#VALUE!"}}]
[{"$f":"LOWER(LEFT(User!B1001,LEN(I1001)))","v":""},{"$f":"ABS(RIGHT(User!B1001,(LEN(User!B1001)-LEN(I1001))))","v":{"$error":"#VALUE!"}}]
[{"$f":"LOWER(LEFT(User!B1002,LEN(I1002)))","v":""},{"$f":"ABS(RIGHT(User!B1002,(LEN(User!B1002)-LEN(I1002))))","v":{"$error":"#VALUE!"}}]
[{"$f":"LOWER(LEFT(User!B1003,LEN(I1003)))","v":""},{"$f":"ABS(RIGHT(User!B1003,(LEN(User!B1003)-LEN(I1003))))","v":{"$error":"#VALUE!"}}]
[{"$f":"LOWER(LEFT(User!B1004,LEN(I1004)))","v":""},{"$f":"ABS(RIGHT(User!B1004,(LEN(User!B1004)-LEN(I1004))))","v":{"$error":"#VALUE!"}}]
[{"$f":"LOWER(LEFT(User!B1005,LEN(I1005)))","v":""},{"$f":"ABS(RIGHT(User!B1005,(LEN(User!B1005)-LEN(I1005))))","v":{"$error":"#VALUE!"}}]
[{"$f":"LOWER(LEFT(User!B1006,LEN(I1006)))","v":""},{"$f":"ABS(RIGHT(User!B1006,(LEN(User!B1006)-LEN(I1006))))","v":{"$error":"#VALUE!"}}]
[{"$f":"LOWER(LEFT(User!B1007,LEN(I1007)))","v":""},{"$f":"ABS(RIGHT(User!B1007,(LEN(User!B1007)-LEN(I1007))))","v":{"$error":"#VALUE!"}}]
[{"$f":"LOWER(LEFT(User!B1008,LEN(I1008)))","v":""},{"$f":"ABS(RIGHT(User!B1008,(LEN(User!B1008)-LEN(I1008))))","v":{"$error":"#VALUE!"}}]
[{"$f":"LOWER(LEFT(User!B1009,LEN(I1009)))","v":""},{"$f":"ABS(RIGHT(User!B1009,(LEN(User!B1009)-LEN(I1009))))","v":{"$error":"#VALUE!"}}]
[{"$f":"LOWER(LEFT(User!B1010,LEN(I1010)))","v":""},{"$f":"ABS(RIGHT(User!B1010,(LEN(User!B1010)-LEN(I1010))))","v":{"$error":"#VALUE!"}}]
[{"$f":"LOWER(LEFT(User!B1011,LEN(I1011)))","v":""},{"$f":"ABS(RIGHT(User!B1011,(LEN(User!B1011)-LEN(I1011))))","v":{"$error":"#VALUE!"}}]
[{"$f":"LOWER(LEFT(User!B1012,LEN(I1012)))","v":""},{"$f":"ABS(RIGHT(User!B1012,(LEN(User!B1012)-LEN(I1012))))","v":{"$error":"#VALUE!"}}]
[{"$f":"LOWER(LEFT(User!B1013,LEN(I1013)))","v":""},{"$f":"ABS(RIGHT(User!B1013,(LEN(User!B1013)-LEN(I1013))))","v":{"$error":"#VALUE!"}}]
[{"$f":"LOWER(LEFT(User!B1014,LEN(I1014)))","v":""},{"$f":"ABS(RIGHT(User!B1014,(LEN(User!B1014)-LEN(I1014))))","v":{"$error":"#VALUE!"}}]
[{"$f":"LOWER(LEFT(User!B1015,LEN(I1015)))","v":""},{"$f":"ABS(RIGHT(User!B1015,(LEN(User!B1015)-LEN(I1015))))","v":{"$error":"#VALUE!"}}]
[{"$f":"LOWER(LEFT(User!B1016,LEN(I1016)))","v":""},{"$f":"ABS(RIGHT(User!B1016,(LEN(User!B1016)-LEN(I1016))))","v":{"$error":"#VALUE!"}}]
[{"$f":"LOWER(LEFT(User!B1017,LEN(I1017)))","v":""},{"$f":"ABS(RIGHT(User!B1017,(LEN(User!B1017)-LEN(I1017))))","v":{"$error":"#VALUE!"}}]
[{"$f":"LOWER(LEFT(User!B1018,LEN(I1018)))","v":""},{"$f":"ABS(RIGHT(User!B1018,(LEN(User!B1018)-LEN(I1018))))","v":{"$error":"#VALUE!"}}]
[{"$f":"LOWER(LEFT(User!B1019,LEN(I1019)))","v":""},{"$f":"ABS(RIGHT(User!B1019,(LEN(User!B1019)-LEN(I1019))))","v":{"$error":"#VALUE!"}}]
[{"$f":"LOWER(LEFT(User!B1020,LEN(I1020)))","v":""},{"$f":"ABS(RIGHT(User!B1020,(LEN(User!B1020)-LEN(I1020))))","v":{"$error":"#VALUE!"}}]
[{"$f":"LOWER(LEFT(User!B1021,LEN(I1021)))","v":""},{"$f":"ABS(RIGHT(User!B1021,(LEN(User!B1021)-LEN(I1021))))","v":{"$error":"#VALUE!"}}]
[{"$f":"LOWER(LEFT(User!B1022,LEN(I1022)))","v":""},{"$f":"ABS(RIGHT(User!B1022,(LEN(User!B1022)-LEN(I1022))))","v":{"$error":"#VALUE!"}}]
[{"$f":"LOWER(LEFT(User!B1023,LEN(I1023)))","v":""},{"$f":"ABS(RIGHT(User!B1023,(LEN(User!B1023)-LEN(I1023))))","v":{"$error":"#VALUE!"}}]
[{"$f":"LOWER(LEFT(User!B1024,LEN(I1024)))","v":""},{"$f":"ABS(RIGHT(User!B1024,(LEN(User!B1024)-LEN(I1024))))","v":{"$error":"#VALUE!"}}]
[{"$f":"LOWER(LEFT(User!B1025,LEN(I1025)))","v":""},{"$f":"ABS(RIGHT(User!B1025,(LEN(User!B1025)-LEN(I1025))))","v":{"$error":"#VALUE!"}}]
[{"$f":"LOWER(LEFT(User!B1026,LEN(I1026)))","v":""},{"$f":"ABS(RIGHT(User!B1026,(LEN(User!B1026)-LEN(I1026))))","v":{"$error":"#VALUE!"}}]
[{"$f":"LOWER(LEFT(User!B1027,LEN(I1027)))","v":""},{"$f":"ABS(RIGHT(User!B1027,(LEN(User!B1027)-LEN(I1027))))","v":{"$error":"#VALUE!"}}]
[{"$f":"LOWER(LEFT(User!B1028,LEN(I1028)))","v":""},{"$f":"ABS(RIGHT(User!B1028,(LEN(User!B1028)-LEN(I1028))))","v":{"$error":"#VALUE!"}}]
[{"$f":"LOWER(LEFT(User!B1029,LEN(I1029)))","v":""},{"$f":"ABS(RIGHT(User!B1029,(LEN(User!B1029)-LEN(I1029))))","v":{"$error":"#VALUE!"}}]
[{"$f":"LOWER(LEFT(User!B1030,LEN(I1030)))","v":""},{"$f":"ABS(RIGHT(User!B1030,(LEN(User!B1030)-LEN(I1030))))","v":{"$error":"#VALUE!"}}]
[{"$f":"LOWER(LEFT(User!B1031,LEN(I1031)))","v":""},{"$f":"ABS(RIGHT(User!B1031,(LEN(User!B1031)-LEN(I1031))))","v":{"$error":"#VALUE!"}}]
[{"$f":"LOWER(LEFT(User!B1032,LEN(I1032)))","v":""},{"$f":"ABS(RIGHT(User!B1032,(LEN(User!B1032)-LEN(I1032))))","v":{"$error":"#VALUE!"}}]
[{"$f":"LOWER(LEFT(User!B1033,LEN(I1033)))","v":""},{"$f":"ABS(RIGHT(User!B1033,(LEN(User!B1033)-LEN(I1033))))","v":{"$error":"#VALUE!"}}]
[{"$f":"LOWER(LEFT(User!B1034,LEN(I1034)))","v":""},{"$f":"ABS(RIGHT(User!B1034,(LEN(User!B1034)-LEN(I1034))))","v":{"$error":"#VALUE!"}}]
[{"$f":"LOWER(LEFT(User!B1035,LEN(I1035)))","v":""},{"$f":"ABS(RIGHT(User!B1035,(LEN(User!B1035)-LEN(I1035))))","v":{"$error":"#VALUE!"}}]
[{"$f":"LOWER(LEFT(User!B1036,LEN(I1036)))","v":""},{"$f":"ABS(RIGHT(User!B1036,(LEN(User!B1036)-LEN(I1036))))","v":{"$error":"#VALUE!"}}]
[{"$f":"LOWER(LEFT(User!B1037,LEN(I1037)))","v":""},{"$f":"ABS(RIGHT(User!B1037,(LEN(User!B1037)-LEN(I1037))))","v":{"$error":"#VALUE!"}}]
[{"$f":"LOWER(LEFT(User!B1038,LEN(I1038)))","v":""},{"$f":"ABS(RIGHT(User!B1038,(LEN(User!B1038)-LEN(I1038))))","v":{"$error":"#VALUE!"}}]
[{"$f":"LOWER(LEFT(User!B1039,LEN(I1039)))","v":""},{"$f":"ABS(RIGHT(User!B1039,(LEN(User!B1039)-LEN(I1039))))","v":{"$error":"#VALUE!"}}]
[{"$f":"LOWER(LEFT(User!B1040,LEN(I1040)))","v":""},{"$f":"ABS(RIGHT(User!B1040,(LEN(User!B1040)-LEN(I1040))))","v":{"$error":"#VALUE!"}}]
[{"$f":"LOWER(LEFT(User!B1041,LEN(I1041)))","v":""},{"$f":"ABS(RIGHT(User!B1041,(LEN(User!B1041)-LEN(I1041))))","v":{"$error":"#VALUE!"}}]
[{"$f":"LOWER(LEFT(User!B1042,LEN(I1042)))","v":""},{"$f":"ABS(RIGHT(User!B1042,(LEN(User!B1042)-LEN(I1042))))","v":{"$error":"#VALUE!"}}]
[{"$f":"LOWER(LEFT(User!B1043,LEN(I1043)))","v":""},{"$f":"ABS(RIGHT(User!B1043,(LEN(User!B1043)-LEN(I1043))))","v":{"$error":"#VALUE!"}}]
[{"$f":"LOWER(LEFT(User!B1044,LEN(I1044)))","v":""},{"$f":"ABS(RIGHT(User!B1044,(LEN(User!B1044)-LEN(I1044))))","v":{"$error":"#VALUE!"}}]
[{"$f":"LOWER(LEFT(User!B1045,LEN(I1045)))","v":""},{"$f":"ABS(RIGHT(User!B1045,(LEN(User!B1045)-LEN(I1045))))","v":{"$error":"#VALUE!"}}]
[{"$f":"LOWER(LEFT(User!B1046,LEN(I1046)))","v":""},{"$f":"ABS(RIGHT(User!B1046,(LEN(User!B1046)-LEN(I1046))))","v":{"$error":"#VALUE!"}}]
[{"$f":"LOWER(LEFT(User!B1047,LEN(I1047)))","v":""},{"$f":"ABS(RIGHT(User!B1047,(LEN(User!B1047)-LEN(I1047))))","v":{"$error":"#VALUE!"}}]
[{"$f":"LOWER(LEFT(User!B1048,LEN(I1048)))","v":""},{"$f":"ABS(RIGHT(User!B1048,(LEN(User!B1048)-LEN(I1048))))","v":{"$error":"#VALUE!"}}]
[{"$f":"LOWER(LEFT(User!B1049,LEN(I1049)))","v":""},{"$f":"ABS(RIGHT(User!B1049,(LEN(User!B1049)-LEN(I1049))))","v":{"$error":"#VALUE!"}}]
[{"$f":"LOWER(LEFT(User!B1050,LEN(I1050)))","v":""},{"$f":"ABS(RIGHT(User!B1050,(LEN(User!B1050)-LEN(I1050))))","v":{"$error":"#VALUE!"}}]
[{"$f":"LOWER(LEFT(User!B1051,LEN(I1051)))","v":""},{"$f":"ABS(RIGHT(User!B1051,(LEN(User!B1051)-LEN(I1051))))","v":{"$error":"#VALUE!"}}]
[{"$f":"LOWER(LEFT(User!B1052,LEN(I1052)))","v":""},{"$f":"ABS(RIGHT(User!B1052,(LEN(User!B1052)-LEN(I1052))))","v":{"$error":"#VALUE!"}}]
[{"$f":"LOWER(LEFT(User!B1053,LEN(I1053)))","v":""},{"$f":"ABS(RIGHT(User!B1053,(LEN(User!B1053)-LEN(I1053))))","v":{"$error":"#VALUE!"}}]
[{"$f":"LOWER(LEFT(User!B1054,LEN(I1054)))","v":""},{"$f":"ABS(RIGHT(User!B1054,(LEN(User!B1054)-LEN(I1054))))","v":{"$error":"#VALUE!"}}]
[{"$f":"LOWER(LEFT(User!B1055,LEN(I1055)))","v":""},{"$f":"ABS(RIGHT(User!B1055,(LEN(User!B1055)-LEN(I1055))))","v":{"$error":"#VALUE!"}}]
[{"$f":"LOWER(LEFT(User!B1056,LEN(I1056)))","v":""},{"$f":"ABS(RIGHT(User!B1056,(LEN(User!B1056)-LEN(I1056))))","v":{"$error":"#VALUE!"}}]
[{"$f":"LOWER(LEFT(User!B1057,LEN(I1057)))","v":""},{"$f":"ABS(RIGHT(User!B1057,(LEN(User!B1057)-LEN(I1057))))","v":{"$error":"#VALUE!"}}]
[{"$f":"LOWER(LEFT(User!B1058,LEN(I1058)))","v":""},{"$f":"ABS(RIGHT(User!B1058,(LEN(User!B1058)-LEN(I1058))))","v":{"$error":"#VALUE!"}}]
[{"$f":"LOWER(LEFT(User!B1059,LEN(I1059)))","v":""},{"$f":"ABS(RIGHT(User!B1059,(LEN(User!B1059)-LEN(I1059))))","v":{"$error":"#VALUE!"}}]
[{"$f":"LOWER(LEFT(User!B1060,LEN(I1060)))","v":""},{"$f":"ABS(RIGHT(User!B1060,(LEN(User!B1060)-LEN(I1060))))","v":{"$error":"#VALUE!"}}]
[{"$f":"LOWER(LEFT(User!B1061,LEN(I1061)))","v":""},{"$f":"ABS(RIGHT(User!B1061,(LEN(User!B1061)-LEN(I1061))))","v":{"$error":"#VALUE!"}}]
[{"$f":"LOWER(LEFT(User!B1062,LEN(I1062)))","v":""},{"$f":"ABS(RIGHT(User!B1062,(LEN(User!B1062)-LEN(I1062))))","v":{"$error":"#VALUE!"}}]
[{"$f":"LOWER(LEFT(User!B1063,LEN(I1063)))","v":""},{"$f":"ABS(RIGHT(User!B1063,(LEN(User!B1063)-LEN(I1063))))","v":{"$error":"#VALUE!"}}]
[{"$f":"LOWER(LEFT(User!B1064,LEN(I1064)))","v":""},{"$f":"ABS(RIGHT(User!B1064,(LEN(User!B1064)-LEN(I1064))))","v":{"$error":"#VALUE!"}}]
[{"$f":"LOWER(LEFT(User!B1065,LEN(I1065)))","v":""},{"$f":"ABS(RIGHT(User!B1065,(LEN(User!B1065)-LEN(I1065))))","v":{"$error":"#VALUE!"}}]
[{"$f":"LOWER(LEFT(User!B1066,LEN(I1066)))","v":""},{"$f":"ABS(RIGHT(User!B1066,(LEN(User!B1066)-LEN(I1066))))","v":{"$error":"#VALUE!"}}]
[{"$f":"LOWER(LEFT(User!B1067,LEN(I1067)))","v":""},{"$f":"ABS(RIGHT(User!B1067,(LEN(User!B1067)-LEN(I1067))))","v":{"$error":"#VALUE!"}}]
[{"$f":"LOWER(LEFT(User!B1068,LEN(I1068)))","v":""},{"$f":"ABS(RIGHT(User!B1068,(LEN(User!B1068)-LEN(I1068))))","v":{"$error":"#VALUE!"}}]
[{"$f":"LOWER(LEFT(User!B1069,LEN(I1069)))","v":""},{"$f":"ABS(RIGHT(User!B1069,(LEN(User!B1069)-LEN(I1069))))","v":{"$error":"#VALUE!"}}]
[{"$f":"LOWER(LEFT(User!B1070,LEN(I1070)))","v":""},{"$f":"ABS(RIGHT(User!B1070,(LEN(User!B1070)-LEN(I1070))))","v":{"$error":"#VALUE!"}}]
[{"$f":"LOWER(LEFT(User!B1071,LEN(I1071)))","v":""},{"$f":"ABS(RIGHT(User!B1071,(LEN(User!B1071)-LEN(I1071))))","v":{"$error":"#VALUE!"}}]
[{"$f":"LOWER(LEFT(User!B1072,LEN(I1072)))","v":""},{"$f":"ABS(RIGHT(User!B1072,(LEN(User!B1072)-LEN(I1072))))","v":{"$error":"#VALUE!"}}]
[{"$f":"LOWER(LEFT(User!B1073,LEN(I1073)))","v":""},{"$f":"ABS(RIGHT(User!B1073,(LEN(User!B1073)-LEN(I1073))))","v":{"$error":"#VALUE!"}}]
[{"$f":"LOWER(LEFT(User!B1074,LEN(I1074)))","v":""},{"$f":"ABS(RIGHT(User!B1074,(LEN(User!B1074)-LEN(I1074))))","v":{"$error":"#VALUE!"}}]
[{"$f":"LOWER(LEFT(User!B1075,LEN(I1075)))","v":""},{"$f":"ABS(RIGHT(User!B1075,(LEN(User!B1075)-LEN(I1075))))","v":{"$error":"#VALUE!"}}]
[{"$f":"LOWER(LEFT(User!B1076,LEN(I1076)))","v":""},{"$f":"ABS(RIGHT(User!B1076,(LEN(User!B1076)-LEN(I1076))))","v":{"$error":"#VALUE!"}}]
[{"$f":"LOWER(LEFT(User!B1077,LEN(I1077)))","v":""},{"$f":"ABS(RIGHT(User!B1077,(LEN(User!B1077)-LEN(I1077))))","v":{"$error":"#VALUE!"}}]
[{"$f":"LOWER(LEFT(User!B1078,LEN(I1078)))","v":""},{"$f":"ABS(RIGHT(User!B1078,(LEN(User!B1078)-LEN(I1078))))","v":{"$error":"#VALUE!"}}]
[{"$f":"LOWER(LEFT(User!B1079,LEN(I1079)))","v":""},{"$f":"ABS(RIGHT(User!B1079,(LEN(User!B1079)-LEN(I1079))))","v":{"$error":"#VALUE!"}}]
[{"$f":"LOWER(LEFT(User!B1080,LEN(I1080)))","v":""},{"$f":"ABS(RIGHT(User!B1080,(LEN(User!B1080)-LEN(I1080))))","v":{"$error":"#VALUE!"}}]
[{"$f":"LOWER(LEFT(User!B1081,LEN(I1081)))","v":""},{"$f":"ABS(RIGHT(User!B1081,(LEN(User!B1081)-LEN(I1081))))","v":{"$error":"#VALUE!"}}]
[{"$f":"LOWER(LEFT(User!B1082,LEN(I1082)))","v":""},{"$f":"ABS(RIGHT(User!B1082,(LEN(User!B1082)-LEN(I1082))))","v":{"$error":"#VALUE!"}}]
[{"$f":"LOWER(LEFT(User!B1083,LEN(I1083)))","v":""},{"$f":"ABS(RIGHT(User!B1083,(LEN(User!B1083)-LEN(I1083))))","v":{"$error":"#VALUE!"}}]
[{"$f":"LOWER(LEFT(User!B1084,LEN(I1084)))","v":""},{"$f":"ABS(RIGHT(User!B1084,(LEN(User!B1084)-LEN(I1084))))","v":{"$error":"#VALUE!"}}]
[{"$f":"LOWER(LEFT(User!B1085,LEN(I1085)))","v":""},{"$f":"ABS(RIGHT(User!B1085,(LEN(User!B1085)-LEN(I1085))))","v":{"$error":"#VALUE!"}}]
[{"$f":"LOWER(LEFT(User!B1086,LEN(I1086)))","v":""},{"$f":"ABS(RIGHT(User!B1086,(LEN(User!B1086)-LEN(I1086))))","v":{"$error":"#VALUE!"}}]
[{"$f":"LOWER(LEFT(User!B1087,LEN(I1087)))","v":""},{"$f":"ABS(RIGHT(User!B1087,(LEN(User!B1087)-LEN(I1087))))","v":{"$error":"#VALUE!"}}]
[{"$f":"LOWER(LEFT(User!B1088,LEN(I1088)))","v":""},{"$f":"ABS(RIGHT(User!B1088,(LEN(User!B1088)-LEN(I1088))))","v":{"$error":"#VALUE!"}}]
[{"$f":"LOWER(LEFT(User!B1089,LEN(I1089)))","v":""},{"$f":"ABS(RIGHT(User!B1089,(LEN(User!B1089)-LEN(I1089))))","v":{"$error":"#VALUE!"}}]
[{"$f":"LOWER(LEFT(User!B1090,LEN(I1090)))","v":""},{"$f":"ABS(RIGHT(User!B1090,(LEN(User!B1090)-LEN(I1090))))","v":{"$error":"#VALUE!"}}]
[{"$f":"LOWER(LEFT(User!B1091,LEN(I1091)))","v":""},{"$f":"ABS(RIGHT(User!B1091,(LEN(User!B1091)-LEN(I1091))))","v":{"$error":"#VALUE!"}}]
[{"$f":"LOWER(LEFT(User!B1092,LEN(I1092)))","v":""},{"$f":"ABS(RIGHT(User!B1092,(LEN(User!B1092)-LEN(I1092))))","v":{"$error":"#VALUE!"}}]
[{"$f":"LOWER(LEFT(User!B1093,LEN(I1093)))","v":""},{"$f":"ABS(RIGHT(User!B1093,(LEN(User!B1093)-LEN(I1093))))","v":{"$error":"#VALUE!"}}]
[{"$f":"LOWER(LEFT(User!B1094,LEN(I1094)))","v":""},{"$f":"ABS(RIGHT(User!B1094,(LEN(User!B1094)-LEN(I1094))))","v":{"$error":"#VALUE!"}}]
[{"$f":"LOWER(LEFT(User!B1095,LEN(I1095)))","v":""},{"$f":"ABS(RIGHT(User!B1095,(LEN(User!B1095)-LEN(I1095))))","v":{"$error":"#VALUE!"}}]
[{"$f":"LOWER(LEFT(User!B1096,LEN(I1096)))","v":""},{"$f":"ABS(RIGHT(User!B1096,(LEN(User!B1096)-LEN(I1096))))","v":{"$error":"#VALUE!"}}]
[{"$f":"LOWER(LEFT(User!B1097,LEN(I1097)))","v":""},{"$f":"ABS(RIGHT(User!B1097,(LEN(User!B1097)-LEN(I1097))))","v":{"$error":"#VALUE!"}}]
[{"$f":"LOWER(LEFT(User!B1098,LEN(I1098)))","v":""},{"$f":"ABS(RIGHT(User!B1098,(LEN(User!B1098)-LEN(I1098))))","v":{"$error":"#VALUE!"}}]
[{"$f":"LOWER(LEFT(User!B1099,LEN(I1099)))","v":""},{"$f":"ABS(RIGHT(User!B1099,(LEN(User!B1099)-LEN(I1099))))","v":{"$error":"#VALUE!"}}]
[{"$f":"LOWER(LEFT(User!B1100,LEN(I1100)))","v":""},{"$f":"ABS(RIGHT(User!B1100,(LEN(User!B1100)-LEN(I1100))))","v":{"$error":"#VALUE!"}}]
[{"$f":"LOWER(LEFT(User!B1101,LEN(I1101)))","v":""},{"$f":"ABS(RIGHT(User!B1101,(LEN(User!B1101)-LEN(I1101))))","v":{"$error":"#VALUE!"}}]
[{"$f":"LOWER(LEFT(User!B1102,LEN(I1102)))","v":""},{"$f":"ABS(RIGHT(User!B1102,(LEN(User!B1102)-LEN(I1102))))","v":{"$error":"#VALUE!"}}]
[{"$f":"LOWER(LEFT(User!B1103,LEN(I1103)))","v":""},{"$f":"ABS(RIGHT(User!B1103,(LEN(User!B1103)-LEN(I1103))))","v":{"$error":"#VALUE!"}}]
[{"$f":"LOWER(LEFT(User!B1104,LEN(I1104)))","v":""},{"$f":"ABS(RIGHT(User!B1104,(LEN(User!B1104)-LEN(I1104))))","v":{"$error":"#VALUE!"}}]
[{"$f":"LOWER(LEFT(User!B1105,LEN(I1105)))","v":""},{"$f":"ABS(RIGHT(User!B1105,(LEN(User!B1105)-LEN(I1105))))","v":{"$error":"#VALUE!"}}]
[{"$f":"LOWER(LEFT(User!B1106,LEN(I1106)))","v":""},{"$f":"ABS(RIGHT(User!B1106,(LEN(User!B1106)-LEN(I1106))))","v":{"$error":"#VALUE!"}}]
[{"$f":"LOWER(LEFT(User!B1107,LEN(I1107)))","v":""},{"$f":"ABS(RIGHT(User!B1107,(LEN(User!B1107)-LEN(I1107))))","v":{"$error":"#VALUE!"}}]
[{"$f":"LOWER(LEFT(User!B1108,LEN(I1108)))","v":""},{"$f":"ABS(RIGHT(User!B1108,(LEN(User!B1108)-LEN(I1108))))","v":{"$error":"#VALUE!"}}]
[{"$f":"LOWER(LEFT(User!B1109,LEN(I1109)))","v":""},{"$f":"ABS(RIGHT(User!B1109,(LEN(User!B1109)-LEN(I1109))))","v":{"$error":"#VALUE!"}}]
[{"$f":"LOWER(LEFT(User!B1110,LEN(I1110)))","v":""},{"$f":"ABS(RIGHT(User!B1110,(LEN(User!B1110)-LEN(I1110))))","v":{"$error":"#VALUE!"}}]
[{"$f":"LOWER(LEFT(User!B1111,LEN(I1111)))","v":""},{"$f":"ABS(RIGHT(User!B1111,(LEN(User!B1111)-LEN(I1111))))","v":{"$error":"#VALUE!"}}]
[{"$f":"LOWER(LEFT(User!B1112,LEN(I1112)))","v":""},{"$f":"ABS(RIGHT(User!B1112,(LEN(User!B1112)-LEN(I1112))))","v":{"$error":"#VALUE!"}}]
[{"$f":"LOWER(LEFT(User!B1113,LEN(I1113)))","v":""},{"$f":"ABS(RIGHT(User!B1113,(LEN(User!B1113)-LEN(I1113))))","v":{"$error":"#VALUE!"}}]
[{"$f":"LOWER(LEFT(User!B1114,LEN(I1114)))","v":""},{"$f":"ABS(RIGHT(User!B1114,(LEN(User!B1114)-LEN(I1114))))","v":{"$error":"#VALUE!"}}]
[{"$f":"LOWER(LEFT(User!B1115,LEN(I1115)))","v":""},{"$f":"ABS(RIGHT(User!B1115,(LEN(User!B1115)-LEN(I1115))))","v":{"$error":"#VALUE!"}}]
[{"$f":"LOWER(LEFT(User!B1116,LEN(I1116)))","v":""},{"$f":"ABS(RIGHT(User!B1116,(LEN(User!B1116)-LEN(I1116))))","v":{"$error":"#VALUE!"}}]
[{"$f":"LOWER(LEFT(User!B1117,LEN(I1117)))","v":""},{"$f":"ABS(RIGHT(User!B1117,(LEN(User!B1117)-LEN(I1117))))","v":{"$error":"#VALUE!"}}]
[{"$f":"LOWER(LEFT(User!B1118,LEN(I1118)))","v":""},{"$f":"ABS(RIGHT(User!B1118,(LEN(User!B1118)-LEN(I1118))))","v":{"$error":"#VALUE!"}}]
[{"$f":"LOWER(LEFT(User!B1119,LEN(I1119)))","v":""},{"$f":"ABS(RIGHT(User!B1119,(LEN(User!B1119)-LEN(I1119))))","v":{"$error":"#VALUE!"}}]
[{"$f":"LOWER(LEFT(User!B1120,LEN(I1120)))","v":""},{"$f":"ABS(RIGHT(User!B1120,(LEN(User!B1120)-LEN(I1120))))","v":{"$error":"#VALUE!"}}]
[{"$f":"LOWER(LEFT(User!B1121,LEN(I1121)))","v":""},{"$f":"ABS(RIGHT(User!B1121,(LEN(User!B1121)-LEN(I1121))))","v":{"$error":"#VALUE!"}}]
[{"$f":"LOWER(LEFT(User!B1122,LEN(I1122)))","v":""},{"$f":"ABS(RIGHT(User!B1122,(LEN(User!B1122)-LEN(I1122))))","v":{"$error":"#VALUE!"}}]
[{"$f":"LOWER(LEFT(User!B1123,LEN(I1123)))","v":""},{"$f":"ABS(RIGHT(User!B1123,(LEN(User!B1123)-LEN(I1123))))","v":{"$error":"#VALUE!"}}]
[{"$f":"LOWER(LEFT(User!B1124,LEN(I1124)))","v":""},{"$f":"ABS(RIGHT(User!B1124,(LEN(User!B1124)-LEN(I1124))))","v":{"$error":"#VALUE!"}}]
[{"$f":"LOWER(LEFT(User!B1125,LEN(I1125)))","v":""},{"$f":"ABS(RIGHT(User!B1125,(LEN(User!B1125)-LEN(I1125))))","v":{"$error":"#VALUE!"}}]
[{"$f":"LOWER(LEFT(User!B1126,LEN(I1126)))","v":""},{"$f":"ABS(RIGHT(User!B1126,(LEN(User!B1126)-LEN(I1126))))","v":{"$error":"#VALUE!"}}]
[{"$f":"LOWER(LEFT(User!B1127,LEN(I1127)))","v":""},{"$f":"ABS(RIGHT(User!B1127,(LEN(User!B1127)-LEN(I1127))))","v":{"$error":"#VALUE!"}}]
[{"$f":"LOWER(LEFT(User!B1128,LEN(I1128)))","v":""},{"$f":"ABS(RIGHT(User!B1128,(LEN(User!B1128)-LEN(I1128))))","v":{"$error":"#VALUE!"}}]
[{"$f":"LOWER(LEFT(User!B1129,LEN(I1129)))","v":""},{"$f":"ABS(RIGHT(User!B1129,(LEN(User!B1129)-LEN(I1129))))","v":{"$error":"#VALUE!"}}]
[{"$f":"LOWER(LEFT(User!B1130,LEN(I1130)))","v":""},{"$f":"ABS(RIGHT(User!B1130,(LEN(User!B1130)-LEN(I1130))))","v":{"$error":"#VALUE!"}}]
[{"$f":"LOWER(LEFT(User!B1131,LEN(I1131)))","v":""},{"$f":"ABS(RIGHT(User!B1131,(LEN(User!B1131)-LEN(I1131))))","v":{"$error":"#VALUE!"}}]
[{"$f":"LOWER(LEFT(User!B1132,LEN(I1132)))","v":""},{"$f":"ABS(RIGHT(User!B1132,(LEN(User!B1132)-LEN(I1132))))","v":{"$error":"#VALUE!"}}]
[{"$f":"LOWER(LEFT(User!B1133,LEN(I1133)))","v":""},{"$f":"ABS(RIGHT(User!B1133,(LEN(User!B1133)-LEN(I1133))))","v":{"$error":"#VALUE!"}}]
[{"$f":"LOWER(LEFT(User!B1134,LEN(I1134)))","v":""},{"$f":"ABS(RIGHT(User!B1134,(LEN(User!B1134)-LEN(I1134))))","v":{"$error":"#VALUE!"}}]
[{"$f":"LOWER(LEFT(User!B1135,LEN(I1135)))","v":""},{"$f":"ABS(RIGHT(User!B1135,(LEN(User!B1135)-LEN(I1135))))","v":{"$error":"#VALUE!"}}]
[{"$f":"LOWER(LEFT(User!B1136,LEN(I1136)))","v":""},{"$f":"ABS(RIGHT(User!B1136,(LEN(User!B1136)-LEN(I1136))))","v":{"$error":"#VALUE!"}}]
[{"$f":"LOWER(LEFT(User!B1137,LEN(I1137)))","v":""},{"$f":"ABS(RIGHT(User!B1137,(LEN(User!B1137)-LEN(I1137))))","v":{"$error":"#VALUE!"}}]
[{"$f":"LOWER(LEFT(User!B1138,LEN(I1138)))","v":""},{"$f":"ABS(RIGHT(User!B1138,(LEN(User!B1138)-LEN(I1138))))","v":{"$error":"#VALUE!"}}]
[{"$f":"LOWER(LEFT(User!B1139,LEN(I1139)))","v":""},{"$f":"ABS(RIGHT(User!B1139,(LEN(User!B1139)-LEN(I1139))))","v":{"$error":"#VALUE!"}}]
[{"$f":"LOWER(LEFT(User!B1140,LEN(I1140)))","v":""},{"$f":"ABS(RIGHT(User!B1140,(LEN(User!B1140)-LEN(I1140))))","v":{"$error":"#VALUE!"}}]
[{"$f":"LOWER(LEFT(User!B1141,LEN(I1141)))","v":""},{"$f":"ABS(RIGHT(User!B1141,(LEN(User!B1141)-LEN(I1141))))","v":{"$error":"#VALUE!"}}]
[{"$f":"LOWER(LEFT(User!B1142,LEN(I1142)))","v":""},{"$f":"ABS(RIGHT(User!B1142,(LEN(User!B1142)-LEN(I1142))))","v":{"$error":"#VALUE!"}}]
[{"$f":"LOWER(LEFT(User!B1143,LEN(I1143)))","v":""},{"$f":"ABS(RIGHT(User!B1143,(LEN(User!B1143)-LEN(I1143))))","v":{"$error":"#VALUE!"}}]
[{"$f":"LOWER(LEFT(User!B1144,LEN(I1144)))","v":""},{"$f":"ABS(RIGHT(User!B1144,(LEN(User!B1144)-LEN(I1144))))","v":{"$error":"#VALUE!"}}]
[{"$f":"LOWER(LEFT(User!B1145,LEN(I1145)))","v":""},{"$f":"ABS(RIGHT(User!B1145,(LEN(User!B1145)-LEN(I1145))))","v":{"$error":"#VALUE!"}}]
[{"$f":"LOWER(LEFT(User!B1146,LEN(I1146)))","v":""},{"$f":"ABS(RIGHT(User!B1146,(LEN(User!B1146)-LEN(I1146))))","v":{"$error":"#VALUE!"}}]
[{"$f":"LOWER(LEFT(User!B1147,LEN(I1147)))","v":""},{"$f":"ABS(RIGHT(User!B1147,(LEN(User!B1147)-LEN(I1147))))","v":{"$error":"#VALUE!"}}]
[{"$f":"LOWER(LEFT(User!B1148,LEN(I1148)))","v":""},{"$f":"ABS(RIGHT(User!B1148,(LEN(User!B1148)-LEN(I1148))))","v":{"$error":"#VALUE!"}}]
[{"$f":"LOWER(LEFT(User!B1149,LEN(I1149)))","v":""},{"$f":"ABS(RIGHT(User!B1149,(LEN(User!B1149)-LEN(I1149))))","v":{"$error":"#VALUE!"}}]
[{"$f":"LOWER(LEFT(User!B1150,LEN(I1150)))","v":""},{"$f":"ABS(RIGHT(User!B1150,(LEN(User!B1150)-LEN(I1150))))","v":{"$error":"#VALUE!"}}]
[{"$f":"LOWER(LEFT(User!B1151,LEN(I1151)))","v":""},{"$f":"ABS(RIGHT(User!B1151,(LEN(User!B1151)-LEN(I1151))))","v":{"$error":"#VALUE!"}}]
[{"$f":"LOWER(LEFT(User!B1152,LEN(I1152)))","v":""},{"$f":"ABS(RIGHT(User!B1152,(LEN(User!B1152)-LEN(I1152))))","v":{"$error":"#VALUE!"}}]
[{"$f":"LOWER(LEFT(User!B1153,LEN(I1153)))","v":""},{"$f":"ABS(RIGHT(User!B1153,(LEN(User!B1153)-LEN(I1153))))","v":{"$error":"#VALUE!"}}]
[{"$f":"LOWER(LEFT(User!B1154,LEN(I1154)))","v":""},{"$f":"ABS(RIGHT(User!B1154,(LEN(User!B1154)-LEN(I1154))))","v":{"$error":"#VALUE!"}}]
[{"$f":"LOWER(LEFT(User!B1155,LEN(I1155)))","v":""},{"$f":"ABS(RIGHT(User!B1155,(LEN(User!B1155)-LEN(I1155))))","v":{"$error":"#VALUE!"}}]
[{"$f":"LOWER(LEFT(User!B1156,LEN(I1156)))","v":""},{"$f":"ABS(RIGHT(User!B1156,(LEN(User!B1156)-LEN(I1156))))","v":{"$error":"#VALUE!"}}]
[{"$f":"LOWER(LEFT(User!B1157,LEN(I1157)))","v":""},{"$f":"ABS(RIGHT(User!B1157,(LEN(User!B1157)-LEN(I1157))))","v":{"$error":"#VALUE!"}}]
[{"$f":"LOWER(LEFT(User!B1158,LEN(I1158)))","v":""},{"$f":"ABS(RIGHT(User!B1158,(LEN(User!B1158)-LEN(I1158))))","v":{"$error":"#VALUE!"}}]
[{"$f":"LOWER(LEFT(User!B1159,LEN(I1159)))","v":""},{"$f":"ABS(RIGHT(User!B1159,(LEN(User!B1159)-LEN(I1159))))","v":{"$error":"#VALUE!"}}]
[{"$f":"LOWER(LEFT(User!B1160,LEN(I1160)))","v":""},{"$f":"ABS(RIGHT(User!B1160,(LEN(User!B1160)-LEN(I1160))))","v":{"$error":"#VALUE!"}}]
[{"$f":"LOWER(LEFT(User!B1161,LEN(I1161)))","v":""},{"$f":"ABS(RIGHT(User!B1161,(LEN(User!B1161)-LEN(I1161))))","v":{"$error":"#VALUE!"}}]
[{"$f":"LOWER(LEFT(User!B1162,LEN(I1162)))","v":""},{"$f":"ABS(RIGHT(User!B1162,(LEN(User!B1162)-LEN(I1162))))","v":{"$error":"#VALUE!"}}]
[{"$f":"LOWER(LEFT(User!B1163,LEN(I1163)))","v":""},{"$f":"ABS(RIGHT(User!B1163,(LEN(User!B1163)-LEN(I1163))))","v":{"$error":"#VALUE!"}}]
[{"$f":"LOWER(LEFT(User!B1164,LEN(I1164)))","v":""},{"$f":"ABS(RIGHT(User!B1164,(LEN(User!B1164)-LEN(I1164))))","v":{"$error":"#VALUE!"}}]
[{"$f":"LOWER(LEFT(User!B1165,LEN(I1165)))","v":""},{"$f":"ABS(RIGHT(User!B1165,(LEN(User!B1165)-LEN(I1165))))","v":{"$error":"#VALUE!"}}]
[{"$f":"LOWER(LEFT(User!B1166,LEN(I1166)))","v":""},{"$f":"ABS(RIGHT(User!B1166,(LEN(User!B1166)-LEN(I1166))))","v":{"$error":"#VALUE!"}}]
[{"$f":"LOWER(LEFT(User!B1167,LEN(I1167)))","v":""},{"$f":"ABS(RIGHT(User!B1167,(LEN(User!B1167)-LEN(I1167))))","v":{"$error":"#VALUE!"}}]
[{"$f":"LOWER(LEFT(User!B1168,LEN(I1168)))","v":""},{"$f":"ABS(RIGHT(User!B1168,(LEN(User!B1168)-LEN(I1168))))","v":{"$error":"#VALUE!"}}]
[{"$f":"LOWER(LEFT(User!B1169,LEN(I1169)))","v":""},{"$f":"ABS(RIGHT(User!B1169,(LEN(User!B1169)-LEN(I1169))))","v":{"$error":"#VALUE!"}}]
[{"$f":"LOWER(LEFT(User!B1170,LEN(I1170)))","v":""},{"$f":"ABS(RIGHT(User!B1170,(LEN(User!B1170)-LEN(I1170))))","v":{"$error":"#VALUE!"}}]
[{"$f":"LOWER(LEFT(User!B1171,LEN(I1171)))","v":""},{"$f":"ABS(RIGHT(User!B1171,(LEN(User!B1171)-LEN(I1171))))","v":{"$error":"#VALUE!"}}]
[{"$f":"LOWER(LEFT(User!B1172,LEN(I1172)))","v":""},{"$f":"ABS(RIGHT(User!B1172,(LEN(User!B1172)-LEN(I1172))))","v":{"$error":"#VALUE!"}}]
[{"$f":"LOWER(LEFT(User!B1173,LEN(I1173)))","v":""},{"$f":"ABS(RIGHT(User!B1173,(LEN(User!B1173)-LEN(I1173))))","v":{"$error":"#VALUE!"}}]
[{"$f":"LOWER(LEFT(User!B1174,LEN(I1174)))","v":""},{"$f":"ABS(RIGHT(User!B1174,(LEN(User!B1174)-LEN(I1174))))","v":{"$error":"#VALUE!"}}]
[{"$f":"LOWER(LEFT(User!B1175,LEN(I1175)))","v":""},{"$f":"ABS(RIGHT(User!B1175,(LEN(User!B1175)-LEN(I1175))))","v":{"$error":"#VALUE!"}}]
[{"$f":"LOWER(LEFT(User!B1176,LEN(I1176)))","v":""},{"$f":"ABS(RIGHT(User!B1176,(LEN(User!B1176)-LEN(I1176))))","v":{"$error":"#VALUE!"}}]
[{"$f":"LOWER(LEFT(User!B1177,LEN(I1177)))","v":""},{"$f":"ABS(RIGHT(User!B1177,(LEN(User!B1177)-LEN(I1177))))","v":{"$error":"#VALUE!"}}]
[{"$f":"LOWER(LEFT(User!B1178,LEN(I1178)))","v":""},{"$f":"ABS(RIGHT(User!B1178,(LEN(User!B1178)-LEN(I1178))))","v":{"$error":"#VALUE!"}}]
[{"$f":"LOWER(LEFT(User!B1179,LEN(I1179)))","v":""},{"$f":"ABS(RIGHT(User!B1179,(LEN(User!B1179)-LEN(I1179))))","v":{"$error":"#VALUE!"}}]
[{"$f":"LOWER(LEFT(User!B1180,LEN(I1180)))","v":""},{"$f":"ABS(RIGHT(User!B1180,(LEN(User!B1180)-LEN(I1180))))","v":{"$error":"#VALUE!"}}]
[{"$f":"LOWER(LEFT(User!B1181,LEN(I1181)))","v":""},{"$f":"ABS(RIGHT(User!B1181,(LEN(User!B1181)-LEN(I1181))))","v":{"$error":"#VALUE!"}}]
[{"$f":"LOWER(LEFT(User!B1182,LEN(I1182)))","v":""},{"$f":"ABS(RIGHT(User!B1182,(LEN(User!B1182)-LEN(I1182))))","v":{"$error":"#VALUE!"}}]
[{"$f":"LOWER(LEFT(User!B1183,LEN(I1183)))","v":""},{"$f":"ABS(RIGHT(User!B1183,(LEN(User!B1183)-LEN(I1183))))","v":{"$error":"#VALUE!"}}]
[{"$f":"LOWER(LEFT(User!B1184,LEN(I1184)))","v":""},{"$f":"ABS(RIGHT(User!B1184,(LEN(User!B1184)-LEN(I1184))))","v":{"$error":"#VALUE!"}}]
[{"$f":"LOWER(LEFT(User!B1185,LEN(I1185)))","v":""},{"$f":"ABS(RIGHT(User!B1185,(LEN(User!B1185)-LEN(I1185))))","v":{"$error":"#VALUE!"}}]
[{"$f":"LOWER(LEFT(User!B1186,LEN(I1186)))","v":""},{"$f":"ABS(RIGHT(User!B1186,(LEN(User!B1186)-LEN(I1186))))","v":{"$error":"#VALUE!"}}]
[{"$f":"LOWER(LEFT(User!B1187,LEN(I1187)))","v":""},{"$f":"ABS(RIGHT(User!B1187,(LEN(User!B1187)-LEN(I1187))))","v":{"$error":"#VALUE!"}}]
[{"$f":"LOWER(LEFT(User!B1188,LEN(I1188)))","v":""},{"$f":"ABS(RIGHT(User!B1188,(LEN(User!B1188)-LEN(I1188))))","v":{"$error":"#VALUE!"}}]
[{"$f":"LOWER(LEFT(User!B1189,LEN(I1189)))","v":""},{"$f":"ABS(RIGHT(User!B1189,(LEN(User!B1189)-LEN(I1189))))","v":{"$error":"#VALUE!"}}]
[{"$f":"LOWER(LEFT(User!B1190,LEN(I1190)))","v":""},{"$f":"ABS(RIGHT(User!B1190,(LEN(User!B1190)-LEN(I1190))))","v":{"$error":"#VALUE!"}}]
[{"$f":"LOWER(LEFT(User!B1191,LEN(I1191)))","v":""},{"$f":"ABS(RIGHT(User!B1191,(LEN(User!B1191)-LEN(I1191))))","v":{"$error":"#VALUE!"}}]
[{"$f":"LOWER(LEFT(User!B1192,LEN(I1192)))","v":""},{"$f":"ABS(RIGHT(User!B1192,(LEN(User!B1192)-LEN(I1192))))","v":{"$error":"#VALUE!"}}]
[{"$f":"LOWER(LEFT(User!B1193,LEN(I1193)))","v":""},{"$f":"ABS(RIGHT(User!B1193,(LEN(User!B1193)-LEN(I1193))))","v":{"$error":"#VALUE!"}}]
[{"$f":"LOWER(LEFT(User!B1194,LEN(I1194)))","v":""},{"$f":"ABS(RIGHT(User!B1194,(LEN(User!B1194)-LEN(I1194))))","v":{"$error":"#VALUE!"}}]
[{"$f":"LOWER(LEFT(User!B1195,LEN(I1195)))","v":""},{"$f":"ABS(RIGHT(User!B1195,(LEN(User!B1195)-LEN(I1195))))","v":{"$error":"#VALUE!"}}]
[{"$f":"LOWER(LEFT(User!B1196,LEN(I1196)))","v":""},{"$f":"ABS(RIGHT(User!B1196,(LEN(User!B1196)-LEN(I1196))))","v":{"$error":"#VALUE!"}}]
[{"$f":"LOWER(LEFT(User!B1197,LEN(I1197)))","v":""},{"$f":"ABS(RIGHT(User!B1197,(LEN(User!B1197)-LEN(I1197))))","v":{"$error":"#VALUE!"}}]
[{"$f":"LOWER(LEFT(User!B1198,LEN(I1198)))","v":""},{"$f":"ABS(RIGHT(User!B1198,(LEN(User!B1198)-LEN(I1198))))","v":{"$error":"#VALUE!"}}]
[{"$f":"LOWER(LEFT(User!B1199,LEN(I1199)))","v":""},{"$f":"ABS(RIGHT(User!B1199,(LEN(User!B1199)-LEN(I1199))))","v":{"$error":"#VALUE!"}}]
[{"$f":"LOWER(LEFT(User!B1200,LEN(I1200)))","v":""},{"$f":"ABS(RIGHT(User!B1200,(LEN(User!B1200)-LEN(I1200))))","v":{"$error":"#VALUE!"}}]
[{"$f":"LOWER(LEFT(User!B1201,LEN(I1201)))","v":""},{"$f":"ABS(RIGHT(User!B1201,(LEN(User!B1201)-LEN(I1201))))","v":{"$error":"#VALUE!"}}]
[{"$f":"LOWER(LEFT(User!B1202,LEN(I1202)))","v":""},{"$f":"ABS(RIGHT(User!B1202,(LEN(User!B1202)-LEN(I1202))))","v":{"$error":"#VALUE!"}}]
[{"$f":"LOWER(LEFT(User!B1203,LEN(I1203)))","v":""},{"$f":"ABS(RIGHT(User!B1203,(LEN(User!B1203)-LEN(I1203))))","v":{"$error":"#VALUE!"}}]
[{"$f":"LOWER(LEFT(User!B1204,LEN(I1204)))","v":""},{"$f":"ABS(RIGHT(User!B1204,(LEN(User!B1204)-LEN(I1204))))","v":{"$error":"#VALUE!"}}]
[{"$f":"LOWER(LEFT(User!B1205,LEN(I1205)))","v":""},{"$f":"ABS(RIGHT(User!B1205,(LEN(User!B1205)-LEN(I1205))))","v":{"$error":"#VALUE!"}}]
[{"$f":"LOWER(LEFT(User!B1206,LEN(I1206)))","v":""},{"$f":"ABS(RIGHT(User!B1206,(LEN(User!B1206)-LEN(I1206))))","v":{"$error":"#VALUE!"}}]
[{"$f":"LOWER(LEFT(User!B1207,LEN(I1207)))","v":""},{"$f":"ABS(RIGHT(User!B1207,(LEN(User!B1207)-LEN(I1207))))","v":{"$error":"#VALUE!"}}]
[{"$f":"LOWER(LEFT(User!B1208,LEN(I1208)))","v":""},{"$f":"ABS(RIGHT(User!B1208,(LEN(User!B1208)-LEN(I1208))))","v":{"$error":"#VALUE!"}}]
[{"$f":"LOWER(LEFT(User!B1209,LEN(I1209)))","v":""},{"$f":"ABS(RIGHT(User!B1209,(LEN(User!B1209)-LEN(I1209))))","v":{"$error":"#VALUE!"}}]
[{"$f":"LOWER(LEFT(User!B1210,LEN(I1210)))","v":""},{"$f":"ABS(RIGHT(User!B1210,(LEN(User!B1210)-LEN(I1210))))","v":{"$error":"#VALUE!"}}]
[{"$f":"LOWER(LEFT(User!B1211,LEN(I1211)))","v":""},{"$f":"ABS(RIGHT(User!B1211,(LEN(User!B1211)-LEN(I1211))))","v":{"$error":"#VALUE!"}}]
[{"$f":"LOWER(LEFT(User!B1212,LEN(I1212)))","v":""},{"$f":"ABS(RIGHT(User!B1212,(LEN(User!B1212)-LEN(I1212))))","v":{"$error":"#VALUE!"}}]
[{"$f":"LOWER(LEFT(User!B1213,LEN(I1213)))","v":""},{"$f":"ABS(RIGHT(User!B1213,(LEN(User!B1213)-LEN(I1213))))","v":{"$error":"#VALUE!"}}]
[{"$f":"LOWER(LEFT(User!B1214,LEN(I1214)))","v":""},{"$f":"ABS(RIGHT(User!B1214,(LEN(User!B1214)-LEN(I1214))))","v":{"$error":"#VALUE!"}}]
[{"$f":"LOWER(LEFT(User!B1215,LEN(I1215)))","v":""},{"$f":"ABS(RIGHT(User!B1215,(LEN(User!B1215)-LEN(I1215))))","v":{"$error":"#VALUE!"}}]
[{"$f":"LOWER(LEFT(User!B1216,LEN(I1216)))","v":""},{"$f":"ABS(RIGHT(User!B1216,(LEN(User!B1216)-LEN(I1216))))","v":{"$error":"#VALUE!"}}]
[{"$f":"LOWER(LEFT(User!B1217,LEN(I1217)))","v":""},{"$f":"ABS(RIGHT(User!B1217,(LEN(User!B1217)-LEN(I1217))))","v":{"$error":"#VALUE!"}}]
[{"$f":"LOWER(LEFT(User!B1218,LEN(I1218)))","v":""},{"$f":"ABS(RIGHT(User!B1218,(LEN(User!B1218)-LEN(I1218))))","v":{"$error":"#VALUE!"}}]
[{"$f":"LOWER(LEFT(User!B1219,LEN(I1219)))","v":""},{"$f":"ABS(RIGHT(User!B1219,(LEN(User!B1219)-LEN(I1219))))","v":{"$error":"#VALUE!"}}]
[{"$f":"LOWER(LEFT(User!B1220,LEN(I1220)))","v":""},{"$f":"ABS(RIGHT(User!B1220,(LEN(User!B1220)-LEN(I1220))))","v":{"$error":"#VALUE!"}}]
[{"$f":"LOWER(LEFT(User!B1221,LEN(I1221)))","v":""},{"$f":"ABS(RIGHT(User!B1221,(LEN(User!B1221)-LEN(I1221))))","v":{"$error":"#VALUE!"}}]
[{"$f":"LOWER(LEFT(User!B1222,LEN(I1222)))","v":""},{"$f":"ABS(RIGHT(User!B1222,(LEN(User!B1222)-LEN(I1222))))","v":{"$error":"#VALUE!"}}]
[{"$f":"LOWER(LEFT(User!B1223,LEN(I1223)))","v":""},{"$f":"ABS(RIGHT(User!B1223,(LEN(User!B1223)-LEN(I1223))))","v":{"$error":"#VALUE!"}}]
[{"$f":"LOWER(LEFT(User!B1224,LEN(I1224)))","v":""},{"$f":"ABS(RIGHT(User!B1224,(LEN(User!B1224)-LEN(I1224))))","v":{"$error":"#VALUE!"}}]
[{"$f":"LOWER(LEFT(User!B1225,LEN(I1225)))","v":""},{"$f":"ABS(RIGHT(User!B1225,(LEN(User!B1225)-LEN(I1225))))","v":{"$error":"#VALUE!"}}]
[{"$f":"LOWER(LEFT(User!B1226,LEN(I1226)))","v":""},{"$f":"ABS(RIGHT(User!B1226,(LEN(User!B1226)-LEN(I1226))))","v":{"$error":"#VALUE!"}}]
[{"$f":"LOWER(LEFT(User!B1227,LEN(I1227)))","v":""},{"$f":"ABS(RIGHT(User!B1227,(LEN(User!B1227)-LEN(I1227))))","v":{"$error":"#VALUE!"}}]
[{"$f":"LOWER(LEFT(User!B1228,LEN(I1228)))","v":""},{"$f":"ABS(RIGHT(User!B1228,(LEN(User!B1228)-LEN(I1228))))","v":{"$error":"#VALUE!"}}]
[{"$f":"LOWER(LEFT(User!B1229,LEN(I1229)))","v":""},{"$f":"ABS(RIGHT(User!B1229,(LEN(User!B1229)-LEN(I1229))))","v":{"$error":"#VALUE!"}}]
[{"$f":"LOWER(LEFT(User!B1230,LEN(I1230)))","v":""},{"$f":"ABS(RIGHT(User!B1230,(LEN(User!B1230)-LEN(I1230))))","v":{"$error":"#VALUE!"}}]
[{"$f":"LOWER(LEFT(User!B1231,LEN(I1231)))","v":""},{"$f":"ABS(RIGHT(User!B1231,(LEN(User!B1231)-LEN(I1231))))","v":{"$error":"#VALUE!"}}]
[{"$f":"LOWER(LEFT(User!B1232,LEN(I1232)))","v":""},{"$f":"ABS(RIGHT(User!B1232,(LEN(User!B1232)-LEN(I1232))))","v":{"$error":"#VALUE!"}}]
[{"$f":"LOWER(LEFT(User!B1233,LEN(I1233)))","v":""},{"$f":"ABS(RIGHT(User!B1233,(LEN(User!B1233)-LEN(I1233))))","v":{"$error":"#VALUE!"}}]
[{"$f":"LOWER(LEFT(User!B1234,LEN(I1234)))","v":""},{"$f":"ABS(RIGHT(User!B1234,(LEN(User!B1234)-LEN(I1234))))","v":{"$error":"#VALUE!"}}]
[{"$f":"LOWER(LEFT(User!B1235,LEN(I1235)))","v":""},{"$f":"ABS(RIGHT(User!B1235,(LEN(User!B1235)-LEN(I1235))))","v":{"$error":"#VALUE!"}}]
[{"$f":"LOWER(LEFT(User!B1236,LEN(I1236)))","v":""},{"$f":"ABS(RIGHT(User!B1236,(LEN(User!B1236)-LEN(I1236))))","v":{"$error":"#VALUE!"}}]
[{"$f":"LOWER(LEFT(User!B1237,LEN(I1237)))","v":""},{"$f":"ABS(RIGHT(User!B1237,(LEN(User!B1237)-LEN(I1237))))","v":{"$error":"#VALUE!"}}]
[{"$f":"LOWER(LEFT(User!B1238,LEN(I1238)))","v":""},{"$f":"ABS(RIGHT(User!B1238,(LEN(User!B1238)-LEN(I1238))))","v":{"$error":"#VALUE!"}}]
[{"$f":"LOWER(LEFT(User!B1239,LEN(I1239)))","v":""},{"$f":"ABS(RIGHT(User!B1239,(LEN(User!B1239)-LEN(I1239))))","v":{"$error":"#VALUE!"}}]
[{"$f":"LOWER(LEFT(User!B1240,LEN(I1240)))","v":""},{"$f":"ABS(RIGHT(User!B1240,(LEN(User!B1240)-LEN(I1240))))","v":{"$error":"#VALUE!"}}]
[{"$f":"LOWER(LEFT(User!B1241,LEN(I1241)))","v":""},{"$f":"ABS(RIGHT(User!B1241,(LEN(User!B1241)-LEN(I1241))))","v":{"$error":"#VALUE!"}}]
[{"$f":"LOWER(LEFT(User!B1242,LEN(I1242)))","v":""},{"$f":"ABS(RIGHT(User!B1242,(LEN(User!B1242)-LEN(I1242))))","v":{"$error":"#VALUE!"}}]
[{"$f":"LOWER(LEFT(User!B1243,LEN(I1243)))","v":""},{"$f":"ABS(RIGHT(User!B1243,(LEN(User!B1243)-LEN(I1243))))","v":{"$error":"#VALUE!"}}]
[{"$f":"LOWER(LEFT(User!B1244,LEN(I1244)))","v":""},{"$f":"ABS(RIGHT(User!B1244,(LEN(User!B1244)-LEN(I1244))))","v":{"$error":"#VALUE!"}}]
[{"$f":"LOWER(LEFT(User!B1245,LEN(I1245)))","v":""},{"$f":"ABS(RIGHT(User!B1245,(LEN(User!B1245)-LEN(I1245))))","v":{"$error":"#VALUE!"}}]
[{"$f":"LOWER(LEFT(User!B1246,LEN(I1246)))","v":""},{"$f":"ABS(RIGHT(User!B1246,(LEN(User!B1246)-LEN(I1246))))","v":{"$error":"#VALUE!"}}]
[{"$f":"LOWER(LEFT(User!B1247,LEN(I1247)))","v":""},{"$f":"ABS(RIGHT(User!B1247,(LEN(User!B1247)-LEN(I1247))))","v":{"$error":"#VALUE!"}}]
[{"$f":"LOWER(LEFT(User!B1248,LEN(I1248)))","v":""},{"$f":"ABS(RIGHT(User!B1248,(LEN(User!B1248)-LEN(I1248))))","v":{"$error":"#VALUE!"}}]
[{"$f":"LOWER(LEFT(User!B1249,LEN(I1249)))","v":""},{"$f":"ABS(RIGHT(User!B1249,(LEN(User!B1249)-LEN(I1249))))","v":{"$error":"#VALUE!"}}]
[{"$f":"LOWER(LEFT(User!B1250,LEN(I1250)))","v":""},{"$f":"ABS(RIGHT(User!B1250,(LEN(User!B1250)-LEN(I1250))))","v":{"$error":"#VALUE!"}}]
[{"$f":"LOWER(LEFT(User!B1251,LEN(I1251)))","v":""},{"$f":"ABS(RIGHT(User!B1251,(LEN(User!B1251)-LEN(I1251))))","v":{"$error":"#VALUE!"}}]
[{"$f":"LOWER(LEFT(User!B1252,LEN(I1252)))","v":""},{"$f":"ABS(RIGHT(User!B1252,(LEN(User!B1252)-LEN(I1252))))","v":{"$error":"#VALUE!"}}]
[{"$f":"LOWER(LEFT(User!B1253,LEN(I1253)))","v":""},{"$f":"ABS(RIGHT(User!B1253,(LEN(User!B1253)-LEN(I1253))))","v":{"$error":"#VALUE!"}}]
[{"$f":"LOWER(LEFT(User!B1254,LEN(I1254)))","v":""},{"$f":"ABS(RIGHT(User!B1254,(LEN(User!B1254)-LEN(I1254))))","v":{"$error":"#VALUE!"}}]
[{"$f":"LOWER(LEFT(User!B1255,LEN(I1255)))","v":""},{"$f":"ABS(RIGHT(User!B1255,(LEN(User!B1255)-LEN(I1255))))","v":{"$error":"#VALUE!"}}]
[{"$f":"LOWER(LEFT(User!B1256,LEN(I1256)))","v":""},{"$f":"ABS(RIGHT(User!B1256,(LEN(User!B1256)-LEN(I1256))))","v":{"$error":"#VALUE!"}}]
[{"$f":"LOWER(LEFT(User!B1257,LEN(I1257)))","v":""},{"$f":"ABS(RIGHT(User!B1257,(LEN(User!B1257)-LEN(I1257))))","v":{"$error":"#VALUE!"}}]
[{"$f":"LOWER(LEFT(User!B1258,LEN(I1258)))","v":""},{"$f":"ABS(RIGHT(User!B1258,(LEN(User!B1258)-LEN(I1258))))","v":{"$error":"#VALUE!"}}]
[{"$f":"LOWER(LEFT(User!B1259,LEN(I1259)))","v":""},{"$f":"ABS(RIGHT(User!B1259,(LEN(User!B1259)-LEN(I1259))))","v":{"$error":"#VALUE!"}}]
[{"$f":"LOWER(LEFT(User!B1260,LEN(I1260)))","v":""},{"$f":"ABS(RIGHT(User!B1260,(LEN(User!B1260)-LEN(I1260))))","v":{"$error":"#VALUE!"}}]
[{"$f":"LOWER(LEFT(User!B1261,LEN(I1261)))","v":""},{"$f":"ABS(RIGHT(User!B1261,(LEN(User!B1261)-LEN(I1261))))","v":{"$error":"#VALUE!"}}]
[{"$f":"LOWER(LEFT(User!B1262,LEN(I1262)))","v":""},{"$f":"ABS(RIGHT(User!B1262,(LEN(User!B1262)-LEN(I1262))))","v":{"$error":"#VALUE!"}}]
[{"$f":"LOWER(LEFT(User!B1263,LEN(I1263)))","v":""},{"$f":"ABS(RIGHT(User!B1263,(LEN(User!B1263)-LEN(I1263))))","v":{"$error":"#VALUE!"}}]
[{"$f":"LOWER(LEFT(User!B1264,LEN(I1264)))","v":""},{"$f":"ABS(RIGHT(User!B1264,(LEN(User!B1264)-LEN(I1264))))","v":{"$error":"#VALUE!"}}]
[{"$f":"LOWER(LEFT(User!B1265,LEN(I1265)))","v":""},{"$f":"ABS(RIGHT(User!B1265,(LEN(User!B1265)-LEN(I1265))))","v":{"$error":"#VALUE!"}}]
[{"$f":"LOWER(LEFT(User!B1266,LEN(I1266)))","v":""},{"$f":"ABS(RIGHT(User!B1266,(LEN(User!B1266)-LEN(I1266))))","v":{"$error":"#VALUE!"}}]
[{"$f":"LOWER(LEFT(User!B1267,LEN(I1267)))","v":""},{"$f":"ABS(RIGHT(User!B1267,(LEN(User!B1267)-LEN(I1267))))","v":{"$error":"#VALUE!"}}]
[{"$f":"LOWER(LEFT(User!B1268,LEN(I1268)))","v":""},{"$f":"ABS(RIGHT(User!B1268,(LEN(User!B1268)-LEN(I1268))))","v":{"$error":"#VALUE!"}}]
[{"$f":"LOWER(LEFT(User!B1269,LEN(I1269)))","v":""},{"$f":"ABS(RIGHT(User!B1269,(LEN(User!B1269)-LEN(I1269))))","v":{"$error":"#VALUE!"}}]
[{"$f":"LOWER(LEFT(User!B1270,LEN(I1270)))","v":""},{"$f":"ABS(RIGHT(User!B1270,(LEN(User!B1270)-LEN(I1270))))","v":{"$error":"#VALUE!"}}]
[{"$f":"LOWER(LEFT(User!B1271,LEN(I1271)))","v":""},{"$f":"ABS(RIGHT(User!B1271,(LEN(User!B1271)-LEN(I1271))))","v":{"$error":"#VALUE!"}}]
[{"$f":"LOWER(LEFT(User!B1272,LEN(I1272)))","v":""},{"$f":"ABS(RIGHT(User!B1272,(LEN(User!B1272)-LEN(I1272))))","v":{"$error":"#VALUE!"}}]
[{"$f":"LOWER(LEFT(User!B1273,LEN(I1273)))","v":""},{"$f":"ABS(RIGHT(User!B1273,(LEN(User!B1273)-LEN(I1273))))","v":{"$error":"#VALUE!"}}]
[{"$f":"LOWER(LEFT(User!B1274,LEN(I1274)))","v":""},{"$f":"ABS(RIGHT(User!B1274,(LEN(User!B1274)-LEN(I1274))))","v":{"$error":"#VALUE!"}}]
[{"$f":"LOWER(LEFT(User!B1275,LEN(I1275)))","v":""},{"$f":"ABS(RIGHT(User!B1275,(LEN(User!B1275)-LEN(I1275))))","v":{"$error":"#VALUE!"}}]
[{"$f":"LOWER(LEFT(User!B1276,LEN(I1276)))","v":""},{"$f":"ABS(RIGHT(User!B1276,(LEN(User!B1276)-LEN(I1276))))","v":{"$error":"#VALUE!"}}]
[{"$f":"LOWER(LEFT(User!B1277,LEN(I1277)))","v":""},{"$f":"ABS(RIGHT(User!B1277,(LEN(User!B1277)-LEN(I1277))))","v":{"$error":"#VALUE!"}}]
[{"$f":"LOWER(LEFT(User!B1278,LEN(I1278)))","v":""},{"$f":"ABS(RIGHT(User!B1278,(LEN(User!B1278)-LEN(I1278))))","v":{"$error":"#VALUE!"}}]
[{"$f":"LOWER(LEFT(User!B1279,LEN(I1279)))","v":""},{"$f":"ABS(RIGHT(User!B1279,(LEN(User!B1279)-LEN(I1279))))","v":{"$error":"#VALUE!"}}]
[{"$f":"LOWER(LEFT(User!B1280,LEN(I1280)))","v":""},{"$f":"ABS(RIGHT(User!B1280,(LEN(User!B1280)-LEN(I1280))))","v":{"$error":"#VALUE!"}}]
[{"$f":"LOWER(LEFT(User!B1281,LEN(I1281)))","v":""},{"$f":"ABS(RIGHT(User!B1281,(LEN(User!B1281)-LEN(I1281))))","v":{"$error":"#VALUE!"}}]
[{"$f":"LOWER(LEFT(User!B1282,LEN(I1282)))","v":""},{"$f":"ABS(RIGHT(User!B1282,(LEN(User!B1282)-LEN(I1282))))","v":{"$error":"#VALUE!"}}]
[{"$f":"LOWER(LEFT(User!B1283,LEN(I1283)))","v":""},{"$f":"ABS(RIGHT(User!B1283,(LEN(User!B1283)-LEN(I1283))))","v":{"$error":"#VALUE!"}}]
[{"$f":"LOWER(LEFT(User!B1284,LEN(I1284)))","v":""},{"$f":"ABS(RIGHT(User!B1284,(LEN(User!B1284)-LEN(I1284))))","v":{"$error":"#VALUE!"}}]
[{"$f":"LOWER(LEFT(User!B1285,LEN(I1285)))","v":""},{"$f":"ABS(RIGHT(User!B1285,(LEN(User!B1285)-LEN(I1285))))","v":{"$error":"#VALUE!"}}]
[{"$f":"LOWER(LEFT(User!B1286,LEN(I1286)))","v":""},{"$f":"ABS(RIGHT(User!B1286,(LEN(User!B1286)-LEN(I1286))))","v":{"$error":"#VALUE!"}}]
[{"$f":"LOWER(LEFT(User!B1287,LEN(I1287)))","v":""},{"$f":"ABS(RIGHT(User!B1287,(LEN(User!B1287)-LEN(I1287))))","v":{"$error":"#VALUE!"}}]
[{"$f":"LOWER(LEFT(User!B1288,LEN(I1288)))","v":""},{"$f":"ABS(RIGHT(User!B1288,(LEN(User!B1288)-LEN(I1288))))","v":{"$error":"#VALUE!"}}]
[{"$f":"LOWER(LEFT(User!B1289,LEN(I1289)))","v":""},{"$f":"ABS(RIGHT(User!B1289,(LEN(User!B1289)-LEN(I1289))))","v":{"$error":"#VALUE!"}}]
[{"$f":"LOWER(LEFT(User!B1290,LEN(I1290)))","v":""},{"$f":"ABS(RIGHT(User!B1290,(LEN(User!B1290)-LEN(I1290))))","v":{"$error":"#VALUE!"}}]
[{"$f":"LOWER(LEFT(User!B1291,LEN(I1291)))","v":""},{"$f":"ABS(RIGHT(User!B1291,(LEN(User!B1291)-LEN(I1291))))","v":{"$error":"#VALUE!"}}]
[{"$f":"LOWER(LEFT(User!B1292,LEN(I1292)))","v":""},{"$f":"ABS(RIGHT(User!B1292,(LEN(User!B1292)-LEN(I1292))))","v":{"$error":"#VALUE!"}}]
[{"$f":"LOWER(LEFT(User!B1293,LEN(I1293)))","v":""},{"$f":"ABS(RIGHT(User!B1293,(LEN(User!B1293)-LEN(I1293))))","v":{"$error":"#VALUE!"}}]
[{"$f":"LOWER(LEFT(User!B1294,LEN(I1294)))","v":""},{"$f":"ABS(RIGHT(User!B1294,(LEN(User!B1294)-LEN(I1294))))","v":{"$error":"#VALUE!"}}]
[{"$f":"LOWER(LEFT(User!B1295,LEN(I1295)))","v":""},{"$f":"ABS(RIGHT(User!B1295,(LEN(User!B1295)-LEN(I1295))))","v":{"$error":"#VALUE!"}}]
[{"$f":"LOWER(LEFT(User!B1296,LEN(I1296)))","v":""},{"$f":"ABS(RIGHT(User!B1296,(LEN(User!B1296)-LEN(I1296))))","v":{"$error":"#VALUE!"}}]
[{"$f":"LOWER(LEFT(User!B1297,LEN(I1297)))","v":""},{"$f":"ABS(RIGHT(User!B1297,(LEN(User!B1297)-LEN(I1297))))","v":{"$error":"#VALUE!"}}]
[{"$f":"LOWER(LEFT(User!B1298,LEN(I1298)))","v":""},{"$f":"ABS(RIGHT(User!B1298,(LEN(User!B1298)-LEN(I1298))))","v":{"$error":"#VALUE!"}}]
[{"$f":"LOWER(LEFT(User!B1299,LEN(I1299)))","v":""},{"$f":"ABS(RIGHT(User!B1299,(LEN(User!B1299)-LEN(I1299))))","v":{"$error":"#VALUE!"}}]
[{"$f":"LOWER(LEFT(User!B1300,LEN(I1300)))","v":""},{"$f":"ABS(RIGHT(User!B1300,(LEN(User!B1300)-LEN(I1300))))","v":{"$error":"#VALUE!"}}]
[{"$f":"LOWER(LEFT(User!B1301,LEN(I1301)))","v":""},{"$f":"ABS(RIGHT(User!B1301,(LEN(User!B1301)-LEN(I1301))))","v":{"$error":"#VALUE!"}}]
[{"$f":"LOWER(LEFT(User!B1302,LEN(I1302)))","v":""},{"$f":"ABS(RIGHT(User!B1302,(LEN(User!B1302)-LEN(I1302))))","v":{"$error":"#VALUE!"}}]
[{"$f":"LOWER(LEFT(User!B1303,LEN(I1303)))","v":""},{"$f":"ABS(RIGHT(User!B1303,(LEN(User!B1303)-LEN(I1303))))","v":{"$error":"#VALUE!"}}]
[{"$f":"LOWER(LEFT(User!B1304,LEN(I1304)))","v":""},{"$f":"ABS(RIGHT(User!B1304,(LEN(User!B1304)-LEN(I1304))))","v":{"$error":"#VALUE!"}}]
[{"$f":"LOWER(LEFT(User!B1305,LEN(I1305)))","v":""},{"$f":"ABS(RIGHT(User!B1305,(LEN(User!B1305)-LEN(I1305))))","v":{"$error":"#VALUE!"}}]
[{"$f":"LOWER(LEFT(User!B1306,LEN(I1306)))","v":""},{"$f":"ABS(RIGHT(User!B1306,(LEN(User!B1306)-LEN(I1306))))","v":{"$error":"#VALUE!"}}]
[{"$f":"LOWER(LEFT(User!B1307,LEN(I1307)))","v":""},{"$f":"ABS(RIGHT(User!B1307,(LEN(User!B1307)-LEN(I1307))))","v":{"$error":"#VALUE!"}}]
[{"$f":"LOWER(LEFT(User!B1308,LEN(I1308)))","v":""},{"$f":"ABS(RIGHT(User!B1308,(LEN(User!B1308)-LEN(I1308))))","v":{"$error":"#VALUE!"}}]
[{"$f":"LOWER(LEFT(User!B1309,LEN(I1309)))","v":""},{"$f":"ABS(RIGHT(User!B1309,(LEN(User!B1309)-LEN(I1309))))","v":{"$error":"#VALUE!"}}]
[{"$f":"LOWER(LEFT(User!B1310,LEN(I1310)))","v":""},{"$f":"ABS(RIGHT(User!B1310,(LEN(User!B1310)-LEN(I1310))))","v":{"$error":"#VALUE!"}}]
[{"$f":"LOWER(LEFT(User!B1311,LEN(I1311)))","v":""},{"$f":"ABS(RIGHT(User!B1311,(LEN(User!B1311)-LEN(I1311))))","v":{"$error":"#VALUE!"}}]
[{"$f":"LOWER(LEFT(User!B1312,LEN(I1312)))","v":""},{"$f":"ABS(RIGHT(User!B1312,(LEN(User!B1312)-LEN(I1312))))","v":{"$error":"#VALUE!"}}]
[{"$f":"LOWER(LEFT(User!B1313,LEN(I1313)))","v":""},{"$f":"ABS(RIGHT(User!B1313,(LEN(User!B1313)-LEN(I1313))))","v":{"$error":"#VALUE!"}}]
[{"$f":"LOWER(LEFT(User!B1314,LEN(I1314)))","v":""},{"$f":"ABS(RIGHT(User!B1314,(LEN(User!B1314)-LEN(I1314))))","v":{"$error":"#VALUE!"}}]
[{"$f":"LOWER(LEFT(User!B1315,LEN(I1315)))","v":""},{"$f":"ABS(RIGHT(User!B1315,(LEN(User!B1315)-LEN(I1315))))","v":{"$error":"#VALUE!"}}]
[{"$f":"LOWER(LEFT(User!B1316,LEN(I1316)))","v":""},{"$f":"ABS(RIGHT(User!B1316,(LEN(User!B1316)-LEN(I1316))))","v":{"$error":"#VALUE!"}}]
[{"$f":"LOWER(LEFT(User!B1317,LEN(I1317)))","v":""},{"$f":"ABS(RIGHT(User!B1317,(LEN(User!B1317)-LEN(I1317))))","v":{"$error":"#VALUE!"}}]
[{"$f":"LOWER(LEFT(User!B1318,LEN(I1318)))","v":""},{"$f":"ABS(RIGHT(User!B1318,(LEN(User!B1318)-LEN(I1318))))","v":{"$error":"#VALUE!"}}]
[{"$f":"LOWER(LEFT(User!B1319,LEN(I1319)))","v":""},{"$f":"ABS(RIGHT(User!B1319,(LEN(User!B1319)-LEN(I1319))))","v":{"$error":"#VALUE!"}}]
[{"$f":"LOWER(LEFT(User!B1320,LEN(I1320)))","v":""},{"$f":"ABS(RIGHT(User!B1320,(LEN(User!B1320)-LEN(I1320))))","v":{"$error":"#VALUE!"}}]
[{"$f":"LOWER(LEFT(User!B1321,LEN(I1321)))","v":""},{"$f":"ABS(RIGHT(User!B1321,(LEN(User!B1321)-LEN(I1321))))","v":{"$error":"#VALUE!"}}]
[{"$f":"LOWER(LEFT(User!B1322,LEN(I1322)))","v":""},{"$f":"ABS(RIGHT(User!B1322,(LEN(User!B1322)-LEN(I1322))))","v":{"$error":"#VALUE!"}}]
[{"$f":"LOWER(LEFT(User!B1323,LEN(I1323)))","v":""},{"$f":"ABS(RIGHT(User!B1323,(LEN(User!B1323)-LEN(I1323))))","v":{"$error":"#VALUE!"}}]
[{"$f":"LOWER(LEFT(User!B1324,LEN(I1324)))","v":""},{"$f":"ABS(RIGHT(User!B1324,(LEN(User!B1324)-LEN(I1324))))","v":{"$error":"#VALUE!"}}]
[{"$f":"LOWER(LEFT(User!B1325,LEN(I1325)))","v":""},{"$f":"ABS(RIGHT(User!B1325,(LEN(User!B1325)-LEN(I1325))))","v":{"$error":"#VALUE!"}}]
[{"$f":"LOWER(LEFT(User!B1326,LEN(I1326)))","v":""},{"$f":"ABS(RIGHT(User!B1326,(LEN(User!B1326)-LEN(I1326))))","v":{"$error":"#VALUE!"}}]
[{"$f":"LOWER(LEFT(User!B1327,LEN(I1327)))","v":""},{"$f":"ABS(RIGHT(User!B1327,(LEN(User!B1327)-LEN(I1327))))","v":{"$error":"#VALUE!"}}]
[{"$f":"LOWER(LEFT(User!B1328,LEN(I1328)))","v":""},{"$f":"ABS(RIGHT(User!B1328,(LEN(User!B1328)-LEN(I1328))))","v":{"$error":"#VALUE!"}}]
[{"$f":"LOWER(LEFT(User!B1329,LEN(I1329)))","v":""},{"$f":"ABS(RIGHT(User!B1329,(LEN(User!B1329)-LEN(I1329))))","v":{"$error":"#VALUE!"}}]
[{"$f":"LOWER(LEFT(User!B1330,LEN(I1330)))","v":""},{"$f":"ABS(RIGHT(User!B1330,(LEN(User!B1330)-LEN(I1330))))","v":{"$error":"#VALUE!"}}]
[{"$f":"LOWER(LEFT(User!B1331,LEN(I1331)))","v":""},{"$f":"ABS(RIGHT(User!B1331,(LEN(User!B1331)-LEN(I1331))))","v":{"$error":"#VALUE!"}}]
[{"$f":"LOWER(LEFT(User!B1332,LEN(I1332)))","v":""},{"$f":"ABS(RIGHT(User!B1332,(LEN(User!B1332)-LEN(I1332))))","v":{"$error":"#VALUE!"}}]
[{"$f":"LOWER(LEFT(User!B1333,LEN(I1333)))","v":""},{"$f":"ABS(RIGHT(User!B1333,(LEN(User!B1333)-LEN(I1333))))","v":{"$error":"#VALUE!"}}]
[{"$f":"LOWER(LEFT(User!B1334,LEN(I1334)))","v":""},{"$f":"ABS(RIGHT(User!B1334,(LEN(User!B1334)-LEN(I1334))))","v":{"$error":"#VALUE!"}}]
[{"$f":"LOWER(LEFT(User!B1335,LEN(I1335)))","v":""},{"$f":"ABS(RIGHT(User!B1335,(LEN(User!B1335)-LEN(I1335))))","v":{"$error":"#VALUE!"}}]
[{"$f":"LOWER(LEFT(User!B1336,LEN(I1336)))","v":""},{"$f":"ABS(RIGHT(User!B1336,(LEN(User!B1336)-LEN(I1336))))","v":{"$error":"#VALUE!"}}]
[{"$f":"LOWER(LEFT(User!B1337,LEN(I1337)))","v":""},{"$f":"ABS(RIGHT(User!B1337,(LEN(User!B1337)-LEN(I1337))))","v":{"$error":"#VALUE!"}}]
[{"$f":"LOWER(LEFT(User!B1338,LEN(I1338)))","v":""},{"$f":"ABS(RIGHT(User!B1338,(LEN(User!B1338)-LEN(I1338))))","v":{"$error":"#VALUE!"}}]
[{"$f":"LOWER(LEFT(User!B1339,LEN(I1339)))","v":""},{"$f":"ABS(RIGHT(User!B1339,(LEN(User!B1339)-LEN(I1339))))","v":{"$error":"#VALUE!"}}]
[{"$f":"LOWER(LEFT(User!B1340,LEN(I1340)))","v":""},{"$f":"ABS(RIGHT(User!B1340,(LEN(User!B1340)-LEN(I1340))))","v":{"$error":"#VALUE!"}}]
[{"$f":"LOWER(LEFT(User!B1341,LEN(I1341)))","v":""},{"$f":"ABS(RIGHT(User!B1341,(LEN(User!B1341)-LEN(I1341))))","v":{"$error":"#VALUE!"}}]
[{"$f":"LOWER(LEFT(User!B1342,LEN(I1342)))","v":""},{"$f":"ABS(RIGHT(User!B1342,(LEN(User!B1342)-LEN(I1342))))","v":{"$error":"#VALUE!"}}]
[{"$f":"LOWER(LEFT(User!B1343,LEN(I1343)))","v":""},{"$f":"ABS(RIGHT(User!B1343,(LEN(User!B1343)-LEN(I1343))))","v":{"$error":"#VALUE!"}}]
[{"$f":"LOWER(LEFT(User!B1344,LEN(I1344)))","v":""},{"$f":"ABS(RIGHT(User!B1344,(LEN(User!B1344)-LEN(I1344))))","v":{"$error":"#VALUE!"}}]
[{"$f":"LOWER(LEFT(User!B1345,LEN(I1345)))","v":""},{"$f":"ABS(RIGHT(User!B1345,(LEN(User!B1345)-LEN(I1345))))","v":{"$error":"#VALUE!"}}]
[{"$f":"LOWER(LEFT(User!B1346,LEN(I1346)))","v":""},{"$f":"ABS(RIGHT(User!B1346,(LEN(User!B1346)-LEN(I1346))))","v":{"$error":"#VALUE!"}}]
[{"$f":"LOWER(LEFT(User!B1347,LEN(I1347)))","v":""},{"$f":"ABS(RIGHT(User!B1347,(LEN(User!B1347)-LEN(I1347))))","v":{"$error":"#VALUE!"}}]
[{"$f":"LOWER(LEFT(User!B1348,LEN(I1348)))","v":""},{"$f":"ABS(RIGHT(User!B1348,(LEN(User!B1348)-LEN(I1348))))","v":{"$error":"#VALUE!"}}]
[{"$f":"LOWER(LEFT(User!B1349,LEN(I1349)))","v":""},{"$f":"ABS(RIGHT(User!B1349,(LEN(User!B1349)-LEN(I1349))))","v":{"$error":"#VALUE!"}}]
[{"$f":"LOWER(LEFT(User!B1350,LEN(I1350)))","v":""},{"$f":"ABS(RIGHT(User!B1350,(LEN(User!B1350)-LEN(I1350))))","v":{"$error":"#VALUE!"}}]
[{"$f":"LOWER(LEFT(User!B1351,LEN(I1351)))","v":""},{"$f":"ABS(RIGHT(User!B1351,(LEN(User!B1351)-LEN(I1351))))","v":{"$error":"#VALUE!"}}]
[{"$f":"LOWER(LEFT(User!B1352,LEN(I1352)))","v":""},{"$f":"ABS(RIGHT(User!B1352,(LEN(User!B1352)-LEN(I1352))))","v":{"$error":"#VALUE!"}}]
[{"$f":"LOWER(LEFT(User!B1353,LEN(I1353)))","v":""},{"$f":"ABS(RIGHT(User!B1353,(LEN(User!B1353)-LEN(I1353))))","v":{"$error":"#VALUE!"}}]
[{"$f":"LOWER(LEFT(User!B1354,LEN(I1354)))","v":""},{"$f":"ABS(RIGHT(User!B1354,(LEN(User!B1354)-LEN(I1354))))","v":{"$error":"#VALUE!"}}]
[{"$f":"LOWER(LEFT(User!B1355,LEN(I1355)))","v":""},{"$f":"ABS(RIGHT(User!B1355,(LEN(User!B1355)-LEN(I1355))))","v":{"$error":"#VALUE!"}}]
[{"$f":"LOWER(LEFT(User!B1356,LEN(I1356)))","v":""},{"$f":"ABS(RIGHT(User!B1356,(LEN(User!B1356)-LEN(I1356))))","v":{"$error":"#VALUE!"}}]
[{"$f":"LOWER(LEFT(User!B1357,LEN(I1357)))","v":""},{"$f":"ABS(RIGHT(User!B1357,(LEN(User!B1357)-LEN(I1357))))","v":{"$error":"#VALUE!"}}]
[{"$f":"LOWER(LEFT(User!B1358,LEN(I1358)))","v":""},{"$f":"ABS(RIGHT(User!B1358,(LEN(User!B1358)-LEN(I1358))))","v":{"$error":"#VALUE!"}}]
[{"$f":"LOWER(LEFT(User!B1359,LEN(I1359)))","v":""},{"$f":"ABS(RIGHT(User!B1359,(LEN(User!B1359)-LEN(I1359))))","v":{"$error":"#VALUE!"}}]
[{"$f":"LOWER(LEFT(User!B1360,LEN(I1360)))","v":""},{"$f":"ABS(RIGHT(User!B1360,(LEN(User!B1360)-LEN(I1360))))","v":{"$error":"#VALUE!"}}]
[{"$f":"LOWER(LEFT(User!B1361,LEN(I1361)))","v":""},{"$f":"ABS(RIGHT(User!B1361,(LEN(User!B1361)-LEN(I1361))))","v":{"$error":"#VALUE!"}}]
[{"$f":"LOWER(LEFT(User!B1362,LEN(I1362)))","v":""},{"$f":"ABS(RIGHT(User!B1362,(LEN(User!B1362)-LEN(I1362))))","v":{"$error":"#VALUE!"}}]
[{"$f":"LOWER(LEFT(User!B1363,LEN(I1363)))","v":""},{"$f":"ABS(RIGHT(User!B1363,(LEN(User!B1363)-LEN(I1363))))","v":{"$error":"#VALUE!"}}]
[{"$f":"LOWER(LEFT(User!B1364,LEN(I1364)))","v":""},{"$f":"ABS(RIGHT(User!B1364,(LEN(User!B1364)-LEN(I1364))))","v":{"$error":"#VALUE!"}}]
[{"$f":"LOWER(LEFT(User!B1365,LEN(I1365)))","v":""},{"$f":"ABS(RIGHT(User!B1365,(LEN(User!B1365)-LEN(I1365))))","v":{"$error":"#VALUE!"}}]
[{"$f":"LOWER(LEFT(User!B1366,LEN(I1366)))","v":""},{"$f":"ABS(RIGHT(User!B1366,(LEN(User!B1366)-LEN(I1366))))","v":{"$error":"#VALUE!"}}]
[{"$f":"LOWER(LEFT(User!B1367,LEN(I1367)))","v":""},{"$f":"ABS(RIGHT(User!B1367,(LEN(User!B1367)-LEN(I1367))))","v":{"$error":"#VALUE!"}}]
[{"$f":"LOWER(LEFT(User!B1368,LEN(I1368)))","v":""},{"$f":"ABS(RIGHT(User!B1368,(LEN(User!B1368)-LEN(I1368))))","v":{"$error":"#VALUE!"}}]
[{"$f":"LOWER(LEFT(User!B1369,LEN(I1369)))","v":""},{"$f":"ABS(RIGHT(User!B1369,(LEN(User!B1369)-LEN(I1369))))","v":{"$error":"#VALUE!"}}]
[{"$f":"LOWER(LEFT(User!B1370,LEN(I1370)))","v":""},{"$f":"ABS(RIGHT(User!B1370,(LEN(User!B1370)-LEN(I1370))))","v":{"$error":"#VALUE!"}}]
[{"$f":"LOWER(LEFT(User!B1371,LEN(I1371)))","v":""},{"$f":"ABS(RIGHT(User!B1371,(LEN(User!B1371)-LEN(I1371))))","v":{"$error":"#VALUE!"}}]
[{"$f":"LOWER(LEFT(User!B1372,LEN(I1372)))","v":""},{"$f":"ABS(RIGHT(User!B1372,(LEN(User!B1372)-LEN(I1372))))","v":{"$error":"#VALUE!"}}]
[{"$f":"LOWER(LEFT(User!B1373,LEN(I1373)))","v":""},{"$f":"ABS(RIGHT(User!B1373,(LEN(User!B1373)-LEN(I1373))))","v":{"$error":"#VALUE!"}}]
[{"$f":"LOWER(LEFT(User!B1374,LEN(I1374)))","v":""},{"$f":"ABS(RIGHT(User!B1374,(LEN(User!B1374)-LEN(I1374))))","v":{"$error":"#VALUE!"}}]
[{"$f":"LOWER(LEFT(User!B1375,LEN(I1375)))","v":""},{"$f":"ABS(RIGHT(User!B1375,(LEN(User!B1375)-LEN(I1375))))","v":{"$error":"#VALUE!"}}]
[{"$f":"LOWER(LEFT(User!B1376,LEN(I1376)))","v":""},{"$f":"ABS(RIGHT(User!B1376,(LEN(User!B1376)-LEN(I1376))))","v":{"$error":"#VALUE!"}}]
[{"$f":"LOWER(LEFT(User!B1377,LEN(I1377)))","v":""},{"$f":"ABS(RIGHT(User!B1377,(LEN(User!B1377)-LEN(I1377))))","v":{"$error":"#VALUE!"}}]
[{"$f":"LOWER(LEFT(User!B1378,LEN(I1378)))","v":""},{"$f":"ABS(RIGHT(User!B1378,(LEN(User!B1378)-LEN(I1378))))","v":{"$error":"#VALUE!"}}]
[{"$f":"LOWER(LEFT(User!B1379,LEN(I1379)))","v":""},{"$f":"ABS(RIGHT(User!B1379,(LEN(User!B1379)-LEN(I1379))))","v":{"$error":"#VALUE!"}}]
[{"$f":"LOWER(LEFT(User!B1380,LEN(I1380)))","v":""},{"$f":"ABS(RIGHT(User!B1380,(LEN(User!B1380)-LEN(I1380))))","v":{"$error":"#VALUE!"}}]
[{"$f":"LOWER(LEFT(User!B1381,LEN(I1381)))","v":""},{"$f":"ABS(RIGHT(User!B1381,(LEN(User!B1381)-LEN(I1381))))","v":{"$error":"#VALUE!"}}]
[{"$f":"LOWER(LEFT(User!B1382,LEN(I1382)))","v":""},{"$f":"ABS(RIGHT(User!B1382,(LEN(User!B1382)-LEN(I1382))))","v":{"$error":"#VALUE!"}}]
[{"$f":"LOWER(LEFT(User!B1383,LEN(I1383)))","v":""},{"$f":"ABS(RIGHT(User!B1383,(LEN(User!B1383)-LEN(I1383))))","v":{"$error":"#VALUE!"}}]
[{"$f":"LOWER(LEFT(User!B1384,LEN(I1384)))","v":""},{"$f":"ABS(RIGHT(User!B1384,(LEN(User!B1384)-LEN(I1384))))","v":{"$error":"#VALUE!"}}]
[{"$f":"LOWER(LEFT(User!B1385,LEN(I1385)))","v":""},{"$f":"ABS(RIGHT(User!B1385,(LEN(User!B1385)-LEN(I1385))))","v":{"$error":"#VALUE!"}}]
[{"$f":"LOWER(LEFT(User!B1386,LEN(I1386)))","v":""},{"$f":"ABS(RIGHT(User!B1386,(LEN(User!B1386)-LEN(I1386))))","v":{"$error":"#VALUE!"}}]
[{"$f":"LOWER(LEFT(User!B1387,LEN(I1387)))","v":""},{"$f":"ABS(RIGHT(User!B1387,(LEN(User!B1387)-LEN(I1387))))","v":{"$error":"#VALUE!"}}]
[{"$f":"LOWER(LEFT(User!B1388,LEN(I1388)))","v":""},{"$f":"ABS(RIGHT(User!B1388,(LEN(User!B1388)-LEN(I1388))))","v":{"$error":"#VALUE!"}}]
[{"$f":"LOWER(LEFT(User!B1389,LEN(I1389)))","v":""},{"$f":"ABS(RIGHT(User!B1389,(LEN(User!B1389)-LEN(I1389))))","v":{"$error":"#VALUE!"}}]
[{"$f":"LOWER(LEFT(User!B1390,LEN(I1390)))","v":""},{"$f":"ABS(RIGHT(User!B1390,(LEN(User!B1390)-LEN(I1390))))","v":{"$error":"#VALUE!"}}]
[{"$f":"LOWER(LEFT(User!B1391,LEN(I1391)))","v":""},{"$f":"ABS(RIGHT(User!B1391,(LEN(User!B1391)-LEN(I1391))))","v":{"$error":"#VALUE!"}}]
[{"$f":"LOWER(LEFT(User!B1392,LEN(I1392)))","v":""},{"$f":"ABS(RIGHT(User!B1392,(LEN(User!B1392)-LEN(I1392))))","v":{"$error":"#VALUE!"}}]
[{"$f":"LOWER(LEFT(User!B1393,LEN(I1393)))","v":""},{"$f":"ABS(RIGHT(User!B1393,(LEN(User!B1393)-LEN(I1393))))","v":{"$error":"#VALUE!"}}]
[{"$f":"LOWER(LEFT(User!B1394,LEN(I1394)))","v":""},{"$f":"ABS(RIGHT(User!B1394,(LEN(User!B1394)-LEN(I1394))))","v":{"$error":"#VALUE!"}}]
[{"$f":"LOWER(LEFT(User!B1395,LEN(I1395)))","v":""},{"$f":"ABS(RIGHT(User!B1395,(LEN(User!B1395)-LEN(I1395))))","v":{"$error":"#VALUE!"}}]
[{"$f":"LOWER(LEFT(User!B1396,LEN(I1396)))","v":""},{"$f":"ABS(RIGHT(User!B1396,(LEN(User!B1396)-LEN(I1396))))","v":{"$error":"#VALUE!"}}]
[{"$f":"LOWER(LEFT(User!B1397,LEN(I1397)))","v":""},{"$f":"ABS(RIGHT(User!B1397,(LEN(User!B1397)-LEN(I1397))))","v":{"$error":"#VALUE!"}}]
[{"$f":"LOWER(LEFT(User!B1398,LEN(I1398)))","v":""},{"$f":"ABS(RIGHT(User!B1398,(LEN(User!B1398)-LEN(I1398))))","v":{"$error":"#VALUE!"}}]
[{"$f":"LOWER(LEFT(User!B1399,LEN(I1399)))","v":""},{"$f":"ABS(RIGHT(User!B1399,(LEN(User!B1399)-LEN(I1399))))","v":{"$error":"#VALUE!"}}]
[{"$f":"LOWER(LEFT(User!B1400,LEN(I1400)))","v":""},{"$f":"ABS(RIGHT(User!B1400,(LEN(User!B1400)-LEN(I1400))))","v":{"$error":"#VALUE!"}}]
[{"$f":"LOWER(LEFT(User!B1401,LEN(I1401)))","v":""},{"$f":"ABS(RIGHT(User!B1401,(LEN(User!B1401)-LEN(I1401))))","v":{"$error":"#VALUE!"}}]
[{"$f":"LOWER(LEFT(User!B1402,LEN(I1402)))","v":""},{"$f":"ABS(RIGHT(User!B1402,(LEN(User!B1402)-LEN(I1402))))","v":{"$error":"#VALUE!"}}]
[{"$f":"LOWER(LEFT(User!B1403,LEN(I1403)))","v":""},{"$f":"ABS(RIGHT(User!B1403,(LEN(User!B1403)-LEN(I1403))))","v":{"$error":"#VALUE!"}}]
[{"$f":"LOWER(LEFT(User!B1404,LEN(I1404)))","v":""},{"$f":"ABS(RIGHT(User!B1404,(LEN(User!B1404)-LEN(I1404))))","v":{"$error":"#VALUE!"}}]
[{"$f":"LOWER(LEFT(User!B1405,LEN(I1405)))","v":""},{"$f":"ABS(RIGHT(User!B1405,(LEN(User!B1405)-LEN(I1405))))","v":{"$error":"#VALUE!"}}]
[{"$f":"LOWER(LEFT(User!B1406,LEN(I1406)))","v":""},{"$f":"ABS(RIGHT(User!B1406,(LEN(User!B1406)-LEN(I1406))))","v":{"$error":"#VALUE!"}}]
[{"$f":"LOWER(LEFT(User!B1407,LEN(I1407)))","v":""},{"$f":"ABS(RIGHT(User!B1407,(LEN(User!B1407)-LEN(I1407))))","v":{"$error":"#VALUE!"}}]
[{"$f":"LOWER(LEFT(User!B1408,LEN(I1408)))","v":""},{"$f":"ABS(RIGHT(User!B1408,(LEN(User!B1408)-LEN(I1408))))","v":{"$error":"#VALUE!"}}]
[{"$f":"LOWER(LEFT(User!B1409,LEN(I1409)))","v":""},{"$f":"ABS(RIGHT(User!B1409,(LEN(User!B1409)-LEN(I1409))))","v":{"$error":"#VALUE!"}}]
[{"$f":"LOWER(LEFT(User!B1410,LEN(I1410)))","v":""},{"$f":"ABS(RIGHT(User!B1410,(LEN(User!B1410)-LEN(I1410))))","v":{"$error":"#VALUE!"}}]
[{"$f":"LOWER(LEFT(User!B1411,LEN(I1411)))","v":""},{"$f":"ABS(RIGHT(User!B1411,(LEN(User!B1411)-LEN(I1411))))","v":{"$error":"#VALUE!"}}]
[{"$f":"LOWER(LEFT(User!B1412,LEN(I1412)))","v":""},{"$f":"ABS(RIGHT(User!B1412,(LEN(User!B1412)-LEN(I1412))))","v":{"$error":"#VALUE!"}}]
[{"$f":"LOWER(LEFT(User!B1413,LEN(I1413)))","v":""},{"$f":"ABS(RIGHT(User!B1413,(LEN(User!B1413)-LEN(I1413))))","v":{"$error":"#VALUE!"}}]
[{"$f":"LOWER(LEFT(User!B1414,LEN(I1414)))","v":""},{"$f":"ABS(RIGHT(User!B1414,(LEN(User!B1414)-LEN(I1414))))","v":{"$error":"#VALUE!"}}]
[{"$f":"LOWER(LEFT(User!B1415,LEN(I1415)))","v":""},{"$f":"ABS(RIGHT(User!B1415,(LEN(User!B1415)-LEN(I1415))))","v":{"$error":"#VALUE!"}}]
[{"$f":"LOWER(LEFT(User!B1416,LEN(I1416)))","v":""},{"$f":"ABS(RIGHT(User!B1416,(LEN(User!B1416)-LEN(I1416))))","v":{"$error":"#VALUE!"}}]
[{"$f":"LOWER(LEFT(User!B1417,LEN(I1417)))","v":""},{"$f":"ABS(RIGHT(User!B1417,(LEN(User!B1417)-LEN(I1417))))","v":{"$error":"#VALUE!"}}]
[{"$f":"LOWER(LEFT(User!B1418,LEN(I1418)))","v":""},{"$f":"ABS(RIGHT(User!B1418,(LEN(User!B1418)-LEN(I1418))))","v":{"$error":"#VALUE!"}}]
[{"$f":"LOWER(LEFT(User!B1419,LEN(I1419)))","v":""},{"$f":"ABS(RIGHT(User!B1419,(LEN(User!B1419)-LEN(I1419))))","v":{"$error":"#VALUE!"}}]
[{"$f":"LOWER(LEFT(User!B1420,LEN(I1420)))","v":""},{"$f":"ABS(RIGHT(User!B1420,(LEN(User!B1420)-LEN(I1420))))","v":{"$error":"#VALUE!"}}]
[{"$f":"LOWER(LEFT(User!B1421,LEN(I1421)))","v":""},{"$f":"ABS(RIGHT(User!B1421,(LEN(User!B1421)-LEN(I1421))))","v":{"$error":"#VALUE!"}}]
[{"$f":"LOWER(LEFT(User!B1422,LEN(I1422)))","v":""},{"$f":"ABS(RIGHT(User!B1422,(LEN(User!B1422)-LEN(I1422))))","v":{"$error":"#VALUE!"}}]
[{"$f":"LOWER(LEFT(User!B1423,LEN(I1423)))","v":""},{"$f":"ABS(RIGHT(User!B1423,(LEN(User!B1423)-LEN(I1423))))","v":{"$error":"#VALUE!"}}]
[{"$f":"LOWER(LEFT(User!B1424,LEN(I1424)))","v":""},{"$f":"ABS(RIGHT(User!B1424,(LEN(User!B1424)-LEN(I1424))))","v":{"$error":"#VALUE!"}}]
[{"$f":"LOWER(LEFT(User!B1425,LEN(I1425)))","v":""},{"$f":"ABS(RIGHT(User!B1425,(LEN(User!B1425)-LEN(I1425))))","v":{"$error":"#VALUE!"}}]
[{"$f":"LOWER(LEFT(User!B1426,LEN(I1426)))","v":""},{"$f":"ABS(RIGHT(User!B1426,(LEN(User!B1426)-LEN(I1426))))","v":{"$error":"#VALUE!"}}]
[{"$f":"LOWER(LEFT(User!B1427,LEN(I1427)))","v":""},{"$f":"ABS(RIGHT(User!B1427,(LEN(User!B1427)-LEN(I1427))))","v":{"$error":"#VALUE!"}}]
[{"$f":"LOWER(LEFT(User!B1428,LEN(I1428)))","v":""},{"$f":"ABS(RIGHT(User!B1428,(LEN(User!B1428)-LEN(I1428))))","v":{"$error":"#VALUE!"}}]
[{"$f":"LOWER(LEFT(User!B1429,LEN(I1429)))","v":""},{"$f":"ABS(RIGHT(User!B1429,(LEN(User!B1429)-LEN(I1429))))","v":{"$error":"#VALUE!"}}]
[{"$f":"LOWER(LEFT(User!B1430,LEN(I1430)))","v":""},{"$f":"ABS(RIGHT(User!B1430,(LEN(User!B1430)-LEN(I1430))))","v":{"$error":"#VALUE!"}}]
[{"$f":"LOWER(LEFT(User!B1431,LEN(I1431)))","v":""},{"$f":"ABS(RIGHT(User!B1431,(LEN(User!B1431)-LEN(I1431))))","v":{"$error":"#VALUE!"}}]
[{"$f":"LOWER(LEFT(User!B1432,LEN(I1432)))","v":""},{"$f":"ABS(RIGHT(User!B1432,(LEN(User!B1432)-LEN(I1432))))","v":{"$error":"#VALUE!"}}]
[{"$f":"LOWER(LEFT(User!B1433,LEN(I1433)))","v":""},{"$f":"ABS(RIGHT(User!B1433,(LEN(User!B1433)-LEN(I1433))))","v":{"$error":"#VALUE!"}}]
[{"$f":"LOWER(LEFT(User!B1434,LEN(I1434)))","v":""},{"$f":"ABS(RIGHT(User!B1434,(LEN(User!B1434)-LEN(I1434))))","v":{"$error":"#VALUE!"}}]
[{"$f":"LOWER(LEFT(User!B1435,LEN(I1435)))","v":""},{"$f":"ABS(RIGHT(User!B1435,(LEN(User!B1435)-LEN(I1435))))","v":{"$error":"#VALUE!"}}]
[{"$f":"LOWER(LEFT(User!B1436,LEN(I1436)))","v":""},{"$f":"ABS(RIGHT(User!B1436,(LEN(User!B1436)-LEN(I1436))))","v":{"$error":"#VALUE!"}}]
[{"$f":"LOWER(LEFT(User!B1437,LEN(I1437)))","v":""},{"$f":"ABS(RIGHT(User!B1437,(LEN(User!B1437)-LEN(I1437))))","v":{"$error":"#VALUE!"}}]
[{"$f":"LOWER(LEFT(User!B1438,LEN(I1438)))","v":""},{"$f":"ABS(RIGHT(User!B1438,(LEN(User!B1438)-LEN(I1438))))","v":{"$error":"#VALUE!"}}]
[{"$f":"LOWER(LEFT(User!B1439,LEN(I1439)))","v":""},{"$f":"ABS(RIGHT(User!B1439,(LEN(User!B1439)-LEN(I1439))))","v":{"$error":"#VALUE!"}}]
[{"$f":"LOWER(LEFT(User!B1440,LEN(I1440)))","v":""},{"$f":"ABS(RIGHT(User!B1440,(LEN(User!B1440)-LEN(I1440))))","v":{"$error":"#VALUE!"}}]
[{"$f":"LOWER(LEFT(User!B1441,LEN(I1441)))","v":""},{"$f":"ABS(RIGHT(User!B1441,(LEN(User!B1441)-LEN(I1441))))","v":{"$error":"#VALUE!"}}]
[{"$f":"LOWER(LEFT(User!B1442,LEN(I1442)))","v":""},{"$f":"ABS(RIGHT(User!B1442,(LEN(User!B1442)-LEN(I1442))))","v":{"$error":"#VALUE!"}}]
[{"$f":"LOWER(LEFT(User!B1443,LEN(I1443)))","v":""},{"$f":"ABS(RIGHT(User!B1443,(LEN(User!B1443)-LEN(I1443))))","v":{"$error":"#VALUE!"}}]
[{"$f":"LOWER(LEFT(User!B1444,LEN(I1444)))","v":""},{"$f":"ABS(RIGHT(User!B1444,(LEN(User!B1444)-LEN(I1444))))","v":{"$error":"#VALUE!"}}]
[{"$f":"LOWER(LEFT(User!B1445,LEN(I1445)))","v":""},{"$f":"ABS(RIGHT(User!B1445,(LEN(User!B1445)-LEN(I1445))))","v":{"$error":"#VALUE!"}}]
[{"$f":"LOWER(LEFT(User!B1446,LEN(I1446)))","v":""},{"$f":"ABS(RIGHT(User!B1446,(LEN(User!B1446)-LEN(I1446))))","v":{"$error":"#VALUE!"}}]
[{"$f":"LOWER(LEFT(User!B1447,LEN(I1447)))","v":""},{"$f":"ABS(RIGHT(User!B1447,(LEN(User!B1447)-LEN(I1447))))","v":{"$error":"#VALUE!"}}]
[{"$f":"LOWER(LEFT(User!B1448,LEN(I1448)))","v":""},{"$f":"ABS(RIGHT(User!B1448,(LEN(User!B1448)-LEN(I1448))))","v":{"$error":"#VALUE!"}}]
[{"$f":"LOWER(LEFT(User!B1449,LEN(I1449)))","v":""},{"$f":"ABS(RIGHT(User!B1449,(LEN(User!B1449)-LEN(I1449))))","v":{"$error":"#VALUE!"}}]
[{"$f":"LOWER(LEFT(User!B1450,LEN(I1450)))","v":""},{"$f":"ABS(RIGHT(User!B1450,(LEN(User!B1450)-LEN(I1450))))","v":{"$error":"#VALUE!"}}]
[{"$f":"LOWER(LEFT(User!B1451,LEN(I1451)))","v":""},{"$f":"ABS(RIGHT(User!B1451,(LEN(User!B1451)-LEN(I1451))))","v":{"$error":"#VALUE!"}}]
[{"$f":"LOWER(LEFT(User!B1452,LEN(I1452)))","v":""},{"$f":"ABS(RIGHT(User!B1452,(LEN(User!B1452)-LEN(I1452))))","v":{"$error":"#VALUE!"}}]
[{"$f":"LOWER(LEFT(User!B1453,LEN(I1453)))","v":""},{"$f":"ABS(RIGHT(User!B1453,(LEN(User!B1453)-LEN(I1453))))","v":{"$error":"#VALUE!"}}]
[{"$f":"LOWER(LEFT(User!B1454,LEN(I1454)))","v":""},{"$f":"ABS(RIGHT(User!B1454,(LEN(User!B1454)-LEN(I1454))))","v":{"$error":"#VALUE!"}}]
[{"$f":"LOWER(LEFT(User!B1455,LEN(I1455)))","v":""},{"$f":"ABS(RIGHT(User!B1455,(LEN(User!B1455)-LEN(I1455))))","v":{"$error":"#VALUE!"}}]
[{"$f":"LOWER(LEFT(User!B1456,LEN(I1456)))","v":""},{"$f":"ABS(RIGHT(User!B1456,(LEN(User!B1456)-LEN(I1456))))","v":{"$error":"#VALUE!"}}]
[{"$f":"LOWER(LEFT(User!B1457,LEN(I1457)))","v":""},{"$f":"ABS(RIGHT(User!B1457,(LEN(User!B1457)-LEN(I1457))))","v":{"$error":"#VALUE!"}}]
[{"$f":"LOWER(LEFT(User!B1458,LEN(I1458)))","v":""},{"$f":"ABS(RIGHT(User!B1458,(LEN(User!B1458)-LEN(I1458))))","v":{"$error":"#VALUE!"}}]
[{"$f":"LOWER(LEFT(User!B1459,LEN(I1459)))","v":""},{"$f":"ABS(RIGHT(User!B1459,(LEN(User!B1459)-LEN(I1459))))","v":{"$error":"#VALUE!"}}]
[{"$f":"LOWER(LEFT(User!B1460,LEN(I1460)))","v":""},{"$f":"ABS(RIGHT(User!B1460,(LEN(User!B1460)-LEN(I1460))))","v":{"$error":"#VALUE!"}}]
[{"$f":"LOWER(LEFT(User!B1461,LEN(I1461)))","v":""},{"$f":"ABS(RIGHT(User!B1461,(LEN(User!B1461)-LEN(I1461))))","v":{"$error":"#VALUE!"}}]
[{"$f":"LOWER(LEFT(User!B1462,LEN(I1462)))","v":""},{"$f":"ABS(RIGHT(User!B1462,(LEN(User!B1462)-LEN(I1462))))","v":{"$error":"#VALUE!"}}]
[{"$f":"LOWER(LEFT(User!B1463,LEN(I1463)))","v":""},{"$f":"ABS(RIGHT(User!B1463,(LEN(User!B1463)-LEN(I1463))))","v":{"$error":"#VALUE!"}}]
[{"$f":"LOWER(LEFT(User!B1464,LEN(I1464)))","v":""},{"$f":"ABS(RIGHT(User!B1464,(LEN(User!B1464)-LEN(I1464))))","v":{"$error":"#VALUE!"}}]
[{"$f":"LOWER(LEFT(User!B1465,LEN(I1465)))","v":""},{"$f":"ABS(RIGHT(User!B1465,(LEN(User!B1465)-LEN(I1465))))","v":{"$error":"#VALUE!"}}]
[{"$f":"LOWER(LEFT(User!B1466,LEN(I1466)))","v":""},{"$f":"ABS(RIGHT(User!B1466,(LEN(User!B1466)-LEN(I1466))))","v":{"$error":"#VALUE!"}}]
[{"$f":"LOWER(LEFT(User!B1467,LEN(I1467)))","v":""},{"$f":"ABS(RIGHT(User!B1467,(LEN(User!B1467)-LEN(I1467))))","v":{"$error":"#VALUE!"}}]
[{"$f":"LOWER(LEFT(User!B1468,LEN(I1468)))","v":""},{"$f":"ABS(RIGHT(User!B1468,(LEN(User!B1468)-LEN(I1468))))","v":{"$error":"#VALUE!"}}]
[{"$f":"LOWER(LEFT(User!B1469,LEN(I1469)))","v":""},{"$f":"ABS(RIGHT(User!B1469,(LEN(User!B1469)-LEN(I1469))))","v":{"$error":"#VALUE!"}}]
[{"$f":"LOWER(LEFT(User!B1470,LEN(I1470)))","v":""},{"$f":"ABS(RIGHT(User!B1470,(LEN(User!B1470)-LEN(I1470))))","v":{"$error":"#VALUE!"}}]
[{"$f":"LOWER(LEFT(User!B1471,LEN(I1471)))","v":""},{"$f":"ABS(RIGHT(User!B1471,(LEN(User!B1471)-LEN(I1471))))","v":{"$error":"#VALUE!"}}]
[{"$f":"LOWER(LEFT(User!B1472,LEN(I1472)))","v":""},{"$f":"ABS(RIGHT(User!B1472,(LEN(User!B1472)-LEN(I1472))))","v":{"$error":"#VALUE!"}}]
[{"$f":"LOWER(LEFT(User!B1473,LEN(I1473)))","v":""},{"$f":"ABS(RIGHT(User!B1473,(LEN(User!B1473)-LEN(I1473))))","v":{"$error":"#VALUE!"}}]
[{"$f":"LOWER(LEFT(User!B1474,LEN(I1474)))","v":""},{"$f":"ABS(RIGHT(User!B1474,(LEN(User!B1474)-LEN(I1474))))","v":{"$error":"#VALUE!"}}]
[{"$f":"LOWER(LEFT(User!B1475,LEN(I1475)))","v":""},{"$f":"ABS(RIGHT(User!B1475,(LEN(User!B1475)-LEN(I1475))))","v":{"$error":"#VALUE!"}}]
[{"$f":"LOWER(LEFT(User!B1476,LEN(I1476)))","v":""},{"$f":"ABS(RIGHT(User!B1476,(LEN(User!B1476)-LEN(I1476))))","v":{"$error":"#VALUE!"}}]
[{"$f":"LOWER(LEFT(User!B1477,LEN(I1477)))","v":""},{"$f":"ABS(RIGHT(User!B1477,(LEN(User!B1477)-LEN(I1477))))","v":{"$error":"#VALUE!"}}]
[{"$f":"LOWER(LEFT(User!B1478,LEN(I1478)))","v":""},{"$f":"ABS(RIGHT(User!B1478,(LEN(User!B1478)-LEN(I1478))))","v":{"$error":"#VALUE!"}}]
[{"$f":"LOWER(LEFT(User!B1479,LEN(I1479)))","v":""},{"$f":"ABS(RIGHT(User!B1479,(LEN(User!B1479)-LEN(I1479))))","v":{"$error":"#VALUE!"}}]
[{"$f":"LOWER(LEFT(User!B1480,LEN(I1480)))","v":""},{"$f":"ABS(RIGHT(User!B1480,(LEN(User!B1480)-LEN(I1480))))","v":{"$error":"#VALUE!"}}]
[{"$f":"LOWER(LEFT(User!B1481,LEN(I1481)))","v":""},{"$f":"ABS(RIGHT(User!B1481,(LEN(User!B1481)-LEN(I1481))))","v":{"$error":"#VALUE!"}}]
[{"$f":"LOWER(LEFT(User!B1482,LEN(I1482)))","v":""},{"$f":"ABS(RIGHT(User!B1482,(LEN(User!B1482)-LEN(I1482))))","v":{"$error":"#VALUE!"}}]
[{"$f":"LOWER(LEFT(User!B1483,LEN(I1483)))","v":""},{"$f":"ABS(RIGHT(User!B1483,(LEN(User!B1483)-LEN(I1483))))","v":{"$error":"#VALUE!"}}]
[{"$f":"LOWER(LEFT(User!B1484,LEN(I1484)))","v":""},{"$f":"ABS(RIGHT(User!B1484,(LEN(User!B1484)-LEN(I1484))))","v":{"$error":"#VALUE!"}}]
[{"$f":"LOWER(LEFT(User!B1485,LEN(I1485)))","v":""},{"$f":"ABS(RIGHT(User!B1485,(LEN(User!B1485)-LEN(I1485))))","v":{"$error":"#VALUE!"}}]
[{"$f":"LOWER(LEFT(User!B1486,LEN(I1486)))","v":""},{"$f":"ABS(RIGHT(User!B1486,(LEN(User!B1486)-LEN(I1486))))","v":{"$error":"#VALUE!"}}]
[{"$f":"LOWER(LEFT(User!B1487,LEN(I1487)))","v":""},{"$f":"ABS(RIGHT(User!B1487,(LEN(User!B1487)-LEN(I1487))))","v":{"$error":"#VALUE!"}}]
[{"$f":"LOWER(LEFT(User!B1488,LEN(I1488)))","v":""},{"$f":"ABS(RIGHT(User!B1488,(LEN(User!B1488)-LEN(I1488))))","v":{"$error":"#VALUE!"}}]
[{"$f":"LOWER(LEFT(User!B1489,LEN(I1489)))","v":""},{"$f":"ABS(RIGHT(User!B1489,(LEN(User!B1489)-LEN(I1489))))","v":{"$error":"#VALUE!"}}]
[{"$f":"LOWER(LEFT(User!B1490,LEN(I1490)))","v":""},{"$f":"ABS(RIGHT(User!B1490,(LEN(User!B1490)-LEN(I1490))))","v":{"$error":"#VALUE!"}}]
[{"$f":"LOWER(LEFT(User!B1491,LEN(I1491)))","v":""},{"$f":"ABS(RIGHT(User!B1491,(LEN(User!B1491)-LEN(I1491))))","v":{"$error":"#VALUE!"}}]
[{"$f":"LOWER(LEFT(User!B1492,LEN(I1492)))","v":""},{"$f":"ABS(RIGHT(User!B1492,(LEN(User!B1492)-LEN(I1492))))","v":{"$error":"#VALUE!"}}]
[{"$f":"LOWER(LEFT(User!B1493,LEN(I1493)))","v":""},{"$f":"ABS(RIGHT(User!B1493,(LEN(User!B1493)-LEN(I1493))))","v":{"$error":"#VALUE!"}}]
[{"$f":"LOWER(LEFT(User!B1494,LEN(I1494)))","v":""},{"$f":"ABS(RIGHT(User!B1494,(LEN(User!B1494)-LEN(I1494))))","v":{"$error":"#VALUE!"}}]
[{"$f":"LOWER(LEFT(User!B1495,LEN(I1495)))","v":""},{"$f":"ABS(RIGHT(User!B1495,(LEN(User!B1495)-LEN(I1495))))","v":{"$error":"#VALUE!"}}]
[{"$f":"LOWER(LEFT(User!B1496,LEN(I1496)))","v":""},{"$f":"ABS(RIGHT(User!B1496,(LEN(User!B1496)-LEN(I1496))))","v":{"$error":"#VALUE!"}}]
[{"$f":"LOWER(LEFT(User!B1497,LEN(I1497)))","v":""},{"$f":"ABS(RIGHT(User!B1497,(LEN(User!B1497)-LEN(I1497))))","v":{"$error":"#VALUE!"}}]
[{"$f":"LOWER(LEFT(User!B1498,LEN(I1498)))","v":""},{"$f":"ABS(RIGHT(User!B1498,(LEN(User!B1498)-LEN(I1498))))","v":{"$error":"#VALUE!"}}]
[{"$f":"LOWER(LEFT(User!B1499,LEN(I1499)))","v":""},{"$f":"ABS(RIGHT(User!B1499,(LEN(User!B1499)-LEN(I1499))))","v":{"$error":"#VALUE!"}}]
[{"$f":"LOWER(LEFT(User!B1500,LEN(I1500)))","v":""},{"$f":"ABS(RIGHT(User!B1500,(LEN(User!B1500)-LEN(I1500))))","v":{"$error":"#VALUE!"}}]
[{"$f":"LOWER(LEFT(User!B1501,LEN(I1501)))","v":""},{"$f":"ABS(RIGHT(User!B1501,(LEN(User!B1501)-LEN(I1501))))","v":{"$error":"#VALUE!"}}]
[{"$f":"LOWER(LEFT(User!B1502,LEN(I1502)))","v":""},{"$f":"ABS(RIGHT(User!B1502,(LEN(User!B1502)-LEN(I1502))))","v":{"$error":"#VALUE!"}}]
[{"$f":"LOWER(LEFT(User!B1503,LEN(I1503)))","v":""},{"$f":"ABS(RIGHT(User!B1503,(LEN(User!B1503)-LEN(I1503))))","v":{"$error":"#VALUE!"}}]
[{"$f":"LOWER(LEFT(User!B1504,LEN(I1504)))","v":""},{"$f":"ABS(RIGHT(User!B1504,(LEN(User!B1504)-LEN(I1504))))","v":{"$error":"#VALUE!"}}]
[{"$f":"LOWER(LEFT(User!B1505,LEN(I1505)))","v":""},{"$f":"ABS(RIGHT(User!B1505,(LEN(User!B1505)-LEN(I1505))))","v":{"$error":"#VALUE!"}}]
[{"$f":"LOWER(LEFT(User!B1506,LEN(I1506)))","v":""},{"$f":"ABS(RIGHT(User!B1506,(LEN(User!B1506)-LEN(I1506))))","v":{"$error":"#VALUE!"}}]
[{"$f":"LOWER(LEFT(User!B1507,LEN(I1507)))","v":""},{"$f":"ABS(RIGHT(User!B1507,(LEN(User!B1507)-LEN(I1507))))","v":{"$error":"#VALUE!"}}]
[{"$f":"LOWER(LEFT(User!B1508,LEN(I1508)))","v":""},{"$f":"ABS(RIGHT(User!B1508,(LEN(User!B1508)-LEN(I1508))))","v":{"$error":"#VALUE!"}}]
[{"$f":"LOWER(LEFT(User!B1509,LEN(I1509)))","v":""},{"$f":"ABS(RIGHT(User!B1509,(LEN(User!B1509)-LEN(I1509))))","v":{"$error":"#VALUE!"}}]
[{"$f":"LOWER(LEFT(User!B1510,LEN(I1510)))","v":""},{"$f":"ABS(RIGHT(User!B1510,(LEN(User!B1510)-LEN(I1510))))","v":{"$error":"#VALUE!"}}]
[{"$f":"LOWER(LEFT(User!B1511,LEN(I1511)))","v":""},{"$f":"ABS(RIGHT(User!B1511,(LEN(User!B1511)-LEN(I1511))))","v":{"$error":"#VALUE!"}}]
[{"$f":"LOWER(LEFT(User!B1512,LEN(I1512)))","v":""},{"$f":"ABS(RIGHT(User!B1512,(LEN(User!B1512)-LEN(I1512))))","v":{"$error":"#VALUE!"}}]
[{"$f":"LOWER(LEFT(User!B1513,LEN(I1513)))","v":""},{"$f":"ABS(RIGHT(User!B1513,(LEN(User!B1513)-LEN(I1513))))","v":{"$error":"#VALUE!"}}]
[{"$f":"LOWER(LEFT(User!B1514,LEN(I1514)))","v":""},{"$f":"ABS(RIGHT(User!B1514,(LEN(User!B1514)-LEN(I1514))))","v":{"$error":"#VALUE!"}}]
[{"$f":"LOWER(LEFT(User!B1515,LEN(I1515)))","v":""},{"$f":"ABS(RIGHT(User!B1515,(LEN(User!B1515)-LEN(I1515))))","v":{"$error":"#VALUE!"}}]
[{"$f":"LOWER(LEFT(User!B1516,LEN(I1516)))","v":""},{"$f":"ABS(RIGHT(User!B1516,(LEN(User!B1516)-LEN(I1516))))","v":{"$error":"#VALUE!"}}]
[{"$f":"LOWER(LEFT(User!B1517,LEN(I1517)))","v":""},{"$f":"ABS(RIGHT(User!B1517,(LEN(User!B1517)-LEN(I1517))))","v":{"$error":"#VALUE!"}}]
[{"$f":"LOWER(LEFT(User!B1518,LEN(I1518)))","v":""},{"$f":"ABS(RIGHT(User!B1518,(LEN(User!B1518)-LEN(I1518))))","v":{"$error":"#VALUE!"}}]
[{"$f":"LOWER(LEFT(User!B1519,LEN(I1519)))","v":""},{"$f":"ABS(RIGHT(User!B1519,(LEN(User!B1519)-LEN(I1519))))","v":{"$error":"#VALUE!"}}]
[{"$f":"LOWER(LEFT(User!B1520,LEN(I1520)))","v":""},{"$f":"ABS(RIGHT(User!B1520,(LEN(User!B1520)-LEN(I1520))))","v":{"$error":"#VALUE!"}}]
[{"$f":"LOWER(LEFT(User!B1521,LEN(I1521)))","v":""},{"$f":"ABS(RIGHT(User!B1521,(LEN(User!B1521)-LEN(I1521))))","v":{"$error":"#VALUE!"}}]
[{"$f":"LOWER(LEFT(User!B1522,LEN(I1522)))","v":""},{"$f":"ABS(RIGHT(User!B1522,(LEN(User!B1522)-LEN(I1522))))","v":{"$error":"#VALUE!"}}]
[{"$f":"LOWER(LEFT(User!B1523,LEN(I1523)))","v":""},{"$f":"ABS(RIGHT(User!B1523,(LEN(User!B1523)-LEN(I1523))))","v":{"$error":"#VALUE!"}}]
[{"$f":"LOWER(LEFT(User!B1524,LEN(I1524)))","v":""},{"$f":"ABS(RIGHT(User!B1524,(LEN(User!B1524)-LEN(I1524))))","v":{"$error":"#VALUE!"}}]
[{"$f":"LOWER(LEFT(User!B1525,LEN(I1525)))","v":""},{"$f":"ABS(RIGHT(User!B1525,(LEN(User!B1525)-LEN(I1525))))","v":{"$error":"#VALUE!"}}]
[{"$f":"LOWER(LEFT(User!B1526,LEN(I1526)))","v":""},{"$f":"ABS(RIGHT(User!B1526,(LEN(User!B1526)-LEN(I1526))))","v":{"$error":"#VALUE!"}}]
[{"$f":"LOWER(LEFT(User!B1527,LEN(I1527)))","v":""},{"$f":"ABS(RIGHT(User!B1527,(LEN(User!B1527)-LEN(I1527))))","v":{"$error":"#VALUE!"}}]
[{"$f":"LOWER(LEFT(User!B1528,LEN(I1528)))","v":""},{"$f":"ABS(RIGHT(User!B1528,(LEN(User!B1528)-LEN(I1528))))","v":{"$error":"#VALUE!"}}]
[{"$f":"LOWER(LEFT(User!B1529,LEN(I1529)))","v":""},{"$f":"ABS(RIGHT(User!B1529,(LEN(User!B1529)-LEN(I1529))))","v":{"$error":"#VALUE!"}}]
[{"$f":"LOWER(LEFT(User!B1530,LEN(I1530)))","v":""},{"$f":"ABS(RIGHT(User!B1530,(LEN(User!B1530)-LEN(I1530))))","v":{"$error":"#VALUE!"}}]
[{"$f":"LOWER(LEFT(User!B1531,LEN(I1531)))","v":""},{"$f":"ABS(RIGHT(User!B1531,(LEN(User!B1531)-LEN(I1531))))","v":{"$error":"#VALUE!"}}]
[{"$f":"LOWER(LEFT(User!B1532,LEN(I1532)))","v":""},{"$f":"ABS(RIGHT(User!B1532,(LEN(User!B1532)-LEN(I1532))))","v":{"$error":"#VALUE!"}}]
[{"$f":"LOWER(LEFT(User!B1533,LEN(I1533)))","v":""},{"$f":"ABS(RIGHT(User!B1533,(LEN(User!B1533)-LEN(I1533))))","v":{"$error":"#VALUE!"}}]
[{"$f":"LOWER(LEFT(User!B1534,LEN(I1534)))","v":""},{"$f":"ABS(RIGHT(User!B1534,(LEN(User!B1534)-LEN(I1534))))","v":{"$error":"#VALUE!"}}]
[{"$f":"LOWER(LEFT(User!B1535,LEN(I1535)))","v":""},{"$f":"ABS(RIGHT(User!B1535,(LEN(User!B1535)-LEN(I1535))))","v":{"$error":"#VALUE!"}}]
[{"$f":"LOWER(LEFT(User!B1536,LEN(I1536)))","v":""},{"$f":"ABS(RIGHT(User!B1536,(LEN(User!B1536)-LEN(I1536))))","v":{"$error":"#VALUE!"}}]
[{"$f":"LOWER(LEFT(User!B1537,LEN(I1537)))","v":""},{"$f":"ABS(RIGHT(User!B1537,(LEN(User!B1537)-LEN(I1537))))","v":{"$error":"#VALUE!"}}]
[{"$f":"LOWER(LEFT(User!B1538,LEN(I1538)))","v":""},{"$f":"ABS(RIGHT(User!B1538,(LEN(User!B1538)-LEN(I1538))))","v":{"$error":"#VALUE!"}}]
[{"$f":"LOWER(LEFT(User!B1539,LEN(I1539)))","v":""},{"$f":"ABS(RIGHT(User!B1539,(LEN(User!B1539)-LEN(I1539))))","v":{"$error":"#VALUE!"}}]
[{"$f":"LOWER(LEFT(User!B1540,LEN(I1540)))","v":""},{"$f":"ABS(RIGHT(User!B1540,(LEN(User!B1540)-LEN(I1540))))","v":{"$error":"#VALUE!"}}]
[{"$f":"LOWER(LEFT(User!B1541,LEN(I1541)))","v":""},{"$f":"ABS(RIGHT(User!B1541,(LEN(User!B1541)-LEN(I1541))))","v":{"$error":"#VALUE!"}}]
[{"$f":"LOWER(LEFT(User!B1542,LEN(I1542)))","v":""},{"$f":"ABS(RIGHT(User!B1542,(LEN(User!B1542)-LEN(I1542))))","v":{"$error":"#VALUE!"}}]
[{"$f":"LOWER(LEFT(User!B1543,LEN(I1543)))","v":""},{"$f":"ABS(RIGHT(User!B1543,(LEN(User!B1543)-LEN(I1543))))","v":{"$error":"#VALUE!"}}]
[{"$f":"LOWER(LEFT(User!B1544,LEN(I1544)))","v":""},{"$f":"ABS(RIGHT(User!B1544,(LEN(User!B1544)-LEN(I1544))))","v":{"$error":"#VALUE!"}}]
[{"$f":"LOWER(LEFT(User!B1545,LEN(I1545)))","v":""},{"$f":"ABS(RIGHT(User!B1545,(LEN(User!B1545)-LEN(I1545))))","v":{"$error":"#VALUE!"}}]
[{"$f":"LOWER(LEFT(User!B1546,LEN(I1546)))","v":""},{"$f":"ABS(RIGHT(User!B1546,(LEN(User!B1546)-LEN(I1546))))","v":{"$error":"#VALUE!"}}]
[{"$f":"LOWER(LEFT(User!B1547,LEN(I1547)))","v":""},{"$f":"ABS(RIGHT(User!B1547,(LEN(User!B1547)-LEN(I1547))))","v":{"$error":"#VALUE!"}}]
[{"$f":"LOWER(LEFT(User!B1548,LEN(I1548)))","v":""},{"$f":"ABS(RIGHT(User!B1548,(LEN(User!B1548)-LEN(I1548))))","v":{"$error":"#VALUE!"}}]
[{"$f":"LOWER(LEFT(User!B1549,LEN(I1549)))","v":""},{"$f":"ABS(RIGHT(User!B1549,(LEN(User!B1549)-LEN(I1549))))","v":{"$error":"#VALUE!"}}]
[{"$f":"LOWER(LEFT(User!B1550,LEN(I1550)))","v":""},{"$f":"ABS(RIGHT(User!B1550,(LEN(User!B1550)-LEN(I1550))))","v":{"$error":"#VALUE!"}}]
[{"$f":"LOWER(LEFT(User!B1551,LEN(I1551)))","v":""},{"$f":"ABS(RIGHT(User!B1551,(LEN(User!B1551)-LEN(I1551))))","v":{"$error":"#VALUE!"}}]
[{"$f":"LOWER(LEFT(User!B1552,LEN(I1552)))","v":""},{"$f":"ABS(RIGHT(User!B1552,(LEN(User!B1552)-LEN(I1552))))","v":{"$error":"#VALUE!"}}]
[{"$f":"LOWER(LEFT(User!B1553,LEN(I1553)))","v":""},{"$f":"ABS(RIGHT(User!B1553,(LEN(User!B1553)-LEN(I1553))))","v":{"$error":"#VALUE!"}}]
[{"$f":"LOWER(LEFT(User!B1554,LEN(I1554)))","v":""},{"$f":"ABS(RIGHT(User!B1554,(LEN(User!B1554)-LEN(I1554))))","v":{"$error":"#VALUE!"}}]
[{"$f":"LOWER(LEFT(User!B1555,LEN(I1555)))","v":""},{"$f":"ABS(RIGHT(User!B1555,(LEN(User!B1555)-LEN(I1555))))","v":{"$error":"#VALUE!"}}]
[{"$f":"LOWER(LEFT(User!B1556,LEN(I1556)))","v":""},{"$f":"ABS(RIGHT(User!B1556,(LEN(User!B1556)-LEN(I1556))))","v":{"$error":"#VALUE!"}}]
[{"$f":"LOWER(LEFT(User!B1557,LEN(I1557)))","v":""},{"$f":"ABS(RIGHT(User!B1557,(LEN(User!B1557)-LEN(I1557))))","v":{"$error":"#VALUE!"}}]
[{"$f":"LOWER(LEFT(User!B1558,LEN(I1558)))","v":""},{"$f":"ABS(RIGHT(User!B1558,(LEN(User!B1558)-LEN(I1558))))","v":{"$error":"#VALUE!"}}]
[{"$f":"LOWER(LEFT(User!B1559,LEN(I1559)))","v":""},{"$f":"ABS(RIGHT(User!B1559,(LEN(User!B1559)-LEN(I1559))))","v":{"$error":"#VALUE!"}}]
[{"$f":"LOWER(LEFT(User!B1560,LEN(I1560)))","v":""},{"$f":"ABS(RIGHT(User!B1560,(LEN(User!B1560)-LEN(I1560))))","v":{"$error":"#VALUE!"}}]
[{"$f":"LOWER(LEFT(User!B1561,LEN(I1561)))","v":""},{"$f":"ABS(RIGHT(User!B1561,(LEN(User!B1561)-LEN(I1561))))","v":{"$error":"#VALUE!"}}]
[{"$f":"LOWER(LEFT(User!B1562,LEN(I1562)))","v":""},{"$f":"ABS(RIGHT(User!B1562,(LEN(User!B1562)-LEN(I1562))))","v":{"$error":"#VALUE!"}}]
[{"$f":"LOWER(LEFT(User!B1563,LEN(I1563)))","v":""},{"$f":"ABS(RIGHT(User!B1563,(LEN(User!B1563)-LEN(I1563))))","v":{"$error":"#VALUE!"}}]
[{"$f":"LOWER(LEFT(User!B1564,LEN(I1564)))","v":""},{"$f":"ABS(RIGHT(User!B1564,(LEN(User!B1564)-LEN(I1564))))","v":{"$error":"#VALUE!"}}]
[{"$f":"LOWER(LEFT(User!B1565,LEN(I1565)))","v":""},{"$f":"ABS(RIGHT(User!B1565,(LEN(User!B1565)-LEN(I1565))))","v":{"$error":"#VALUE!"}}]
[{"$f":"LOWER(LEFT(User!B1566,LEN(I1566)))","v":""},{"$f":"ABS(RIGHT(User!B1566,(LEN(User!B1566)-LEN(I1566))))","v":{"$error":"#VALUE!"}}]
[{"$f":"LOWER(LEFT(User!B1567,LEN(I1567)))","v":""},{"$f":"ABS(RIGHT(User!B1567,(LEN(User!B1567)-LEN(I1567))))","v":{"$error":"#VALUE!"}}]
[{"$f":"LOWER(LEFT(User!B1568,LEN(I1568)))","v":""},{"$f":"ABS(RIGHT(User!B1568,(LEN(User!B1568)-LEN(I1568))))","v":{"$error":"#VALUE!"}}]
[{"$f":"LOWER(LEFT(User!B1569,LEN(I1569)))","v":""},{"$f":"ABS(RIGHT(User!B1569,(LEN(User!B1569)-LEN(I1569))))","v":{"$error":"#VALUE!"}}]
[{"$f":"LOWER(LEFT(User!B1570,LEN(I1570)))","v":""},{"$f":"ABS(RIGHT(User!B1570,(LEN(User!B1570)-LEN(I1570))))","v":{"$error":"#VALUE!"}}]
[{"$f":"LOWER(LEFT(User!B1571,LEN(I1571)))","v":""},{"$f":"ABS(RIGHT(User!B1571,(LEN(User!B1571)-LEN(I1571))))","v":{"$error":"#VALUE!"}}]
[{"$f":"LOWER(LEFT(User!B1572,LEN(I1572)))","v":""},{"$f":"ABS(RIGHT(User!B1572,(LEN(User!B1572)-LEN(I1572))))","v":{"$error":"#VALUE!"}}]
[{"$f":"LOWER(LEFT(User!B1573,LEN(I1573)))","v":""},{"$f":"ABS(RIGHT(User!B1573,(LEN(User!B1573)-LEN(I1573))))","v":{"$error":"#VALUE!"}}]
[{"$f":"LOWER(LEFT(User!B1574,LEN(I1574)))","v":""},{"$f":"ABS(RIGHT(User!B1574,(LEN(User!B1574)-LEN(I1574))))","v":{"$error":"#VALUE!"}}]
[{"$f":"LOWER(LEFT(User!B1575,LEN(I1575)))","v":""},{"$f":"ABS(RIGHT(User!B1575,(LEN(User!B1575)-LEN(I1575))))","v":{"$error":"#VALUE!"}}]
[{"$f":"LOWER(LEFT(User!B1576,LEN(I1576)))","v":""},{"$f":"ABS(RIGHT(User!B1576,(LEN(User!B1576)-LEN(I1576))))","v":{"$error":"#VALUE!"}}]
[{"$f":"LOWER(LEFT(User!B1577,LEN(I1577)))","v":""},{"$f":"ABS(RIGHT(User!B1577,(LEN(User!B1577)-LEN(I1577))))","v":{"$error":"#VALUE!"}}]
[{"$f":"LOWER(LEFT(User!B1578,LEN(I1578)))","v":""},{"$f":"ABS(RIGHT(User!B1578,(LEN(User!B1578)-LEN(I1578))))","v":{"$error":"#VALUE!"}}]
[{"$f":"LOWER(LEFT(User!B1579,LEN(I1579)))","v":""},{"$f":"ABS(RIGHT(User!B1579,(LEN(User!B1579)-LEN(I1579))))","v":{"$error":"#VALUE!"}}]
[{"$f":"LOWER(LEFT(User!B1580,LEN(I1580)))","v":""},{"$f":"ABS(RIGHT(User!B1580,(LEN(User!B1580)-LEN(I1580))))","v":{"$error":"#VALUE!"}}]
[{"$f":"LOWER(LEFT(User!B1581,LEN(I1581)))","v":""},{"$f":"ABS(RIGHT(User!B1581,(LEN(User!B1581)-LEN(I1581))))","v":{"$error":"#VALUE!"}}]
[{"$f":"LOWER(LEFT(User!B1582,LEN(I1582)))","v":""},{"$f":"ABS(RIGHT(User!B1582,(LEN(User!B1582)-LEN(I1582))))","v":{"$error":"#VALUE!"}}]
[{"$f":"LOWER(LEFT(User!B1583,LEN(I1583)))","v":""},{"$f":"ABS(RIGHT(User!B1583,(LEN(User!B1583)-LEN(I1583))))","v":{"$error":"#VALUE!"}}]
[{"$f":"LOWER(LEFT(User!B1584,LEN(I1584)))","v":""},{"$f":"ABS(RIGHT(User!B1584,(LEN(User!B1584)-LEN(I1584))))","v":{"$error":"#VALUE!"}}]
[{"$f":"LOWER(LEFT(User!B1585,LEN(I1585)))","v":""},{"$f":"ABS(RIGHT(User!B1585,(LEN(User!B1585)-LEN(I1585))))","v":{"$error":"#VALUE!"}}]
[{"$f":"LOWER(LEFT(User!B1586,LEN(I1586)))","v":""},{"$f":"ABS(RIGHT(User!B1586,(LEN(User!B1586)-LEN(I1586))))","v":{"$error":"#VALUE!"}}]
[{"$f":"LOWER(LEFT(User!B1587,LEN(I1587)))","v":""},{"$f":"ABS(RIGHT(User!B1587,(LEN(User!B1587)-LEN(I1587))))","v":{"$error":"#VALUE!"}}]
[{"$f":"LOWER(LEFT(User!B1588,LEN(I1588)))","v":""},{"$f":"ABS(RIGHT(User!B1588,(LEN(User!B1588)-LEN(I1588))))","v":{"$error":"#VALUE!"}}]
[{"$f":"LOWER(LEFT(User!B1589,LEN(I1589)))","v":""},{"$f":"ABS(RIGHT(User!B1589,(LEN(User!B1589)-LEN(I1589))))","v":{"$error":"#VALUE!"}}]
[{"$f":"LOWER(LEFT(User!B1590,LEN(I1590)))","v":""},{"$f":"ABS(RIGHT(User!B1590,(LEN(User!B1590)-LEN(I1590))))","v":{"$error":"#VALUE!"}}]
[{"$f":"LOWER(LEFT(User!B1591,LEN(I1591)))","v":""},{"$f":"ABS(RIGHT(User!B1591,(LEN(User!B1591)-LEN(I1591))))","v":{"$error":"#VALUE!"}}]
[{"$f":"LOWER(LEFT(User!B1592,LEN(I1592)))","v":""},{"$f":"ABS(RIGHT(User!B1592,(LEN(User!B1592)-LEN(I1592))))","v":{"$error":"#VALUE!"}}]
[{"$f":"LOWER(LEFT(User!B1593,LEN(I1593)))","v":""},{"$f":"ABS(RIGHT(User!B1593,(LEN(User!B1593)-LEN(I1593))))","v":{"$error":"#VALUE!"}}]
[{"$f":"LOWER(LEFT(User!B1594,LEN(I1594)))","v":""},{"$f":"ABS(RIGHT(User!B1594,(LEN(User!B1594)-LEN(I1594))))","v":{"$error":"#VALUE!"}}]
[{"$f":"LOWER(LEFT(User!B1595,LEN(I1595)))","v":""},{"$f":"ABS(RIGHT(User!B1595,(LEN(User!B1595)-LEN(I1595))))","v":{"$error":"#VALUE!"}}]
[{"$f":"LOWER(LEFT(User!B1596,LEN(I1596)))","v":""},{"$f":"ABS(RIGHT(User!B1596,(LEN(User!B1596)-LEN(I1596))))","v":{"$error":"#VALUE!"}}]
[{"$f":"LOWER(LEFT(User!B1597,LEN(I1597)))","v":""},{"$f":"ABS(RIGHT(User!B1597,(LEN(User!B1597)-LEN(I1597))))","v":{"$error":"#VALUE!"}}]
[{"$f":"LOWER(LEFT(User!B1598,LEN(I1598)))","v":""},{"$f":"ABS(RIGHT(User!B1598,(LEN(User!B1598)-LEN(I1598))))","v":{"$error":"#VALUE!"}}]
[{"$f":"LOWER(LEFT(User!B1599,LEN(I1599)))","v":""},{"$f":"ABS(RIGHT(User!B1599,(LEN(User!B1599)-LEN(I1599))))","v":{"$error":"#VALUE!"}}]
[{"$f":"LOWER(LEFT(User!B1600,LEN(I1600)))","v":""},{"$f":"ABS(RIGHT(User!B1600,(LEN(User!B1600)-LEN(I1600))))","v":{"$error":"#VALUE!"}}]
[{"$f":"LOWER(LEFT(User!B1601,LEN(I1601)))","v":""},{"$f":"ABS(RIGHT(User!B1601,(LEN(User!B1601)-LEN(I1601))))","v":{"$error":"#VALUE!"}}]
[{"$f":"LOWER(LEFT(User!B1602,LEN(I1602)))","v":""},{"$f":"ABS(RIGHT(User!B1602,(LEN(User!B1602)-LEN(I1602))))","v":{"$error":"#VALUE!"}}]
[{"$f":"LOWER(LEFT(User!B1603,LEN(I1603)))","v":""},{"$f":"ABS(RIGHT(User!B1603,(LEN(User!B1603)-LEN(I1603))))","v":{"$error":"#VALUE!"}}]
[{"$f":"LOWER(LEFT(User!B1604,LEN(I1604)))","v":""},{"$f":"ABS(RIGHT(User!B1604,(LEN(User!B1604)-LEN(I1604))))","v":{"$error":"#VALUE!"}}]
[{"$f":"LOWER(LEFT(User!B1605,LEN(I1605)))","v":""},{"$f":"ABS(RIGHT(User!B1605,(LEN(User!B1605)-LEN(I1605))))","v":{"$error":"#VALUE!"}}]
[{"$f":"LOWER(LEFT(User!B1606,LEN(I1606)))","v":""},{"$f":"ABS(RIGHT(User!B1606,(LEN(User!B1606)-LEN(I1606))))","v":{"$error":"#VALUE!"}}]
[{"$f":"LOWER(LEFT(User!B1607,LEN(I1607)))","v":""},{"$f":"ABS(RIGHT(User!B1607,(LEN(User!B1607)-LEN(I1607))))","v":{"$error":"#VALUE!"}}]
[{"$f":"LOWER(LEFT(User!B1608,LEN(I1608)))","v":""},{"$f":"ABS(RIGHT(User!B1608,(LEN(User!B1608)-LEN(I1608))))","v":{"$error":"#VALUE!"}}]
[{"$f":"LOWER(LEFT(User!B1609,LEN(I1609)))","v":""},{"$f":"ABS(RIGHT(User!B1609,(LEN(User!B1609)-LEN(I1609))))","v":{"$error":"#VALUE!"}}]
[{"$f":"LOWER(LEFT(User!B1610,LEN(I1610)))","v":""},{"$f":"ABS(RIGHT(User!B1610,(LEN(User!B1610)-LEN(I1610))))","v":{"$error":"#VALUE!"}}]
[{"$f":"LOWER(LEFT(User!B1611,LEN(I1611)))","v":""},{"$f":"ABS(RIGHT(User!B1611,(LEN(User!B1611)-LEN(I1611))))","v":{"$error":"#VALUE!"}}]
[{"$f":"LOWER(LEFT(User!B1612,LEN(I1612)))","v":""},{"$f":"ABS(RIGHT(User!B1612,(LEN(User!B1612)-LEN(I1612))))","v":{"$error":"#VALUE!"}}]
[{"$f":"LOWER(LEFT(User!B1613,LEN(I1613)))","v":""},{"$f":"ABS(RIGHT(User!B1613,(LEN(User!B1613)-LEN(I1613))))","v":{"$error":"#VALUE!"}}]
[{"$f":"LOWER(LEFT(User!B1614,LEN(I1614)))","v":""},{"$f":"ABS(RIGHT(User!B1614,(LEN(User!B1614)-LEN(I1614))))","v":{"$error":"#VALUE!"}}]
[{"$f":"LOWER(LEFT(User!B1615,LEN(I1615)))","v":""},{"$f":"ABS(RIGHT(User!B1615,(LEN(User!B1615)-LEN(I1615))))","v":{"$error":"#VALUE!"}}]
[{"$f":"LOWER(LEFT(User!B1616,LEN(I1616)))","v":""},{"$f":"ABS(RIGHT(User!B1616,(LEN(User!B1616)-LEN(I1616))))","v":{"$error":"#VALUE!"}}]
[{"$f":"LOWER(LEFT(User!B1617,LEN(I1617)))","v":""},{"$f":"ABS(RIGHT(User!B1617,(LEN(User!B1617)-LEN(I1617))))","v":{"$error":"#VALUE!"}}]
[{"$f":"LOWER(LEFT(User!B1618,LEN(I1618)))","v":""},{"$f":"ABS(RIGHT(User!B1618,(LEN(User!B1618)-LEN(I1618))))","v":{"$error":"#VALUE!"}}]
[{"$f":"LOWER(LEFT(User!B1619,LEN(I1619)))","v":""},{"$f":"ABS(RIGHT(User!B1619,(LEN(User!B1619)-LEN(I1619))))","v":{"$error":"#VALUE!"}}]
[{"$f":"LOWER(LEFT(User!B1620,LEN(I1620)))","v":""},{"$f":"ABS(RIGHT(User!B1620,(LEN(User!B1620)-LEN(I1620))))","v":{"$error":"#VALUE!"}}]
[{"$f":"LOWER(LEFT(User!B1621,LEN(I1621)))","v":""},{"$f":"ABS(RIGHT(User!B1621,(LEN(User!B1621)-LEN(I1621))))","v":{"$error":"#VALUE!"}}]
[{"$f":"LOWER(LEFT(User!B1622,LEN(I1622)))","v":""},{"$f":"ABS(RIGHT(User!B1622,(LEN(User!B1622)-LEN(I1622))))","v":{"$error":"#VALUE!"}}]
[{"$f":"LOWER(LEFT(User!B1623,LEN(I1623)))","v":""},{"$f":"ABS(RIGHT(User!B1623,(LEN(User!B1623)-LEN(I1623))))","v":{"$error":"#VALUE!"}}]
[{"$f":"LOWER(LEFT(User!B1624,LEN(I1624)))","v":""},{"$f":"ABS(RIGHT(User!B1624,(LEN(User!B1624)-LEN(I1624))))","v":{"$error":"#VALUE!"}}]
[{"$f":"LOWER(LEFT(User!B1625,LEN(I1625)))","v":""},{"$f":"ABS(RIGHT(User!B1625,(LEN(User!B1625)-LEN(I1625))))","v":{"$error":"#VALUE!"}}]
[{"$f":"LOWER(LEFT(User!B1626,LEN(I1626)))","v":""},{"$f":"ABS(RIGHT(User!B1626,(LEN(User!B1626)-LEN(I1626))))","v":{"$error":"#VALUE!"}}]
[{"$f":"LOWER(LEFT(User!B1627,LEN(I1627)))","v":""},{"$f":"ABS(RIGHT(User!B1627,(LEN(User!B1627)-LEN(I1627))))","v":{"$error":"#VALUE!"}}]
[{"$f":"LOWER(LEFT(User!B1628,LEN(I1628)))","v":""},{"$f":"ABS(RIGHT(User!B1628,(LEN(User!B1628)-LEN(I1628))))","v":{"$error":"#VALUE!"}}]
[{"$f":"LOWER(LEFT(User!B1629,LEN(I1629)))","v":""},{"$f":"ABS(RIGHT(User!B1629,(LEN(User!B1629)-LEN(I1629))))","v":{"$error":"#VALUE!"}}]
[{"$f":"LOWER(LEFT(User!B1630,LEN(I1630)))","v":""},{"$f":"ABS(RIGHT(User!B1630,(LEN(User!B1630)-LEN(I1630))))","v":{"$error":"#VALUE!"}}]
[{"$f":"LOWER(LEFT(User!B1631,LEN(I1631)))","v":""},{"$f":"ABS(RIGHT(User!B1631,(LEN(User!B1631)-LEN(I1631))))","v":{"$error":"#VALUE!"}}]
[{"$f":"LOWER(LEFT(User!B1632,LEN(I1632)))","v":""},{"$f":"ABS(RIGHT(User!B1632,(LEN(User!B1632)-LEN(I1632))))","v":{"$error":"#VALUE!"}}]
[{"$f":"LOWER(LEFT(User!B1633,LEN(I1633)))","v":""},{"$f":"ABS(RIGHT(User!B1633,(LEN(User!B1633)-LEN(I1633))))","v":{"$error":"#VALUE!"}}]
[{"$f":"LOWER(LEFT(User!B1634,LEN(I1634)))","v":""},{"$f":"ABS(RIGHT(User!B1634,(LEN(User!B1634)-LEN(I1634))))","v":{"$error":"#VALUE!"}}]
[{"$f":"LOWER(LEFT(User!B1635,LEN(I1635)))","v":""},{"$f":"ABS(RIGHT(User!B1635,(LEN(User!B1635)-LEN(I1635))))","v":{"$error":"#VALUE!"}}]
[{"$f":"LOWER(LEFT(User!B1636,LEN(I1636)))","v":""},{"$f":"ABS(RIGHT(User!B1636,(LEN(User!B1636)-LEN(I1636))))","v":{"$error":"#VALUE!"}}]
[{"$f":"LOWER(LEFT(User!B1637,LEN(I1637)))","v":""},{"$f":"ABS(RIGHT(User!B1637,(LEN(User!B1637)-LEN(I1637))))","v":{"$error":"#VALUE!"}}]
[{"$f":"LOWER(LEFT(User!B1638,LEN(I1638)))","v":""},{"$f":"ABS(RIGHT(User!B1638,(LEN(User!B1638)-LEN(I1638))))","v":{"$error":"#VALUE!"}}]
[{"$f":"LOWER(LEFT(User!B1639,LEN(I1639)))","v":""},{"$f":"ABS(RIGHT(User!B1639,(LEN(User!B1639)-LEN(I1639))))","v":{"$error":"#VALUE!"}}]
[{"$f":"LOWER(LEFT(User!B1640,LEN(I1640)))","v":""},{"$f":"ABS(RIGHT(User!B1640,(LEN(User!B1640)-LEN(I1640))))","v":{"$error":"#VALUE!"}}]
[{"$f":"LOWER(LEFT(User!B1641,LEN(I1641)))","v":""},{"$f":"ABS(RIGHT(User!B1641,(LEN(User!B1641)-LEN(I1641))))","v":{"$error":"#VALUE!"}}]
[{"$f":"LOWER(LEFT(User!B1642,LEN(I1642)))","v":""},{"$f":"ABS(RIGHT(User!B1642,(LEN(User!B1642)-LEN(I1642))))","v":{"$error":"#VALUE!"}}]
[{"$f":"LOWER(LEFT(User!B1643,LEN(I1643)))","v":""},{"$f":"ABS(RIGHT(User!B1643,(LEN(User!B1643)-LEN(I1643))))","v":{"$error":"#VALUE!"}}]
[{"$f":"LOWER(LEFT(User!B1644,LEN(I1644)))","v":""},{"$f":"ABS(RIGHT(User!B1644,(LEN(User!B1644)-LEN(I1644))))","v":{"$error":"#VALUE!"}}]
[{"$f":"LOWER(LEFT(User!B1645,LEN(I1645)))","v":""},{"$f":"ABS(RIGHT(User!B1645,(LEN(User!B1645)-LEN(I1645))))","v":{"$error":"#VALUE!"}}]
[{"$f":"LOWER(LEFT(User!B1646,LEN(I1646)))","v":""},{"$f":"ABS(RIGHT(User!B1646,(LEN(User!B1646)-LEN(I1646))))","v":{"$error":"#VALUE!"}}]
[{"$f":"LOWER(LEFT(User!B1647,LEN(I1647)))","v":""},{"$f":"ABS(RIGHT(User!B1647,(LEN(User!B1647)-LEN(I1647))))","v":{"$error":"#VALUE!"}}]
[{"$f":"LOWER(LEFT(User!B1648,LEN(I1648)))","v":""},{"$f":"ABS(RIGHT(User!B1648,(LEN(User!B1648)-LEN(I1648))))","v":{"$error":"#VALUE!"}}]
[{"$f":"LOWER(LEFT(User!B1649,LEN(I1649)))","v":""},{"$f":"ABS(RIGHT(User!B1649,(LEN(User!B1649)-LEN(I1649))))","v":{"$error":"#VALUE!"}}]
[{"$f":"LOWER(LEFT(User!B1650,LEN(I1650)))","v":""},{"$f":"ABS(RIGHT(User!B1650,(LEN(User!B1650)-LEN(I1650))))","v":{"$error":"#VALUE!"}}]
[{"$f":"LOWER(LEFT(User!B1651,LEN(I1651)))","v":""},{"$f":"ABS(RIGHT(User!B1651,(LEN(User!B1651)-LEN(I1651))))","v":{"$error":"#VALUE!"}}]
[{"$f":"LOWER(LEFT(User!B1652,LEN(I1652)))","v":""},{"$f":"ABS(RIGHT(User!B1652,(LEN(User!B1652)-LEN(I1652))))","v":{"$error":"#VALUE!"}}]
[{"$f":"LOWER(LEFT(User!B1653,LEN(I1653)))","v":""},{"$f":"ABS(RIGHT(User!B1653,(LEN(User!B1653)-LEN(I1653))))","v":{"$error":"#VALUE!"}}]
[{"$f":"LOWER(LEFT(User!B1654,LEN(I1654)))","v":""},{"$f":"ABS(RIGHT(User!B1654,(LEN(User!B1654)-LEN(I1654))))","v":{"$error":"#VALUE!"}}]
[{"$f":"LOWER(LEFT(User!B1655,LEN(I1655)))","v":""},{"$f":"ABS(RIGHT(User!B1655,(LEN(User!B1655)-LEN(I1655))))","v":{"$error":"#VALUE!"}}]
[{"$f":"LOWER(LEFT(User!B1656,LEN(I1656)))","v":""},{"$f":"ABS(RIGHT(User!B1656,(LEN(User!B1656)-LEN(I1656))))","v":{"$error":"#VALUE!"}}]
[{"$f":"LOWER(LEFT(User!B1657,LEN(I1657)))","v":""},{"$f":"ABS(RIGHT(User!B1657,(LEN(User!B1657)-LEN(I1657))))","v":{"$error":"#VALUE!"}}]
[{"$f":"LOWER(LEFT(User!B1658,LEN(I1658)))","v":""},{"$f":"ABS(RIGHT(User!B1658,(LEN(User!B1658)-LEN(I1658))))","v":{"$error":"#VALUE!"}}]
[{"$f":"LOWER(LEFT(User!B1659,LEN(I1659)))","v":""},{"$f":"ABS(RIGHT(User!B1659,(LEN(User!B1659)-LEN(I1659))))","v":{"$error":"#VALUE!"}}]
[{"$f":"LOWER(LEFT(User!B1660,LEN(I1660)))","v":""},{"$f":"ABS(RIGHT(User!B1660,(LEN(User!B1660)-LEN(I1660))))","v":{"$error":"#VALUE!"}}]
[{"$f":"LOWER(LEFT(User!B1661,LEN(I1661)))","v":""},{"$f":"ABS(RIGHT(User!B1661,(LEN(User!B1661)-LEN(I1661))))","v":{"$error":"#VALUE!"}}]
[{"$f":"LOWER(LEFT(User!B1662,LEN(I1662)))","v":""},{"$f":"ABS(RIGHT(User!B1662,(LEN(User!B1662)-LEN(I1662))))","v":{"$error":"#VALUE!"}}]
[{"$f":"LOWER(LEFT(User!B1663,LEN(I1663)))","v":""},{"$f":"ABS(RIGHT(User!B1663,(LEN(User!B1663)-LEN(I1663))))","v":{"$error":"#VALUE!"}}]
[{"$f":"LOWER(LEFT(User!B1664,LEN(I1664)))","v":""},{"$f":"ABS(RIGHT(User!B1664,(LEN(User!B1664)-LEN(I1664))))","v":{"$error":"#VALUE!"}}]
[{"$f":"LOWER(LEFT(User!B1665,LEN(I1665)))","v":""},{"$f":"ABS(RIGHT(User!B1665,(LEN(User!B1665)-LEN(I1665))))","v":{"$error":"#VALUE!"}}]
[{"$f":"LOWER(LEFT(User!B1666,LEN(I1666)))","v":""},{"$f":"ABS(RIGHT(User!B1666,(LEN(User!B1666)-LEN(I1666))))","v":{"$error":"#VALUE!"}}]
[{"$f":"LOWER(LEFT(User!B1667,LEN(I1667)))","v":""},{"$f":"ABS(RIGHT(User!B1667,(LEN(User!B1667)-LEN(I1667))))","v":{"$error":"#VALUE!"}}]
[{"$f":"LOWER(LEFT(User!B1668,LEN(I1668)))","v":""},{"$f":"ABS(RIGHT(User!B1668,(LEN(User!B1668)-LEN(I1668))))","v":{"$error":"#VALUE!"}}]
[{"$f":"LOWER(LEFT(User!B1669,LEN(I1669)))","v":""},{"$f":"ABS(RIGHT(User!B1669,(LEN(User!B1669)-LEN(I1669))))","v":{"$error":"#VALUE!"}}]
[{"$f":"LOWER(LEFT(User!B1670,LEN(I1670)))","v":""},{"$f":"ABS(RIGHT(User!B1670,(LEN(User!B1670)-LEN(I1670))))","v":{"$error":"#VALUE!"}}]
[{"$f":"LOWER(LEFT(User!B1671,LEN(I1671)))","v":""},{"$f":"ABS(RIGHT(User!B1671,(LEN(User!B1671)-LEN(I1671))))","v":{"$error":"#VALUE!"}}]
[{"$f":"LOWER(LEFT(User!B1672,LEN(I1672)))","v":""},{"$f":"ABS(RIGHT(User!B1672,(LEN(User!B1672)-LEN(I1672))))","v":{"$error":"#VALUE!"}}]
[{"$f":"LOWER(LEFT(User!B1673,LEN(I1673)))","v":""},{"$f":"ABS(RIGHT(User!B1673,(LEN(User!B1673)-LEN(I1673))))","v":{"$error":"#VALUE!"}}]
[{"$f":"LOWER(LEFT(User!B1674,LEN(I1674)))","v":""},{"$f":"ABS(RIGHT(User!B1674,(LEN(User!B1674)-LEN(I1674))))","v":{"$error":"#VALUE!"}}]
[{"$f":"LOWER(LEFT(User!B1675,LEN(I1675)))","v":""},{"$f":"ABS(RIGHT(User!B1675,(LEN(User!B1675)-LEN(I1675))))","v":{"$error":"#VALUE!"}}]
[{"$f":"LOWER(LEFT(User!B1676,LEN(I1676)))","v":""},{"$f":"ABS(RIGHT(User!B1676,(LEN(User!B1676)-LEN(I1676))))","v":{"$error":"#VALUE!"}}]
[{"$f":"LOWER(LEFT(User!B1677,LEN(I1677)))","v":""},{"$f":"ABS(RIGHT(User!B1677,(LEN(User!B1677)-LEN(I1677))))","v":{"$error":"#VALUE!"}}]
[{"$f":"LOWER(LEFT(User!B1678,LEN(I1678)))","v":""},{"$f":"ABS(RIGHT(User!B1678,(LEN(User!B1678)-LEN(I1678))))","v":{"$error":"#VALUE!"}}]
[{"$f":"LOWER(LEFT(User!B1679,LEN(I1679)))","v":""},{"$f":"ABS(RIGHT(User!B1679,(LEN(User!B1679)-LEN(I1679))))","v":{"$error":"#VALUE!"}}]
[{"$f":"LOWER(LEFT(User!B1680,LEN(I1680)))","v":""},{"$f":"ABS(RIGHT(User!B1680,(LEN(User!B1680)-LEN(I1680))))","v":{"$error":"#VALUE!"}}]
[{"$f":"LOWER(LEFT(User!B1681,LEN(I1681)))","v":""},{"$f":"ABS(RIGHT(User!B1681,(LEN(User!B1681)-LEN(I1681))))","v":{"$error":"#VALUE!"}}]
[{"$f":"LOWER(LEFT(User!B1682,LEN(I1682)))","v":""},{"$f":"ABS(RIGHT(User!B1682,(LEN(User!B1682)-LEN(I1682))))","v":{"$error":"#VALUE!"}}]
[{"$f":"LOWER(LEFT(User!B1683,LEN(I1683)))","v":""},{"$f":"ABS(RIGHT(User!B1683,(LEN(User!B1683)-LEN(I1683))))","v":{"$error":"#VALUE!"}}]
[{"$f":"LOWER(LEFT(User!B1684,LEN(I1684)))","v":""},{"$f":"ABS(RIGHT(User!B1684,(LEN(User!B1684)-LEN(I1684))))","v":{"$error":"#VALUE!"}}]
[{"$f":"LOWER(LEFT(User!B1685,LEN(I1685)))","v":""},{"$f":"ABS(RIGHT(User!B1685,(LEN(User!B1685)-LEN(I1685))))","v":{"$error":"#VALUE!"}}]
[{"$f":"LOWER(LEFT(User!B1686,LEN(I1686)))","v":""},{"$f":"ABS(RIGHT(User!B1686,(LEN(User!B1686)-LEN(I1686))))","v":{"$error":"#VALUE!"}}]
[{"$f":"LOWER(LEFT(User!B1687,LEN(I1687)))","v":""},{"$f":"ABS(RIGHT(User!B1687,(LEN(User!B1687)-LEN(I1687))))","v":{"$error":"#VALUE!"}}]
[{"$f":"LOWER(LEFT(User!B1688,LEN(I1688)))","v":""},{"$f":"ABS(RIGHT(User!B1688,(LEN(User!B1688)-LEN(I1688))))","v":{"$error":"#VALUE!"}}]
[{"$f":"LOWER(LEFT(User!B1689,LEN(I1689)))","v":""},{"$f":"ABS(RIGHT(User!B1689,(LEN(User!B1689)-LEN(I1689))))","v":{"$error":"#VALUE!"}}]
[{"$f":"LOWER(LEFT(User!B1690,LEN(I1690)))","v":""},{"$f":"ABS(RIGHT(User!B1690,(LEN(User!B1690)-LEN(I1690))))","v":{"$error":"#VALUE!"}}]
[{"$f":"LOWER(LEFT(User!B1691,LEN(I1691)))","v":""},{"$f":"ABS(RIGHT(User!B1691,(LEN(User!B1691)-LEN(I1691))))","v":{"$error":"#VALUE!"}}]
[{"$f":"LOWER(LEFT(User!B1692,LEN(I1692)))","v":""},{"$f":"ABS(RIGHT(User!B1692,(LEN(User!B1692)-LEN(I1692))))","v":{"$error":"#VALUE!"}}]
[{"$f":"LOWER(LEFT(User!B1693,LEN(I1693)))","v":""},{"$f":"ABS(RIGHT(User!B1693,(LEN(User!B1693)-LEN(I1693))))","v":{"$error":"#VALUE!"}}]
[{"$f":"LOWER(LEFT(User!B1694,LEN(I1694)))","v":""},{"$f":"ABS(RIGHT(User!B1694,(LEN(User!B1694)-LEN(I1694))))","v":{"$error":"#VALUE!"}}]
[{"$f":"LOWER(LEFT(User!B1695,LEN(I1695)))","v":""},{"$f":"ABS(RIGHT(User!B1695,(LEN(User!B1695)-LEN(I1695))))","v":{"$error":"#VALUE!"}}]
[{"$f":"LOWER(LEFT(User!B1696,LEN(I1696)))","v":""},{"$f":"ABS(RIGHT(User!B1696,(LEN(User!B1696)-LEN(I1696))))","v":{"$error":"#VALUE!"}}]
[{"$f":"LOWER(LEFT(User!B1697,LEN(I1697)))","v":""},{"$f":"ABS(RIGHT(User!B1697,(LEN(User!B1697)-LEN(I1697))))","v":{"$error":"#VALUE!"}}]
[{"$f":"LOWER(LEFT(User!B1698,LEN(I1698)))","v":""},{"$f":"ABS(RIGHT(User!B1698,(LEN(User!B1698)-LEN(I1698))))","v":{"$error":"#VALUE!"}}]
[{"$f":"LOWER(LEFT(User!B1699,LEN(I1699)))","v":""},{"$f":"ABS(RIGHT(User!B1699,(LEN(User!B1699)-LEN(I1699))))","v":{"$error":"#VALUE!"}}]
[{"$f":"LOWER(LEFT(User!B1700,LEN(I1700)))","v":""},{"$f":"ABS(RIGHT(User!B1700,(LEN(User!B1700)-LEN(I1700))))","v":{"$error":"#VALUE!"}}]
[{"$f":"LOWER(LEFT(User!B1701,LEN(I1701)))","v":""},{"$f":"ABS(RIGHT(User!B1701,(LEN(User!B1701)-LEN(I1701))))","v":{"$error":"#VALUE!"}}]
[{"$f":"LOWER(LEFT(User!B1702,LEN(I1702)))","v":""},{"$f":"ABS(RIGHT(User!B1702,(LEN(User!B1702)-LEN(I1702))))","v":{"$error":"#VALUE!"}}]
[{"$f":"LOWER(LEFT(User!B1703,LEN(I1703)))","v":""},{"$f":"ABS(RIGHT(User!B1703,(LEN(User!B1703)-LEN(I1703))))","v":{"$error":"#VALUE!"}}]
[{"$f":"LOWER(LEFT(User!B1704,LEN(I1704)))","v":""},{"$f":"ABS(RIGHT(User!B1704,(LEN(User!B1704)-LEN(I1704))))","v":{"$error":"#VALUE!"}}]
[{"$f":"LOWER(LEFT(User!B1705,LEN(I1705)))","v":""},{"$f":"ABS(RIGHT(User!B1705,(LEN(User!B1705)-LEN(I1705))))","v":{"$error":"#VALUE!"}}]
[{"$f":"LOWER(LEFT(User!B1706,LEN(I1706)))","v":""},{"$f":"ABS(RIGHT(User!B1706,(LEN(User!B1706)-LEN(I1706))))","v":{"$error":"#VALUE!"}}]
[{"$f":"LOWER(LEFT(User!B1707,LEN(I1707)))","v":""},{"$f":"ABS(RIGHT(User!B1707,(LEN(User!B1707)-LEN(I1707))))","v":{"$error":"#VALUE!"}}]
[{"$f":"LOWER(LEFT(User!B1708,LEN(I1708)))","v":""},{"$f":"ABS(RIGHT(User!B1708,(LEN(User!B1708)-LEN(I1708))))","v":{"$error":"#VALUE!"}}]
[{"$f":"LOWER(LEFT(User!B1709,LEN(I1709)))","v":""},{"$f":"ABS(RIGHT(User!B1709,(LEN(User!B1709)-LEN(I1709))))","v":{"$error":"#VALUE!"}}]
[{"$f":"LOWER(LEFT(User!B1710,LEN(I1710)))","v":""},{"$f":"ABS(RIGHT(User!B1710,(LEN(User!B1710)-LEN(I1710))))","v":{"$error":"#VALUE!"}}]
[{"$f":"LOWER(LEFT(User!B1711,LEN(I1711)))","v":""},{"$f":"ABS(RIGHT(User!B1711,(LEN(User!B1711)-LEN(I1711))))","v":{"$error":"#VALUE!"}}]
[{"$f":"LOWER(LEFT(User!B1712,LEN(I1712)))","v":""},{"$f":"ABS(RIGHT(User!B1712,(LEN(User!B1712)-LEN(I1712))))","v":{"$error":"#VALUE!"}}]
[{"$f":"LOWER(LEFT(User!B1713,LEN(I1713)))","v":""},{"$f":"ABS(RIGHT(User!B1713,(LEN(User!B1713)-LEN(I1713))))","v":{"$error":"#VALUE!"}}]
[{"$f":"LOWER(LEFT(User!B1714,LEN(I1714)))","v":""},{"$f":"ABS(RIGHT(User!B1714,(LEN(User!B1714)-LEN(I1714))))","v":{"$error":"#VALUE!"}}]
[{"$f":"LOWER(LEFT(User!B1715,LEN(I1715)))","v":""},{"$f":"ABS(RIGHT(User!B1715,(LEN(User!B1715)-LEN(I1715))))","v":{"$error":"#VALUE!"}}]
[{"$f":"LOWER(LEFT(User!B1716,LEN(I1716)))","v":""},{"$f":"ABS(RIGHT(User!B1716,(LEN(User!B1716)-LEN(I1716))))","v":{"$error":"#VALUE!"}}]
[{"$f":"LOWER(LEFT(User!B1717,LEN(I1717)))","v":""},{"$f":"ABS(RIGHT(User!B1717,(LEN(User!B1717)-LEN(I1717))))","v":{"$error":"#VALUE!"}}]
[{"$f":"LOWER(LEFT(User!B1718,LEN(I1718)))","v":""},{"$f":"ABS(RIGHT(User!B1718,(LEN(User!B1718)-LEN(I1718))))","v":{"$error":"#VALUE!"}}]
[{"$f":"LOWER(LEFT(User!B1719,LEN(I1719)))","v":""},{"$f":"ABS(RIGHT(User!B1719,(LEN(User!B1719)-LEN(I1719))))","v":{"$error":"#VALUE!"}}]
[{"$f":"LOWER(LEFT(User!B1720,LEN(I1720)))","v":""},{"$f":"ABS(RIGHT(User!B1720,(LEN(User!B1720)-LEN(I1720))))","v":{"$error":"#VALUE!"}}]
[{"$f":"LOWER(LEFT(User!B1721,LEN(I1721)))","v":""},{"$f":"ABS(RIGHT(User!B1721,(LEN(User!B1721)-LEN(I1721))))","v":{"$error":"#VALUE!"}}]
[{"$f":"LOWER(LEFT(User!B1722,LEN(I1722)))","v":""},{"$f":"ABS(RIGHT(User!B1722,(LEN(User!B1722)-LEN(I1722))))","v":{"$error":"#VALUE!"}}]
[{"$f":"LOWER(LEFT(User!B1723,LEN(I1723)))","v":""},{"$f":"ABS(RIGHT(User!B1723,(LEN(User!B1723)-LEN(I1723))))","v":{"$error":"#VALUE!"}}]
[{"$f":"LOWER(LEFT(User!B1724,LEN(I1724)))","v":""},{"$f":"ABS(RIGHT(User!B1724,(LEN(User!B1724)-LEN(I1724))))","v":{"$error":"#VALUE!"}}]
[{"$f":"LOWER(LEFT(User!B1725,LEN(I1725)))","v":""},{"$f":"ABS(RIGHT(User!B1725,(LEN(User!B1725)-LEN(I1725))))","v":{"$error":"#VALUE!"}}]
[{"$f":"LOWER(LEFT(User!B1726,LEN(I1726)))","v":""},{"$f":"ABS(RIGHT(User!B1726,(LEN(User!B1726)-LEN(I1726))))","v":{"$error":"#VALUE!"}}]
[{"$f":"LOWER(LEFT(User!B1727,LEN(I1727)))","v":""},{"$f":"ABS(RIGHT(User!B1727,(LEN(User!B1727)-LEN(I1727))))","v":{"$error":"#VALUE!"}}]
[{"$f":"LOWER(LEFT(User!B1728,LEN(I1728)))","v":""},{"$f":"ABS(RIGHT(User!B1728,(LEN(User!B1728)-LEN(I1728))))","v":{"$error":"#VALUE!"}}]
[{"$f":"LOWER(LEFT(User!B1729,LEN(I1729)))","v":""},{"$f":"ABS(RIGHT(User!B1729,(LEN(User!B1729)-LEN(I1729))))","v":{"$error":"#VALUE!"}}]
[{"$f":"LOWER(LEFT(User!B1730,LEN(I1730)))","v":""},{"$f":"ABS(RIGHT(User!B1730,(LEN(User!B1730)-LEN(I1730))))","v":{"$error":"#VALUE!"}}]
[{"$f":"LOWER(LEFT(User!B1731,LEN(I1731)))","v":""},{"$f":"ABS(RIGHT(User!B1731,(LEN(User!B1731)-LEN(I1731))))","v":{"$error":"#VALUE!"}}]
[{"$f":"LOWER(LEFT(User!B1732,LEN(I1732)))","v":""},{"$f":"ABS(RIGHT(User!B1732,(LEN(User!B1732)-LEN(I1732))))","v":{"$error":"#VALUE!"}}]
[{"$f":"LOWER(LEFT(User!B1733,LEN(I1733)))","v":""},{"$f":"ABS(RIGHT(User!B1733,(LEN(User!B1733)-LEN(I1733))))","v":{"$error":"#VALUE!"}}]
[{"$f":"LOWER(LEFT(User!B1734,LEN(I1734)))","v":""},{"$f":"ABS(RIGHT(User!B1734,(LEN(User!B1734)-LEN(I1734))))","v":{"$error":"#VALUE!"}}]
[{"$f":"LOWER(LEFT(User!B1735,LEN(I1735)))","v":""},{"$f":"ABS(RIGHT(User!B1735,(LEN(User!B1735)-LEN(I1735))))","v":{"$error":"#VALUE!"}}]
[{"$f":"LOWER(LEFT(User!B1736,LEN(I1736)))","v":""},{"$f":"ABS(RIGHT(User!B1736,(LEN(User!B1736)-LEN(I1736))))","v":{"$error":"#VALUE!"}}]
[{"$f":"LOWER(LEFT(User!B1737,LEN(I1737)))","v":""},{"$f":"ABS(RIGHT(User!B1737,(LEN(User!B1737)-LEN(I1737))))","v":{"$error":"#VALUE!"}}]
[{"$f":"LOWER(LEFT(User!B1738,LEN(I1738)))","v":""},{"$f":"ABS(RIGHT(User!B1738,(LEN(User!B1738)-LEN(I1738))))","v":{"$error":"#VALUE!"}}]
[{"$f":"LOWER(LEFT(User!B1739,LEN(I1739)))","v":""},{"$f":"ABS(RIGHT(User!B1739,(LEN(User!B1739)-LEN(I1739))))","v":{"$error":"#VALUE!"}}]
[{"$f":"LOWER(LEFT(User!B1740,LEN(I1740)))","v":""},{"$f":"ABS(RIGHT(User!B1740,(LEN(User!B1740)-LEN(I1740))))","v":{"$error":"#VALUE!"}}]
[{"$f":"LOWER(LEFT(User!B1741,LEN(I1741)))","v":""},{"$f":"ABS(RIGHT(User!B1741,(LEN(User!B1741)-LEN(I1741))))","v":{"$error":"#VALUE!"}}]
[{"$f":"LOWER(LEFT(User!B1742,LEN(I1742)))","v":""},{"$f":"ABS(RIGHT(User!B1742,(LEN(User!B1742)-LEN(I1742))))","v":{"$error":"#VALUE!"}}]
[{"$f":"LOWER(LEFT(User!B1743,LEN(I1743)))","v":""},{"$f":"ABS(RIGHT(User!B1743,(LEN(User!B1743)-LEN(I1743))))","v":{"$error":"#VALUE!"}}]
[{"$f":"LOWER(LEFT(User!B1744,LEN(I1744)))","v":""},{"$f":"ABS(RIGHT(User!B1744,(LEN(User!B1744)-LEN(I1744))))","v":{"$error":"#VALUE!"}}]
[{"$f":"LOWER(LEFT(User!B1745,LEN(I1745)))","v":""},{"$f":"ABS(RIGHT(User!B1745,(LEN(User!B1745)-LEN(I1745))))","v":{"$error":"#VALUE!"}}]
[{"$f":"LOWER(LEFT(User!B1746,LEN(I1746)))","v":""},{"$f":"ABS(RIGHT(User!B1746,(LEN(User!B1746)-LEN(I1746))))","v":{"$error":"#VALUE!"}}]
[{"$f":"LOWER(LEFT(User!B1747,LEN(I1747)))","v":""},{"$f":"ABS(RIGHT(User!B1747,(LEN(User!B1747)-LEN(I1747))))","v":{"$error":"#VALUE!"}}]
[{"$f":"LOWER(LEFT(User!B1748,LEN(I1748)))","v":""},{"$f":"ABS(RIGHT(User!B1748,(LEN(User!B1748)-LEN(I1748))))","v":{"$error":"#VALUE!"}}]
[{"$f":"LOWER(LEFT(User!B1749,LEN(I1749)))","v":""},{"$f":"ABS(RIGHT(User!B1749,(LEN(User!B1749)-LEN(I1749))))","v":{"$error":"#VALUE!"}}]
[{"$f":"LOWER(LEFT(User!B1750,LEN(I1750)))","v":""},{"$f":"ABS(RIGHT(User!B1750,(LEN(User!B1750)-LEN(I1750))))","v":{"$error":"#VALUE!"}}]
[{"$f":"LOWER(LEFT(User!B1751,LEN(I1751)))","v":""},{"$f":"ABS(RIGHT(User!B1751,(LEN(User!B1751)-LEN(I1751))))","v":{"$error":"#VALUE!"}}]
[{"$f":"LOWER(LEFT(User!B1752,LEN(I1752)))","v":""},{"$f":"ABS(RIGHT(User!B1752,(LEN(User!B1752)-LEN(I1752))))","v":{"$error":"#VALUE!"}}]
[{"$f":"LOWER(LEFT(User!B1753,LEN(I1753)))","v":""},{"$f":"ABS(RIGHT(User!B1753,(LEN(User!B1753)-LEN(I1753))))","v":{"$error":"#VALUE!"}}]
[{"$f":"LOWER(LEFT(User!B1754,LEN(I1754)))","v":""},{"$f":"ABS(RIGHT(User!B1754,(LEN(User!B1754)-LEN(I1754))))","v":{"$error":"#VALUE!"}}]
[{"$f":"LOWER(LEFT(User!B1755,LEN(I1755)))","v":""},{"$f":"ABS(RIGHT(User!B1755,(LEN(User!B1755)-LEN(I1755))))","v":{"$error":"#VALUE!"}}]
[{"$f":"LOWER(LEFT(User!B1756,LEN(I1756)))","v":""},{"$f":"ABS(RIGHT(User!B1756,(LEN(User!B1756)-LEN(I1756))))","v":{"$error":"#VALUE!"}}]
[{"$f":"LOWER(LEFT(User!B1757,LEN(I1757)))","v":""},{"$f":"ABS(RIGHT(User!B1757,(LEN(User!B1757)-LEN(I1757))))","v":{"$error":"#VALUE!"}}]
[{"$f":"LOWER(LEFT(User!B1758,LEN(I1758)))","v":""},{"$f":"ABS(RIGHT(User!B1758,(LEN(User!B1758)-LEN(I1758))))","v":{"$error":"#VALUE!"}}]
[{"$f":"LOWER(LEFT(User!B1759,LEN(I1759)))","v":""},{"$f":"ABS(RIGHT(User!B1759,(LEN(User!B1759)-LEN(I1759))))","v":{"$error":"#VALUE!"}}]
[{"$f":"LOWER(LEFT(User!B1760,LEN(I1760)))","v":""},{"$f":"ABS(RIGHT(User!B1760,(LEN(User!B1760)-LEN(I1760))))","v":{"$error":"#VALUE!"}}]
[{"$f":"LOWER(LEFT(User!B1761,LEN(I1761)))","v":""},{"$f":"ABS(RIGHT(User!B1761,(LEN(User!B1761)-LEN(I1761))))","v":{"$error":"#VALUE!"}}]
[{"$f":"LOWER(LEFT(User!B1762,LEN(I1762)))","v":""},{"$f":"ABS(RIGHT(User!B1762,(LEN(User!B1762)-LEN(I1762))))","v":{"$error":"#VALUE!"}}]
[{"$f":"LOWER(LEFT(User!B1763,LEN(I1763)))","v":""},{"$f":"ABS(RIGHT(User!B1763,(LEN(User!B1763)-LEN(I1763))))","v":{"$error":"#VALUE!"}}]
[{"$f":"LOWER(LEFT(User!B1764,LEN(I1764)))","v":""},{"$f":"ABS(RIGHT(User!B1764,(LEN(User!B1764)-LEN(I1764))))","v":{"$error":"#VALUE!"}}]
[{"$f":"LOWER(LEFT(User!B1765,LEN(I1765)))","v":""},{"$f":"ABS(RIGHT(User!B1765,(LEN(User!B1765)-LEN(I1765))))","v":{"$error":"#VALUE!"}}]
[{"$f":"LOWER(LEFT(User!B1766,LEN(I1766)))","v":""},{"$f":"ABS(RIGHT(User!B1766,(LEN(User!B1766)-LEN(I1766))))","v":{"$error":"#VALUE!"}}]
[{"$f":"LOWER(LEFT(User!B1767,LEN(I1767)))","v":""},{"$f":"ABS(RIGHT(User!B1767,(LEN(User!B1767)-LEN(I1767))))","v":{"$error":"#VALUE!"}}]
[{"$f":"LOWER(LEFT(User!B1768,LEN(I1768)))","v":""},{"$f":"ABS(RIGHT(User!B1768,(LEN(User!B1768)-LEN(I1768))))","v":{"$error":"#VALUE!"}}]
[{"$f":"LOWER(LEFT(User!B1769,LEN(I1769)))","v":""},{"$f":"ABS(RIGHT(User!B1769,(LEN(User!B1769)-LEN(I1769))))","v":{"$error":"#VALUE!"}}]
[{"$f":"LOWER(LEFT(User!B1770,LEN(I1770)))","v":""},{"$f":"ABS(RIGHT(User!B1770,(LEN(User!B1770)-LEN(I1770))))","v":{"$error":"#VALUE!"}}]
[{"$f":"LOWER(LEFT(User!B1771,LEN(I1771)))","v":""},{"$f":"ABS(RIGHT(User!B1771,(LEN(User!B1771)-LEN(I1771))))","v":{"$error":"#VALUE!"}}]
[{"$f":"LOWER(LEFT(User!B1772,LEN(I1772)))","v":""},{"$f":"ABS(RIGHT(User!B1772,(LEN(User!B1772)-LEN(I1772))))","v":{"$error":"#VALUE!"}}]
[{"$f":"LOWER(LEFT(User!B1773,LEN(I1773)))","v":""},{"$f":"ABS(RIGHT(User!B1773,(LEN(User!B1773)-LEN(I1773))))","v":{"$error":"#VALUE!"}}]
[{"$f":"LOWER(LEFT(User!B1774,LEN(I1774)))","v":""},{"$f":"ABS(RIGHT(User!B1774,(LEN(User!B1774)-LEN(I1774))))","v":{"$error":"#VALUE!"}}]
[{"$f":"LOWER(LEFT(User!B1775,LEN(I1775)))","v":""},{"$f":"ABS(RIGHT(User!B1775,(LEN(User!B1775)-LEN(I1775))))","v":{"$error":"#VALUE!"}}]
[{"$f":"LOWER(LEFT(User!B1776,LEN(I1776)))","v":""},{"$f":"ABS(RIGHT(User!B1776,(LEN(User!B1776)-LEN(I1776))))","v":{"$error":"#VALUE!"}}]
[{"$f":"LOWER(LEFT(User!B1777,LEN(I1777)))","v":""},{"$f":"ABS(RIGHT(User!B1777,(LEN(User!B1777)-LEN(I1777))))","v":{"$error":"#VALUE!"}}]
[{"$f":"LOWER(LEFT(User!B1778,LEN(I1778)))","v":""},{"$f":"ABS(RIGHT(User!B1778,(LEN(User!B1778)-LEN(I1778))))","v":{"$error":"#VALUE!"}}]
[{"$f":"LOWER(LEFT(User!B1779,LEN(I1779)))","v":""},{"$f":"ABS(RIGHT(User!B1779,(LEN(User!B1779)-LEN(I1779))))","v":{"$error":"#VALUE!"}}]
[{"$f":"LOWER(LEFT(User!B1780,LEN(I1780)))","v":""},{"$f":"ABS(RIGHT(User!B1780,(LEN(User!B1780)-LEN(I1780))))","v":{"$error":"#VALUE!"}}]
[{"$f":"LOWER(LEFT(User!B1781,LEN(I1781)))","v":""},{"$f":"ABS(RIGHT(User!B1781,(LEN(User!B1781)-LEN(I1781))))","v":{"$error":"#VALUE!"}}]
[{"$f":"LOWER(LEFT(User!B1782,LEN(I1782)))","v":""},{"$f":"ABS(RIGHT(User!B1782,(LEN(User!B1782)-LEN(I1782))))","v":{"$error":"#VALUE!"}}]
[{"$f":"LOWER(LEFT(User!B1783,LEN(I1783)))","v":""},{"$f":"ABS(RIGHT(User!B1783,(LEN(User!B1783)-LEN(I1783))))","v":{"$error":"#VALUE!"}}]
[{"$f":"LOWER(LEFT(User!B1784,LEN(I1784)))","v":""},{"$f":"ABS(RIGHT(User!B1784,(LEN(User!B1784)-LEN(I1784))))","v":{"$error":"#VALUE!"}}]
[{"$f":"LOWER(LEFT(User!B1785,LEN(I1785)))","v":""},{"$f":"ABS(RIGHT(User!B1785,(LEN(User!B1785)-LEN(I1785))))","v":{"$error":"#VALUE!"}}]
[{"$f":"LOWER(LEFT(User!B1786,LEN(I1786)))","v":""},{"$f":"ABS(RIGHT(User!B1786,(LEN(User!B1786)-LEN(I1786))))","v":{"$error":"#VALUE!"}}]
[{"$f":"LOWER(LEFT(User!B1787,LEN(I1787)))","v":""},{"$f":"ABS(RIGHT(User!B1787,(LEN(User!B1787)-LEN(I1787))))","v":{"$error":"#VALUE!"}}]
[{"$f":"LOWER(LEFT(User!B1788,LEN(I1788)))","v":""},{"$f":"ABS(RIGHT(User!B1788,(LEN(User!B1788)-LEN(I1788))))","v":{"$error":"#VALUE!"}}]
[{"$f":"LOWER(LEFT(User!B1789,LEN(I1789)))","v":""},{"$f":"ABS(RIGHT(User!B1789,(LEN(User!B1789)-LEN(I1789))))","v":{"$error":"#VALUE!"}}]
[{"$f":"LOWER(LEFT(User!B1790,LEN(I1790)))","v":""},{"$f":"ABS(RIGHT(User!B1790,(LEN(User!B1790)-LEN(I1790))))","v":{"$error":"#VALUE!"}}]
[{"$f":"LOWER(LEFT(User!B1791,LEN(I1791)))","v":""},{"$f":"ABS(RIGHT(User!B1791,(LEN(User!B1791)-LEN(I1791))))","v":{"$error":"#VALUE!"}}]
[{"$f":"LOWER(LEFT(User!B1792,LEN(I1792)))","v":""},{"$f":"ABS(RIGHT(User!B1792,(LEN(User!B1792)-LEN(I1792))))","v":{"$error":"#VALUE!"}}]
[{"$f":"LOWER(LEFT(User!B1793,LEN(I1793)))","v":""},{"$f":"ABS(RIGHT(User!B1793,(LEN(User!B1793)-LEN(I1793))))","v":{"$error":"#VALUE!"}}]
[{"$f":"LOWER(LEFT(User!B1794,LEN(I1794)))","v":""},{"$f":"ABS(RIGHT(User!B1794,(LEN(User!B1794)-LEN(I1794))))","v":{"$error":"#VALUE!"}}]
[{"$f":"LOWER(LEFT(User!B1795,LEN(I1795)))","v":""},{"$f":"ABS(RIGHT(User!B1795,(LEN(User!B1795)-LEN(I1795))))","v":{"$error":"#VALUE!"}}]
[{"$f":"LOWER(LEFT(User!B1796,LEN(I1796)))","v":""},{"$f":"ABS(RIGHT(User!B1796,(LEN(User!B1796)-LEN(I1796))))","v":{"$error":"#VALUE!"}}]
[{"$f":"LOWER(LEFT(User!B1797,LEN(I1797)))","v":""},{"$f":"ABS(RIGHT(User!B1797,(LEN(User!B1797)-LEN(I1797))))","v":{"$error":"#VALUE!"}}]
[{"$f":"LOWER(LEFT(User!B1798,LEN(I1798)))","v":""},{"$f":"ABS(RIGHT(User!B1798,(LEN(User!B1798)-LEN(I1798))))","v":{"$error":"#VALUE!"}}]
[{"$f":"LOWER(LEFT(User!B1799,LEN(I1799)))","v":""},{"$f":"ABS(RIGHT(User!B1799,(LEN(User!B1799)-LEN(I1799))))","v":{"$error":"#VALUE!"}}]
[{"$f":"LOWER(LEFT(User!B1800,LEN(I1800)))","v":""},{"$f":"ABS(RIGHT(User!B1800,(LEN(User!B1800)-LEN(I1800))))","v":{"$error":"#VALUE!"}}]
[{"$f":"LOWER(LEFT(User!B1801,LEN(I1801)))","v":""},{"$f":"ABS(RIGHT(User!B1801,(LEN(User!B1801)-LEN(I1801))))","v":{"$error":"#VALUE!"}}]
[{"$f":"LOWER(LEFT(User!B1802,LEN(I1802)))","v":""},{"$f":"ABS(RIGHT(User!B1802,(LEN(User!B1802)-LEN(I1802))))","v":{"$error":"#VALUE!"}}]
[{"$f":"LOWER(LEFT(User!B1803,LEN(I1803)))","v":""},{"$f":"ABS(RIGHT(User!B1803,(LEN(User!B1803)-LEN(I1803))))","v":{"$error":"#VALUE!"}}]
[{"$f":"LOWER(LEFT(User!B1804,LEN(I1804)))","v":""},{"$f":"ABS(RIGHT(User!B1804,(LEN(User!B1804)-LEN(I1804))))","v":{"$error":"#VALUE!"}}]
[{"$f":"LOWER(LEFT(User!B1805,LEN(I1805)))","v":""},{"$f":"ABS(RIGHT(User!B1805,(LEN(User!B1805)-LEN(I1805))))","v":{"$error":"#VALUE!"}}]
[{"$f":"LOWER(LEFT(User!B1806,LEN(I1806)))","v":""},{"$f":"ABS(RIGHT(User!B1806,(LEN(User!B1806)-LEN(I1806))))","v":{"$error":"#VALUE!"}}]
[{"$f":"LOWER(LEFT(User!B1807,LEN(I1807)))","v":""},{"$f":"ABS(RIGHT(User!B1807,(LEN(User!B1807)-LEN(I1807))))","v":{"$error":"#VALUE!"}}]
[{"$f":"LOWER(LEFT(User!B1808,LEN(I1808)))","v":""},{"$f":"ABS(RIGHT(User!B1808,(LEN(User!B1808)-LEN(I1808))))","v":{"$error":"#VALUE!"}}]
[{"$f":"LOWER(LEFT(User!B1809,LEN(I1809)))","v":""},{"$f":"ABS(RIGHT(User!B1809,(LEN(User!B1809)-LEN(I1809))))","v":{"$error":"#VALUE!"}}]
[{"$f":"LOWER(LEFT(User!B1810,LEN(I1810)))","v":""},{"$f":"ABS(RIGHT(User!B1810,(LEN(User!B1810)-LEN(I1810))))","v":{"$error":"#VALUE!"}}]
[{"$f":"LOWER(LEFT(User!B1811,LEN(I1811)))","v":""},{"$f":"ABS(RIGHT(User!B1811,(LEN(User!B1811)-LEN(I1811))))","v":{"$error":"#VALUE!"}}]
[{"$f":"LOWER(LEFT(User!B1812,LEN(I1812)))","v":""},{"$f":"ABS(RIGHT(User!B1812,(LEN(User!B1812)-LEN(I1812))))","v":{"$error":"#VALUE!"}}]
[{"$f":"LOWER(LEFT(User!B1813,LEN(I1813)))","v":""},{"$f":"ABS(RIGHT(User!B1813,(LEN(User!B1813)-LEN(I1813))))","v":{"$error":"#VALUE!"}}]
[{"$f":"LOWER(LEFT(User!B1814,LEN(I1814)))","v":""},{"$f":"ABS(RIGHT(User!B1814,(LEN(User!B1814)-LEN(I1814))))","v":{"$error":"#VALUE!"}}]
[{"$f":"LOWER(LEFT(User!B1815,LEN(I1815)))","v":""},{"$f":"ABS(RIGHT(User!B1815,(LEN(User!B1815)-LEN(I1815))))","v":{"$error":"#VALUE!"}}]
[{"$f":"LOWER(LEFT(User!B1816,LEN(I1816)))","v":""},{"$f":"ABS(RIGHT(User!B1816,(LEN(User!B1816)-LEN(I1816))))","v":{"$error":"#VALUE!"}}]
[{"$f":"LOWER(LEFT(User!B1817,LEN(I1817)))","v":""},{"$f":"ABS(RIGHT(User!B1817,(LEN(User!B1817)-LEN(I1817))))","v":{"$error":"#VALUE!"}}]
[{"$f":"LOWER(LEFT(User!B1818,LEN(I1818)))","v":""},{"$f":"ABS(RIGHT(User!B1818,(LEN(User!B1818)-LEN(I1818))))","v":{"$error":"#VALUE!"}}]
[{"$f":"LOWER(LEFT(User!B1819,LEN(I1819)))","v":""},{"$f":"ABS(RIGHT(User!B1819,(LEN(User!B1819)-LEN(I1819))))","v":{"$error":"#VALUE!"}}]
[{"$f":"LOWER(LEFT(User!B1820,LEN(I1820)))","v":""},{"$f":"ABS(RIGHT(User!B1820,(LEN(User!B1820)-LEN(I1820))))","v":{"$error":"#VALUE!"}}]
[{"$f":"LOWER(LEFT(User!B1821,LEN(I1821)))","v":""},{"$f":"ABS(RIGHT(User!B1821,(LEN(User!B1821)-LEN(I1821))))","v":{"$error":"#VALUE!"}}]
[{"$f":"LOWER(LEFT(User!B1822,LEN(I1822)))","v":""},{"$f":"ABS(RIGHT(User!B1822,(LEN(User!B1822)-LEN(I1822))))","v":{"$error":"#VALUE!"}}]
[{"$f":"LOWER(LEFT(User!B1823,LEN(I1823)))","v":""},{"$f":"ABS(RIGHT(User!B1823,(LEN(User!B1823)-LEN(I1823))))","v":{"$error":"#VALUE!"}}]
[{"$f":"LOWER(LEFT(User!B1824,LEN(I1824)))","v":""},{"$f":"ABS(RIGHT(User!B1824,(LEN(User!B1824)-LEN(I1824))))","v":{"$error":"#VALUE!"}}]
[{"$f":"LOWER(LEFT(User!B1825,LEN(I1825)))","v":""},{"$f":"ABS(RIGHT(User!B1825,(LEN(User!B1825)-LEN(I1825))))","v":{"$error":"#VALUE!"}}]
[{"$f":"LOWER(LEFT(User!B1826,LEN(I1826)))","v":""},{"$f":"ABS(RIGHT(User!B1826,(LEN(User!B1826)-LEN(I1826))))","v":{"$error":"#VALUE!"}}]
[{"$f":"LOWER(LEFT(User!B1827,LEN(I1827)))","v":""},{"$f":"ABS(RIGHT(User!B1827,(LEN(User!B1827)-LEN(I1827))))","v":{"$error":"#VALUE!"}}]
[{"$f":"LOWER(LEFT(User!B1828,LEN(I1828)))","v":""},{"$f":"ABS(RIGHT(User!B1828,(LEN(User!B1828)-LEN(I1828))))","v":{"$error":"#VALUE!"}}]
[{"$f":"LOWER(LEFT(User!B1829,LEN(I1829)))","v":""},{"$f":"ABS(RIGHT(User!B1829,(LEN(User!B1829)-LEN(I1829))))","v":{"$error":"#VALUE!"}}]
[{"$f":"LOWER(LEFT(User!B1830,LEN(I1830)))","v":""},{"$f":"ABS(RIGHT(User!B1830,(LEN(User!B1830)-LEN(I1830))))","v":{"$error":"#VALUE!"}}]
[{"$f":"LOWER(LEFT(User!B1831,LEN(I1831)))","v":""},{"$f":"ABS(RIGHT(User!B1831,(LEN(User!B1831)-LEN(I1831))))","v":{"$error":"#VALUE!"}}]
[{"$f":"LOWER(LEFT(User!B1832,LEN(I1832)))","v":""},{"$f":"ABS(RIGHT(User!B1832,(LEN(User!B1832)-LEN(I1832))))","v":{"$error":"#VALUE!"}}]
[{"$f":"LOWER(LEFT(User!B1833,LEN(I1833)))","v":""},{"$f":"ABS(RIGHT(User!B1833,(LEN(User!B1833)-LEN(I1833))))","v":{"$error":"#VALUE!"}}]
[{"$f":"LOWER(LEFT(User!B1834,LEN(I1834)))","v":""},{"$f":"ABS(RIGHT(User!B1834,(LEN(User!B1834)-LEN(I1834))))","v":{"$error":"#VALUE!"}}]
[{"$f":"LOWER(LEFT(User!B1835,LEN(I1835)))","v":""},{"$f":"ABS(RIGHT(User!B1835,(LEN(User!B1835)-LEN(I1835))))","v":{"$error":"#VALUE!"}}]
[{"$f":"LOWER(LEFT(User!B1836,LEN(I1836)))","v":""},{"$f":"ABS(RIGHT(User!B1836,(LEN(User!B1836)-LEN(I1836))))","v":{"$error":"#VALUE!"}}]
[{"$f":"LOWER(LEFT(User!B1837,LEN(I1837)))","v":""},{"$f":"ABS(RIGHT(User!B1837,(LEN(User!B1837)-LEN(I1837))))","v":{"$error":"#VALUE!"}}]
[{"$f":"LOWER(LEFT(User!B1838,LEN(I1838)))","v":""},{"$f":"ABS(RIGHT(User!B1838,(LEN(User!B1838)-LEN(I1838))))","v":{"$error":"#VALUE!"}}]
[{"$f":"LOWER(LEFT(User!B1839,LEN(I1839)))","v":""},{"$f":"ABS(RIGHT(User!B1839,(LEN(User!B1839)-LEN(I1839))))","v":{"$error":"#VALUE!"}}]
[{"$f":"LOWER(LEFT(User!B1840,LEN(I1840)))","v":""},{"$f":"ABS(RIGHT(User!B1840,(LEN(User!B1840)-LEN(I1840))))","v":{"$error":"#VALUE!"}}]
[{"$f":"LOWER(LEFT(User!B1841,LEN(I1841)))","v":""},{"$f":"ABS(RIGHT(User!B1841,(LEN(User!B1841)-LEN(I1841))))","v":{"$error":"#VALUE!"}}]
[{"$f":"LOWER(LEFT(User!B1842,LEN(I1842)))","v":""},{"$f":"ABS(RIGHT(User!B1842,(LEN(User!B1842)-LEN(I1842))))","v":{"$error":"#VALUE!"}}]
[{"$f":"LOWER(LEFT(User!B1843,LEN(I1843)))","v":""},{"$f":"ABS(RIGHT(User!B1843,(LEN(User!B1843)-LEN(I1843))))","v":{"$error":"#VALUE!"}}]
[{"$f":"LOWER(LEFT(User!B1844,LEN(I1844)))","v":""},{"$f":"ABS(RIGHT(User!B1844,(LEN(User!B1844)-LEN(I1844))))","v":{"$error":"#VALUE!"}}]
[{"$f":"LOWER(LEFT(User!B1845,LEN(I1845)))","v":""},{"$f":"ABS(RIGHT(User!B1845,(LEN(User!B1845)-LEN(I1845))))","v":{"$error":"#VALUE!"}}]
[{"$f":"LOWER(LEFT(User!B1846,LEN(I1846)))","v":""},{"$f":"ABS(RIGHT(User!B1846,(LEN(User!B1846)-LEN(I1846))))","v":{"$error":"#VALUE!"}}]
[{"$f":"LOWER(LEFT(User!B1847,LEN(I1847)))","v":""},{"$f":"ABS(RIGHT(User!B1847,(LEN(User!B1847)-LEN(I1847))))","v":{"$error":"#VALUE!"}}]
[{"$f":"LOWER(LEFT(User!B1848,LEN(I1848)))","v":""},{"$f":"ABS(RIGHT(User!B1848,(LEN(User!B1848)-LEN(I1848))))","v":{"$error":"#VALUE!"}}]
[{"$f":"LOWER(LEFT(User!B1849,LEN(I1849)))","v":""},{"$f":"ABS(RIGHT(User!B1849,(LEN(User!B1849)-LEN(I1849))))","v":{"$error":"#VALUE!"}}]
[{"$f":"LOWER(LEFT(User!B1850,LEN(I1850)))","v":""},{"$f":"ABS(RIGHT(User!B1850,(LEN(User!B1850)-LEN(I1850))))","v":{"$error":"#VALUE!"}}]
[{"$f":"LOWER(LEFT(User!B1851,LEN(I1851)))","v":""},{"$f":"ABS(RIGHT(User!B1851,(LEN(User!B1851)-LEN(I1851))))","v":{"$error":"#VALUE!"}}]
[{"$f":"LOWER(LEFT(User!B1852,LEN(I1852)))","v":""},{"$f":"ABS(RIGHT(User!B1852,(LEN(User!B1852)-LEN(I1852))))","v":{"$error":"#VALUE!"}}]
[{"$f":"LOWER(LEFT(User!B1853,LEN(I1853)))","v":""},{"$f":"ABS(RIGHT(User!B1853,(LEN(User!B1853)-LEN(I1853))))","v":{"$error":"#VALUE!"}}]
[{"$f":"LOWER(LEFT(User!B1854,LEN(I1854)))","v":""},{"$f":"ABS(RIGHT(User!B1854,(LEN(User!B1854)-LEN(I1854))))","v":{"$error":"#VALUE!"}}]
[{"$f":"LOWER(LEFT(User!B1855,LEN(I1855)))","v":""},{"$f":"ABS(RIGHT(User!B1855,(LEN(User!B1855)-LEN(I1855))))","v":{"$error":"#VALUE!"}}]
[{"$f":"LOWER(LEFT(User!B1856,LEN(I1856)))","v":""},{"$f":"ABS(RIGHT(User!B1856,(LEN(User!B1856)-LEN(I1856))))","v":{"$error":"#VALUE!"}}]
[{"$f":"LOWER(LEFT(User!B1857,LEN(I1857)))","v":""},{"$f":"ABS(RIGHT(User!B1857,(LEN(User!B1857)-LEN(I1857))))","v":{"$error":"#VALUE!"}}]
[{"$f":"LOWER(LEFT(User!B1858,LEN(I1858)))","v":""},{"$f":"ABS(RIGHT(User!B1858,(LEN(User!B1858)-LEN(I1858))))","v":{"$error":"#VALUE!"}}]
[{"$f":"LOWER(LEFT(User!B1859,LEN(I1859)))","v":""},{"$f":"ABS(RIGHT(User!B1859,(LEN(User!B1859)-LEN(I1859))))","v":{"$error":"#VALUE!"}}]
[{"$f":"LOWER(LEFT(User!B1860,LEN(I1860)))","v":""},{"$f":"ABS(RIGHT(User!B1860,(LEN(User!B1860)-LEN(I1860))))","v":{"$error":"#VALUE!"}}]
[{"$f":"LOWER(LEFT(User!B1861,LEN(I1861)))","v":""},{"$f":"ABS(RIGHT(User!B1861,(LEN(User!B1861)-LEN(I1861))))","v":{"$error":"#VALUE!"}}]
[{"$f":"LOWER(LEFT(User!B1862,LEN(I1862)))","v":""},{"$f":"ABS(RIGHT(User!B1862,(LEN(User!B1862)-LEN(I1862))))","v":{"$error":"#VALUE!"}}]
[{"$f":"LOWER(LEFT(User!B1863,LEN(I1863)))","v":""},{"$f":"ABS(RIGHT(User!B1863,(LEN(User!B1863)-LEN(I1863))))","v":{"$error":"#VALUE!"}}]
[{"$f":"LOWER(LEFT(User!B1864,LEN(I1864)))","v":""},{"$f":"ABS(RIGHT(User!B1864,(LEN(User!B1864)-LEN(I1864))))","v":{"$error":"#VALUE!"}}]
[{"$f":"LOWER(LEFT(User!B1865,LEN(I1865)))","v":""},{"$f":"ABS(RIGHT(User!B1865,(LEN(User!B1865)-LEN(I1865))))","v":{"$error":"#VALUE!"}}]
[{"$f":"LOWER(LEFT(User!B1866,LEN(I1866)))","v":""},{"$f":"ABS(RIGHT(User!B1866,(LEN(User!B1866)-LEN(I1866))))","v":{"$error":"#VALUE!"}}]
[{"$f":"LOWER(LEFT(User!B1867,LEN(I1867)))","v":""},{"$f":"ABS(RIGHT(User!B1867,(LEN(User!B1867)-LEN(I1867))))","v":{"$error":"#VALUE!"}}]
[{"$f":"LOWER(LEFT(User!B1868,LEN(I1868)))","v":""},{"$f":"ABS(RIGHT(User!B1868,(LEN(User!B1868)-LEN(I1868))))","v":{"$error":"#VALUE!"}}]
[{"$f":"LOWER(LEFT(User!B1869,LEN(I1869)))","v":""},{"$f":"ABS(RIGHT(User!B1869,(LEN(User!B1869)-LEN(I1869))))","v":{"$error":"#VALUE!"}}]
[{"$f":"LOWER(LEFT(User!B1870,LEN(I1870)))","v":""},{"$f":"ABS(RIGHT(User!B1870,(LEN(User!B1870)-LEN(I1870))))","v":{"$error":"#VALUE!"}}]
[{"$f":"LOWER(LEFT(User!B1871,LEN(I1871)))","v":""},{"$f":"ABS(RIGHT(User!B1871,(LEN(User!B1871)-LEN(I1871))))","v":{"$error":"#VALUE!"}}]
[{"$f":"LOWER(LEFT(User!B1872,LEN(I1872)))","v":""},{"$f":"ABS(RIGHT(User!B1872,(LEN(User!B1872)-LEN(I1872))))","v":{"$error":"#VALUE!"}}]
[{"$f":"LOWER(LEFT(User!B1873,LEN(I1873)))","v":""},{"$f":"ABS(RIGHT(User!B1873,(LEN(User!B1873)-LEN(I1873))))","v":{"$error":"#VALUE!"}}]
[{"$f":"LOWER(LEFT(User!B1874,LEN(I1874)))","v":""},{"$f":"ABS(RIGHT(User!B1874,(LEN(User!B1874)-LEN(I1874))))","v":{"$error":"#VALUE!"}}]
[{"$f":"LOWER(LEFT(User!B1875,LEN(I1875)))","v":""},{"$f":"ABS(RIGHT(User!B1875,(LEN(User!B1875)-LEN(I1875))))","v":{"$error":"#VALUE!"}}]
[{"$f":"LOWER(LEFT(User!B1876,LEN(I1876)))","v":""},{"$f":"ABS(RIGHT(User!B1876,(LEN(User!B1876)-LEN(I1876))))","v":{"$error":"#VALUE!"}}]
[{"$f":"LOWER(LEFT(User!B1877,LEN(I1877)))","v":""},{"$f":"ABS(RIGHT(User!B1877,(LEN(User!B1877)-LEN(I1877))))","v":{"$error":"#VALUE!"}}]
[{"$f":"LOWER(LEFT(User!B1878,LEN(I1878)))","v":""},{"$f":"ABS(RIGHT(User!B1878,(LEN(User!B1878)-LEN(I1878))))","v":{"$error":"#VALUE!"}}]
[{"$f":"LOWER(LEFT(User!B1879,LEN(I1879)))","v":""},{"$f":"ABS(RIGHT(User!B1879,(LEN(User!B1879)-LEN(I1879))))","v":{"$error":"#VALUE!"}}]
[{"$f":"LOWER(LEFT(User!B1880,LEN(I1880)))","v":""},{"$f":"ABS(RIGHT(User!B1880,(LEN(User!B1880)-LEN(I1880))))","v":{"$error":"#VALUE!"}}]
[{"$f":"LOWER(LEFT(User!B1881,LEN(I1881)))","v":""},{"$f":"ABS(RIGHT(User!B1881,(LEN(User!B1881)-LEN(I1881))))","v":{"$error":"#VALUE!"}}]
[{"$f":"LOWER(LEFT(User!B1882,LEN(I1882)))","v":""},{"$f":"ABS(RIGHT(User!B1882,(LEN(User!B1882)-LEN(I1882))))","v":{"$error":"#VALUE!"}}]
[{"$f":"LOWER(LEFT(User!B1883,LEN(I1883)))","v":""},{"$f":"ABS(RIGHT(User!B1883,(LEN(User!B1883)-LEN(I1883))))","v":{"$error":"#VALUE!"}}]
[{"$f":"LOWER(LEFT(User!B1884,LEN(I1884)))","v":""},{"$f":"ABS(RIGHT(User!B1884,(LEN(User!B1884)-LEN(I1884))))","v":{"$error":"#VALUE!"}}]
[{"$f":"LOWER(LEFT(User!B1885,LEN(I1885)))","v":""},{"$f":"ABS(RIGHT(User!B1885,(LEN(User!B1885)-LEN(I1885))))","v":{"$error":"#VALUE!"}}]
[{"$f":"LOWER(LEFT(User!B1886,LEN(I1886)))","v":""},{"$f":"ABS(RIGHT(User!B1886,(LEN(User!B1886)-LEN(I1886))))","v":{"$error":"#VALUE!"}}]
[{"$f":"LOWER(LEFT(User!B1887,LEN(I1887)))","v":""},{"$f":"ABS(RIGHT(User!B1887,(LEN(User!B1887)-LEN(I1887))))","v":{"$error":"#VALUE!"}}]
[{"$f":"LOWER(LEFT(User!B1888,LEN(I1888)))","v":""},{"$f":"ABS(RIGHT(User!B1888,(LEN(User!B1888)-LEN(I1888))))","v":{"$error":"#VALUE!"}}]
[{"$f":"LOWER(LEFT(User!B1889,LEN(I1889)))","v":""},{"$f":"ABS(RIGHT(User!B1889,(LEN(User!B1889)-LEN(I1889))))","v":{"$error":"#VALUE!"}}]
[{"$f":"LOWER(LEFT(User!B1890,LEN(I1890)))","v":""},{"$f":"ABS(RIGHT(User!B1890,(LEN(User!B1890)-LEN(I1890))))","v":{"$error":"#VALUE!"}}]
[{"$f":"LOWER(LEFT(User!B1891,LEN(I1891)))","v":""},{"$f":"ABS(RIGHT(User!B1891,(LEN(User!B1891)-LEN(I1891))))","v":{"$error":"#VALUE!"}}]
[{"$f":"LOWER(LEFT(User!B1892,LEN(I1892)))","v":""},{"$f":"ABS(RIGHT(User!B1892,(LEN(User!B1892)-LEN(I1892))))","v":{"$error":"#VALUE!"}}]
[{"$f":"LOWER(LEFT(User!B1893,LEN(I1893)))","v":""},{"$f":"ABS(RIGHT(User!B1893,(LEN(User!B1893)-LEN(I1893))))","v":{"$error":"#VALUE!"}}]
[{"$f":"LOWER(LEFT(User!B1894,LEN(I1894)))","v":""},{"$f":"ABS(RIGHT(User!B1894,(LEN(User!B1894)-LEN(I1894))))","v":{"$error":"#VALUE!"}}]
[{"$f":"LOWER(LEFT(User!B1895,LEN(I1895)))","v":""},{"$f":"ABS(RIGHT(User!B1895,(LEN(User!B1895)-LEN(I1895))))","v":{"$error":"#VALUE!"}}]
[{"$f":"LOWER(LEFT(User!B1896,LEN(I1896)))","v":""},{"$f":"ABS(RIGHT(User!B1896,(LEN(User!B1896)-LEN(I1896))))","v":{"$error":"#VALUE!"}}]
[{"$f":"LOWER(LEFT(User!B1897,LEN(I1897)))","v":""},{"$f":"ABS(RIGHT(User!B1897,(LEN(User!B1897)-LEN(I1897))))","v":{"$error":"#VALUE!"}}]
[{"$f":"LOWER(LEFT(User!B1898,LEN(I1898)))","v":""},{"$f":"ABS(RIGHT(User!B1898,(LEN(User!B1898)-LEN(I1898))))","v":{"$error":"#VALUE!"}}]
[{"$f":"LOWER(LEFT(User!B1899,LEN(I1899)))","v":""},{"$f":"ABS(RIGHT(User!B1899,(LEN(User!B1899)-LEN(I1899))))","v":{"$error":"#VALUE!"}}]
[{"$f":"LOWER(LEFT(User!B1900,LEN(I1900)))","v":""},{"$f":"ABS(RIGHT(User!B1900,(LEN(User!B1900)-LEN(I1900))))","v":{"$error":"#VALUE!"}}]
[{"$f":"LOWER(LEFT(User!B1901,LEN(I1901)))","v":""},{"$f":"ABS(RIGHT(User!B1901,(LEN(User!B1901)-LEN(I1901))))","v":{"$error":"#VALUE!"}}]
[{"$f":"LOWER(LEFT(User!B1902,LEN(I1902)))","v":""},{"$f":"ABS(RIGHT(User!B1902,(LEN(User!B1902)-LEN(I1902))))","v":{"$error":"#VALUE!"}}]
[{"$f":"LOWER(LEFT(User!B1903,LEN(I1903)))","v":""},{"$f":"ABS(RIGHT(User!B1903,(LEN(User!B1903)-LEN(I1903))))","v":{"$error":"#VALUE!"}}]
[{"$f":"LOWER(LEFT(User!B1904,LEN(I1904)))","v":""},{"$f":"ABS(RIGHT(User!B1904,(LEN(User!B1904)-LEN(I1904))))","v":{"$error":"#VALUE!"}}]
[{"$f":"LOWER(LEFT(User!B1905,LEN(I1905)))","v":""},{"$f":"ABS(RIGHT(User!B1905,(LEN(User!B1905)-LEN(I1905))))","v":{"$error":"#VALUE!"}}]
[{"$f":"LOWER(LEFT(User!B1906,LEN(I1906)))","v":""},{"$f":"ABS(RIGHT(User!B1906,(LEN(User!B1906)-LEN(I1906))))","v":{"$error":"#VALUE!"}}]
[{"$f":"LOWER(LEFT(User!B1907,LEN(I1907)))","v":""},{"$f":"ABS(RIGHT(User!B1907,(LEN(User!B1907)-LEN(I1907))))","v":{"$error":"#VALUE!"}}]
[{"$f":"LOWER(LEFT(User!B1908,LEN(I1908)))","v":""},{"$f":"ABS(RIGHT(User!B1908,(LEN(User!B1908)-LEN(I1908))))","v":{"$error":"#VALUE!"}}]
[{"$f":"LOWER(LEFT(User!B1909,LEN(I1909)))","v":""},{"$f":"ABS(RIGHT(User!B1909,(LEN(User!B1909)-LEN(I1909))))","v":{"$error":"#VALUE!"}}]
[{"$f":"LOWER(LEFT(User!B1910,LEN(I1910)))","v":""},{"$f":"ABS(RIGHT(User!B1910,(LEN(User!B1910)-LEN(I1910))))","v":{"$error":"#VALUE!"}}]
[{"$f":"LOWER(LEFT(User!B1911,LEN(I1911)))","v":""},{"$f":"ABS(RIGHT(User!B1911,(LEN(User!B1911)-LEN(I1911))))","v":{"$error":"#VALUE!"}}]
[{"$f":"LOWER(LEFT(User!B1912,LEN(I1912)))","v":""},{"$f":"ABS(RIGHT(User!B1912,(LEN(User!B1912)-LEN(I1912))))","v":{"$error":"#VALUE!"}}]
[{"$f":"LOWER(LEFT(User!B1913,LEN(I1913)))","v":""},{"$f":"ABS(RIGHT(User!B1913,(LEN(User!B1913)-LEN(I1913))))","v":{"$error":"#VALUE!"}}]
[{"$f":"LOWER(LEFT(User!B1914,LEN(I1914)))","v":""},{"$f":"ABS(RIGHT(User!B1914,(LEN(User!B1914)-LEN(I1914))))","v":{"$error":"#VALUE!"}}]
[{"$f":"LOWER(LEFT(User!B1915,LEN(I1915)))","v":""},{"$f":"ABS(RIGHT(User!B1915,(LEN(User!B1915)-LEN(I1915))))","v":{"$error":"#VALUE!"}}]
[{"$f":"LOWER(LEFT(User!B1916,LEN(I1916)))","v":""},{"$f":"ABS(RIGHT(User!B1916,(LEN(User!B1916)-LEN(I1916))))","v":{"$error":"#VALUE!"}}]
[{"$f":"LOWER(LEFT(User!B1917,LEN(I1917)))","v":""},{"$f":"ABS(RIGHT(User!B1917,(LEN(User!B1917)-LEN(I1917))))","v":{"$error":"#VALUE!"}}]
[{"$f":"LOWER(LEFT(User!B1918,LEN(I1918)))","v":""},{"$f":"ABS(RIGHT(User!B1918,(LEN(User!B1918)-LEN(I1918))))","v":{"$error":"#VALUE!"}}]
[{"$f":"LOWER(LEFT(User!B1919,LEN(I1919)))","v":""},{"$f":"ABS(RIGHT(User!B1919,(LEN(User!B1919)-LEN(I1919))))","v":{"$error":"#VALUE!"}}]
[{"$f":"LOWER(LEFT(User!B1920,LEN(I1920)))","v":""},{"$f":"ABS(RIGHT(User!B1920,(LEN(User!B1920)-LEN(I1920))))","v":{"$error":"#VALUE!"}}]
[{"$f":"LOWER(LEFT(User!B1921,LEN(I1921)))","v":""},{"$f":"ABS(RIGHT(User!B1921,(LEN(User!B1921)-LEN(I1921))))","v":{"$error":"#VALUE!"}}]
[{"$f":"LOWER(LEFT(User!B1922,LEN(I1922)))","v":""},{"$f":"ABS(RIGHT(User!B1922,(LEN(User!B1922)-LEN(I1922))))","v":{"$error":"#VALUE!"}}]
[{"$f":"LOWER(LEFT(User!B1923,LEN(I1923)))","v":""},{"$f":"ABS(RIGHT(User!B1923,(LEN(User!B1923)-LEN(I1923))))","v":{"$error":"#VALUE!"}}]
[{"$f":"LOWER(LEFT(User!B1924,LEN(I1924)))","v":""},{"$f":"ABS(RIGHT(User!B1924,(LEN(User!B1924)-LEN(I1924))))","v":{"$error":"#VALUE!"}}]
[{"$f":"LOWER(LEFT(User!B1925,LEN(I1925)))","v":""},{"$f":"ABS(RIGHT(User!B1925,(LEN(User!B1925)-LEN(I1925))))","v":{"$error":"#VALUE!"}}]
[{"$f":"LOWER(LEFT(User!B1926,LEN(I1926)))","v":""},{"$f":"ABS(RIGHT(User!B1926,(LEN(User!B1926)-LEN(I1926))))","v":{"$error":"#VALUE!"}}]
[{"$f":"LOWER(LEFT(User!B1927,LEN(I1927)))","v":""},{"$f":"ABS(RIGHT(User!B1927,(LEN(User!B1927)-LEN(I1927))))","v":{"$error":"#VALUE!"}}]
[{"$f":"LOWER(LEFT(User!B1928,LEN(I1928)))","v":""},{"$f":"ABS(RIGHT(User!B1928,(LEN(User!B1928)-LEN(I1928))))","v":{"$error":"#VALUE!"}}]
[{"$f":"LOWER(LEFT(User!B1929,LEN(I1929)))","v":""},{"$f":"ABS(RIGHT(User!B1929,(LEN(User!B1929)-LEN(I1929))))","v":{"$error":"#VALUE!"}}]
[{"$f":"LOWER(LEFT(User!B1930,LEN(I1930)))","v":""},{"$f":"ABS(RIGHT(User!B1930,(LEN(User!B1930)-LEN(I1930))))","v":{"$error":"#VALUE!"}}]
[{"$f":"LOWER(LEFT(User!B1931,LEN(I1931)))","v":""},{"$f":"ABS(RIGHT(User!B1931,(LEN(User!B1931)-LEN(I1931))))","v":{"$error":"#VALUE!"}}]
[{"$f":"LOWER(LEFT(User!B1932,LEN(I1932)))","v":""},{"$f":"ABS(RIGHT(User!B1932,(LEN(User!B1932)-LEN(I1932))))","v":{"$error":"#VALUE!"}}]
[{"$f":"LOWER(LEFT(User!B1933,LEN(I1933)))","v":""},{"$f":"ABS(RIGHT(User!B1933,(LEN(User!B1933)-LEN(I1933))))","v":{"$error":"#VALUE!"}}]
[{"$f":"LOWER(LEFT(User!B1934,LEN(I1934)))","v":""},{"$f":"ABS(RIGHT(User!B1934,(LEN(User!B1934)-LEN(I1934))))","v":{"$error":"#VALUE!"}}]
[{"$f":"LOWER(LEFT(User!B1935,LEN(I1935)))","v":""},{"$f":"ABS(RIGHT(User!B1935,(LEN(User!B1935)-LEN(I1935))))","v":{"$error":"#VALUE!"}}]
[{"$f":"LOWER(LEFT(User!B1936,LEN(I1936)))","v":""},{"$f":"ABS(RIGHT(User!B1936,(LEN(User!B1936)-LEN(I1936))))","v":{"$error":"#VALUE!"}}]
[{"$f":"LOWER(LEFT(User!B1937,LEN(I1937)))","v":""},{"$f":"ABS(RIGHT(User!B1937,(LEN(User!B1937)-LEN(I1937))))","v":{"$error":"#VALUE!"}}]
[{"$f":"LOWER(LEFT(User!B1938,LEN(I1938)))","v":""},{"$f":"ABS(RIGHT(User!B1938,(LEN(User!B1938)-LEN(I1938))))","v":{"$error":"#VALUE!"}}]
[{"$f":"LOWER(LEFT(User!B1939,LEN(I1939)))","v":""},{"$f":"ABS(RIGHT(User!B1939,(LEN(User!B1939)-LEN(I1939))))","v":{"$error":"#VALUE!"}}]
[{"$f":"LOWER(LEFT(User!B1940,LEN(I1940)))","v":""},{"$f":"ABS(RIGHT(User!B1940,(LEN(User!B1940)-LEN(I1940))))","v":{"$error":"#VALUE!"}}]
[{"$f":"LOWER(LEFT(User!B1941,LEN(I1941)))","v":""},{"$f":"ABS(RIGHT(User!B1941,(LEN(User!B1941)-LEN(I1941))))","v":{"$error":"#VALUE!"}}]
[{"$f":"LOWER(LEFT(User!B1942,LEN(I1942)))","v":""},{"$f":"ABS(RIGHT(User!B1942,(LEN(User!B1942)-LEN(I1942))))","v":{"$error":"#VALUE!"}}]
[{"$f":"LOWER(LEFT(User!B1943,LEN(I1943)))","v":""},{"$f":"ABS(RIGHT(User!B1943,(LEN(User!B1943)-LEN(I1943))))","v":{"$error":"#VALUE!"}}]
[{"$f":"LOWER(LEFT(User!B1944,LEN(I1944)))","v":""},{"$f":"ABS(RIGHT(User!B1944,(LEN(User!B1944)-LEN(I1944))))","v":{"$error":"#VALUE!"}}]
[{"$f":"LOWER(LEFT(User!B1945,LEN(I1945)))","v":""},{"$f":"ABS(RIGHT(User!B1945,(LEN(User!B1945)-LEN(I1945))))","v":{"$error":"#VALUE!"}}]
[{"$f":"LOWER(LEFT(User!B1946,LEN(I1946)))","v":""},{"$f":"ABS(RIGHT(User!B1946,(LEN(User!B1946)-LEN(I1946))))","v":{"$error":"#VALUE!"}}]
[{"$f":"LOWER(LEFT(User!B1947,LEN(I1947)))","v":""},{"$f":"ABS(RIGHT(User!B1947,(LEN(User!B1947)-LEN(I1947))))","v":{"$error":"#VALUE!"}}]
[{"$f":"LOWER(LEFT(User!B1948,LEN(I1948)))","v":""},{"$f":"ABS(RIGHT(User!B1948,(LEN(User!B1948)-LEN(I1948))))","v":{"$error":"#VALUE!"}}]
[{"$f":"LOWER(LEFT(User!B1949,LEN(I1949)))","v":""},{"$f":"ABS(RIGHT(User!B1949,(LEN(User!B1949)-LEN(I1949))))","v":{"$error":"#VALUE!"}}]
[{"$f":"LOWER(LEFT(User!B1950,LEN(I1950)))","v":""},{"$f":"ABS(RIGHT(User!B1950,(LEN(User!B1950)-LEN(I1950))))","v":{"$error":"#VALUE!"}}]
[{"$f":"LOWER(LEFT(User!B1951,LEN(I1951)))","v":""},{"$f":"ABS(RIGHT(User!B1951,(LEN(User!B1951)-LEN(I1951))))","v":{"$error":"#VALUE!"}}]
[{"$f":"LOWER(LEFT(User!B1952,LEN(I1952)))","v":""},{"$f":"ABS(RIGHT(User!B1952,(LEN(User!B1952)-LEN(I1952))))","v":{"$error":"#VALUE!"}}]
[{"$f":"LOWER(LEFT(User!B1953,LEN(I1953)))","v":""},{"$f":"ABS(RIGHT(User!B1953,(LEN(User!B1953)-LEN(I1953))))","v":{"$error":"#VALUE!"}}]
[{"$f":"LOWER(LEFT(User!B1954,LEN(I1954)))","v":""},{"$f":"ABS(RIGHT(User!B1954,(LEN(User!B1954)-LEN(I1954))))","v":{"$error":"#VALUE!"}}]
[{"$f":"LOWER(LEFT(User!B1955,LEN(I1955)))","v":""},{"$f":"ABS(RIGHT(User!B1955,(LEN(User!B1955)-LEN(I1955))))","v":{"$error":"#VALUE!"}}]
[{"$f":"LOWER(LEFT(User!B1956,LEN(I1956)))","v":""},{"$f":"ABS(RIGHT(User!B1956,(LEN(User!B1956)-LEN(I1956))))","v":{"$error":"#VALUE!"}}]
[{"$f":"LOWER(LEFT(User!B1957,LEN(I1957)))","v":""},{"$f":"ABS(RIGHT(User!B1957,(LEN(User!B1957)-LEN(I1957))))","v":{"$error":"#VALUE!"}}]
[{"$f":"LOWER(LEFT(User!B1958,LEN(I1958)))","v":""},{"$f":"ABS(RIGHT(User!B1958,(LEN(User!B1958)-LEN(I1958))))","v":{"$error":"#VALUE!"}}]
[{"$f":"LOWER(LEFT(User!B1959,LEN(I1959)))","v":""},{"$f":"ABS(RIGHT(User!B1959,(LEN(User!B1959)-LEN(I1959))))","v":{"$error":"#VALUE!"}}]
[{"$f":"LOWER(LEFT(User!B1960,LEN(I1960)))","v":""},{"$f":"ABS(RIGHT(User!B1960,(LEN(User!B1960)-LEN(I1960))))","v":{"$error":"#VALUE!"}}]
[{"$f":"LOWER(LEFT(User!B1961,LEN(I1961)))","v":""},{"$f":"ABS(RIGHT(User!B1961,(LEN(User!B1961)-LEN(I1961))))","v":{"$error":"#VALUE!"}}]
[{"$f":"LOWER(LEFT(User!B1962,LEN(I1962)))","v":""},{"$f":"ABS(RIGHT(User!B1962,(LEN(User!B1962)-LEN(I1962))))","v":{"$error":"#VALUE!"}}]
[{"$f":"LOWER(LEFT(User!B1963,LEN(I1963)))","v":""},{"$f":"ABS(RIGHT(User!B1963,(LEN(User!B1963)-LEN(I1963))))","v":{"$error":"#VALUE!"}}]
[{"$f":"LOWER(LEFT(User!B1964,LEN(I1964)))","v":""},{"$f":"ABS(RIGHT(User!B1964,(LEN(User!B1964)-LEN(I1964))))","v":{"$error":"#VALUE!"}}]
[{"$f":"LOWER(LEFT(User!B1965,LEN(I1965)))","v":""},{"$f":"ABS(RIGHT(User!B1965,(LEN(User!B1965)-LEN(I1965))))","v":{"$error":"#VALUE!"}}]
[{"$f":"LOWER(LEFT(User!B1966,LEN(I1966)))","v":""},{"$f":"ABS(RIGHT(User!B1966,(LEN(User!B1966)-LEN(I1966))))","v":{"$error":"#VALUE!"}}]
[{"$f":"LOWER(LEFT(User!B1967,LEN(I1967)))","v":""},{"$f":"ABS(RIGHT(User!B1967,(LEN(User!B1967)-LEN(I1967))))","v":{"$error":"#VALUE!"}}]
[{"$f":"LOWER(LEFT(User!B1968,LEN(I1968)))","v":""},{"$f":"ABS(RIGHT(User!B1968,(LEN(User!B1968)-LEN(I1968))))","v":{"$error":"#VALUE!"}}]
[{"$f":"LOWER(LEFT(User!B1969,LEN(I1969)))","v":""},{"$f":"ABS(RIGHT(User!B1969,(LEN(User!B1969)-LEN(I1969))))","v":{"$error":"#VALUE!"}}]
[{"$f":"LOWER(LEFT(User!B1970,LEN(I1970)))","v":""},{"$f":"ABS(RIGHT(User!B1970,(LEN(User!B1970)-LEN(I1970))))","v":{"$error":"#VALUE!"}}]
[{"$f":"LOWER(LEFT(User!B1971,LEN(I1971)))","v":""},{"$f":"ABS(RIGHT(User!B1971,(LEN(User!B1971)-LEN(I1971))))","v":{"$error":"#VALUE!"}}]
[{"$f":"LOWER(LEFT(User!B1972,LEN(I1972)))","v":""},{"$f":"ABS(RIGHT(User!B1972,(LEN(User!B1972)-LEN(I1972))))","v":{"$error":"#VALUE!"}}]
[{"$f":"LOWER(LEFT(User!B1973,LEN(I1973)))","v":""},{"$f":"ABS(RIGHT(User!B1973,(LEN(User!B1973)-LEN(I1973))))","v":{"$error":"#VALUE!"}}]
[{"$f":"LOWER(LEFT(User!B1974,LEN(I1974)))","v":""},{"$f":"ABS(RIGHT(User!B1974,(LEN(User!B1974)-LEN(I1974))))","v":{"$error":"#VALUE!"}}]
[{"$f":"LOWER(LEFT(User!B1975,LEN(I1975)))","v":""},{"$f":"ABS(RIGHT(User!B1975,(LEN(User!B1975)-LEN(I1975))))","v":{"$error":"#VALUE!"}}]
[{"$f":"LOWER(LEFT(User!B1976,LEN(I1976)))","v":""},{"$f":"ABS(RIGHT(User!B1976,(LEN(User!B1976)-LEN(I1976))))","v":{"$error":"#VALUE!"}}]
[{"$f":"LOWER(LEFT(User!B1977,LEN(I1977)))","v":""},{"$f":"ABS(RIGHT(User!B1977,(LEN(User!B1977)-LEN(I1977))))","v":{"$error":"#VALUE!"}}]
[{"$f":"LOWER(LEFT(User!B1978,LEN(I1978)))","v":""},{"$f":"ABS(RIGHT(User!B1978,(LEN(User!B1978)-LEN(I1978))))","v":{"$error":"#VALUE!"}}]
[{"$f":"LOWER(LEFT(User!B1979,LEN(I1979)))","v":""},{"$f":"ABS(RIGHT(User!B1979,(LEN(User!B1979)-LEN(I1979))))","v":{"$error":"#VALUE!"}}]
[{"$f":"LOWER(LEFT(User!B1980,LEN(I1980)))","v":""},{"$f":"ABS(RIGHT(User!B1980,(LEN(User!B1980)-LEN(I1980))))","v":{"$error":"#VALUE!"}}]
[{"$f":"LOWER(LEFT(User!B1981,LEN(I1981)))","v":""},{"$f":"ABS(RIGHT(User!B1981,(LEN(User!B1981)-LEN(I1981))))","v":{"$error":"#VALUE!"}}]
[{"$f":"LOWER(LEFT(User!B1982,LEN(I1982)))","v":""},{"$f":"ABS(RIGHT(User!B1982,(LEN(User!B1982)-LEN(I1982))))","v":{"$error":"#VALUE!"}}]
[{"$f":"LOWER(LEFT(User!B1983,LEN(I1983)))","v":""},{"$f":"ABS(RIGHT(User!B1983,(LEN(User!B1983)-LEN(I1983))))","v":{"$error":"#VALUE!"}}]
[{"$f":"LOWER(LEFT(User!B1984,LEN(I1984)))","v":""},{"$f":"ABS(RIGHT(User!B1984,(LEN(User!B1984)-LEN(I1984))))","v":{"$error":"#VALUE!"}}]
[{"$f":"LOWER(LEFT(User!B1985,LEN(I1985)))","v":""},{"$f":"ABS(RIGHT(User!B1985,(LEN(User!B1985)-LEN(I1985))))","v":{"$error":"#VALUE!"}}]
[{"$f":"LOWER(LEFT(User!B1986,LEN(I1986)))","v":""},{"$f":"ABS(RIGHT(User!B1986,(LEN(User!B1986)-LEN(I1986))))","v":{"$error":"#VALUE!"}}]
[{"$f":"LOWER(LEFT(User!B1987,LEN(I1987)))","v":""},{"$f":"ABS(RIGHT(User!B1987,(LEN(User!B1987)-LEN(I1987))))","v":{"$error":"#VALUE!"}}]
[{"$f":"LOWER(LEFT(User!B1988,LEN(I1988)))","v":""},{"$f":"ABS(RIGHT(User!B1988,(LEN(User!B1988)-LEN(I1988))))","v":{"$error":"#VALUE!"}}]
[{"$f":"LOWER(LEFT(User!B1989,LEN(I1989)))","v":""},{"$f":"ABS(RIGHT(User!B1989,(LEN(User!B1989)-LEN(I1989))))","v":{"$error":"#VALUE!"}}]
[{"$f":"LOWER(LEFT(User!B1990,LEN(I1990)))","v":""},{"$f":"ABS(RIGHT(User!B1990,(LEN(User!B1990)-LEN(I1990))))","v":{"$error":"#VALUE!"}}]
[{"$f":"LOWER(LEFT(User!B1991,LEN(I1991)))","v":""},{"$f":"ABS(RIGHT(User!B1991,(LEN(User!B1991)-LEN(I1991))))","v":{"$error":"#VALUE!"}}]
[{"$f":"LOWER(LEFT(User!B1992,LEN(I1992)))","v":""},{"$f":"ABS(RIGHT(User!B1992,(LEN(User!B1992)-LEN(I1992))))","v":{"$error":"#VALUE!"}}]
[{"$f":"LOWER(LEFT(User!B1993,LEN(I1993)))","v":""},{"$f":"ABS(RIGHT(User!B1993,(LEN(User!B1993)-LEN(I1993))))","v":{"$error":"#VALUE!"}}]
[{"$f":"LOWER(LEFT(User!B1994,LEN(I1994)))","v":""},{"$f":"ABS(RIGHT(User!B1994,(LEN(User!B1994)-LEN(I1994))))","v":{"$error":"#VALUE!"}}]
[{"$f":"LOWER(LEFT(User!B1995,LEN(I1995)))","v":""},{"$f":"ABS(RIGHT(User!B1995,(LEN(User!B1995)-LEN(I1995))))","v":{"$error":"#VALUE!"}}]
[{"$f":"LOWER(LEFT(User!B1996,LEN(I1996)))","v":""},{"$f":"ABS(RIGHT(User!B1996,(LEN(User!B1996)-LEN(I1996))))","v":{"$error":"#VALUE!"}}]
[{"$f":"LOWER(LEFT(User!B1997,LEN(I1997)))","v":""},{"$f":"ABS(RIGHT(User!B1997,(LEN(User!B1997)-LEN(I1997))))","v":{"$error":"#VALUE!"}}]
[{"$f":"LOWER(LEFT(User!B1998,LEN(I1998)))","v":""},{"$f":"ABS(RIGHT(User!B1998,(LEN(User!B1998)-LEN(I1998))))","v":{"$error":"#VALUE!"}}]
[{"$f":"LOWER(LEFT(User!B1999,LEN(I1999)))","v":""},{"$f":"ABS(RIGHT(User!B1999,(LEN(User!B1999)-LEN(I1999))))","v":{"$error":"#VALUE!"}}]
[{"$f":"LOWER(LEFT(User!B2000,LEN(I2000)))","v":""},{"$f":"ABS(RIGHT(User!B2000,(LEN(User!B2000)-LEN(I2000))))","v":{"$error":"#VALUE!"}}]
[{"$f":"LOWER(LEFT(User!B2001,LEN(I2001)))","v":""},{"$f":"ABS(RIGHT(User!B2001,(LEN(User!B2001)-LEN(I2001))))","v":{"$error":"#VALUE!"}}]

{"sheet":"User","index":4,"n_rows":1,"n_cols":7,"rows_kept":1,"cut":false,"hidden":false,"merged":[]}
["Identifier","Study_ID",null,null,null,"Run","Reset"]